{"text_format":"1","workbook":"xlsx","n_sheets":71,"sheets":["2way mixed","תפריט ראשי דו כיווני ","oneway  (reap)","תפריט ראשי כולל תיאורית (2)","תפריט ראשי חד כיווני","oneway  (2)","oneway ","q new","טבלת F","טבלת חי בריבוע","טבלת t ","ההתפלגות הנורמלית ","תפריט ראשי טבלאות ","תפריט ראשי כולל  (3)","תפריט ראשי נקי","תפריט ראשי כולל תיאורית","תפריט ראשי מתאמים","תפריט ראשי מדגם ואוכלוסייה","תפריט ראשי שני מדגמים","תפריט ראשי חי בריבוע ","סטטיסיקה תאורית  מסטר","סטטיסיקה תאורית  מסטר (1)","צורת התפלגות של משתנה רציף","צורת התפלגות של משתנה רציף (1)","התפלגות של משתנה קטגוריילי ","התפלגות של משתנה קטגוריילי  1","freq  מסטר","freq  מסטר 1","freq GRP  מסטר ","freq GRP  מסטר  (1)","corr פירסון ","corr פירסון  (1)","טבלת מתאמים מסטר","טבלת מתאמים מסטר (1)","corr ספירמן ","corr ספירמן  (1)","Z אוכלוסייה ומדגם  ","Z אוכלוסייה ומדגם  (1)","t אוכלוסייה ומדגם ","t אוכלוסייה ומדגם  (1)","מבחן t תלוי  מסטר ","מבחן t תלוי  מסטר  (1)","מבחן t בלתי תלוי מסטר  all  ","מבחן t בלתי תלוי מסטר  all  1","q","מבחן t בלתי תלוי   מסטר","מבחן t בלתי תלוי   מסטר (1)","chi 2  X2","chi 2  X2 (1)","chi 2  X3","chi 2  X3 (2)","chi 2 x 4  ","chi 2 x 4   (1)","chi 2 x 5 ","Sheet13","chi 2 x 5  (1)","chi 3  X3 ","chi 3  X3  (2)","chi 3  X4 ","chi 3  X4  (2)","chi 3  X5 ","chi 3  X5  (2)","2way indep","2way rep ","REG","Sheet14","Sheet15","Sheet16","chiall","pivot","Sheet2"],"not_rendered":{"charts":58,"images":38,"macros":1,"external_links":0,"defined_names":84,"comments":2,"pivot_tables":0},"unopened":[],"bounds":{"document_bytes":16777216,"sheet_cells":100000,"rows_first":2000,"rows_last":500,"rows_between":2000,"halvings":0,"cell_chars":16384,"cell_head_chars":4096},"cells_cut":0,"cells_raw":0,"read":"whole","date_system":"1900"}

{"sheet":"2way mixed","index":0,"n_rows":75,"n_cols":37,"rows_kept":75,"cut":false,"hidden":false,"merged":[[4,10,4,11],[10,0,10,5],[10,7,10,12],[10,14,10,19],[52,26,52,27],[52,28,52,30],[29,21,29,24],[30,35,30,36],[33,35,33,36]]}
[" ניתוח שונות דו/רב מעורב  שילוב משתנה בלתי תלוי ומשתנה תלוי    two way  mixed model   "]
[null,null,null,null,null,null,null,null,null,null,null,null,"מס קטגוריות",null,null,null,null,null,null,null,null,null,null,"סטטיסטיקה תיאורית "]
["הוראות",null,null,null,null,null,null,null,null,null,"שם גורם 1 ",null,{"$f":"IF(COUNT(B13,I13,P13)>0,COUNT(B13,I13,P13),\"\")","v":""},null,null,null,null,null,null,null,null,null,null,"ממוצעים"]
["הכנס  שמות לקבוצות     ",null,null,null,null,null,null,null,null,null,"שם גורם 2",null,{"$f":"IF(COUNT(B13:F13)>0,COUNT(B13:F13),\"\")","v":""},null,null,null,null,null,null,null,null,null,null,null,{"$f":"B12","v":"חזרה 1"},{"$f":"C12","v":"חזרה 2"},"חזרה 3","חזרה 4","חזרה 5","סה\"כ"]
["הכנס את הנתונים של הנבדקים בכל אחת מהקבוצות",null,null,null,null,null,null,null,null,null,"מס נבדקים בכל קבוצה n",null,{"$f":"IF(COUNT(B13:F13)>0,COUNT(B13:B63),\"\")","v":""},null,null,null,null,null,null,null,null,null,null,{"$f":"A11","v":"קבוצה 1"},{"$f":"IF(COUNT(B13:B27)>0,AVERAGE(B13:B63),\"\")","v":""},{"$f":"IF(COUNT(C13:C27)>0,AVERAGE(C13:C63),\"\")","v":""},{"$f":"IF(COUNT(D13:D27)>0,AVERAGE(D13:D63),NA())","v":{"$error":"#N/A"}},{"$f":"IF(COUNT(E13:E27)>0,AVERAGE(E13:E63),NA())","v":{"$error":"#N/A"}},{"$f":"IF(COUNT(F13:F27)>0,AVERAGE(F13:F63),NA())","v":{"$error":"#N/A"}},{"$f":"IF(COUNT(Y5:AC5)>0,AVERAGE(B13:F63),\"\")","v":""}]
["תוצאות  המבחן הסטטיסטי יופיעו באופן אוטומטי . בדוק את התוצאות  ותן פשרנות בהתאם ",null,null,null,null,null,null,null,null,null,null,null,null,null,null,null,null,null,null,null,null,null,null,{"$f":"H11","v":"קבוצה 2"},{"$f":"IF(COUNT(I13:I27)>0,AVERAGE(I13:I63),\"\")","v":""},{"$f":"IF(COUNT(J13:J27)>0,AVERAGE(J13:J63),\"\")","v":""},{"$f":"IF(COUNT(K13:K27)>0,AVERAGE(K13:K63),NA())","v":{"$error":"#N/A"}},{"$f":"IF(COUNT(L13:L27)>0,AVERAGE(L13:L63),NA())","v":{"$error":"#N/A"}},{"$f":"IF(COUNT(M13:M27)>0,AVERAGE(M13:M63),NA())","v":{"$error":"#N/A"}},{"$f":"IF(COUNT(Y6:AC6)>0,AVERAGE(I13:M63),\"\")","v":""}]
["להדפסת התוצאות לחץ על הדפסה ",null,null,null,null,null,null,null,null,null,null,null,null,null,null,null,null,null,null,null,null,null,null,{"$f":"O11","v":"קבוצה 3"},{"$f":"IF(COUNT(P13:P27)>0,AVERAGE(P13:P63),\"\")","v":""},{"$f":"IF(COUNT(Q13:Q27)>0,AVERAGE(Q13:Q63),\"\")","v":""},{"$f":"IF(COUNT(R13:R27)>0,AVERAGE(R13:R63),NA())","v":{"$error":"#N/A"}},{"$f":"IF(COUNT(S13:S27)>0,AVERAGE(S13:S63),NA())","v":{"$error":"#N/A"}},{"$f":"IF(COUNT(T13:T27)>0,AVERAGE(T13:T63),NA())","v":{"$error":"#N/A"}},{"$f":"IF(COUNT(Y7:AC7)>0,AVERAGE(P13:T63),\"\")","v":""}]
["לעיבוד נוסף לחץ על נקה ",null,null,null,null,null,null,null,null,null,null,null,null,null,null,null,null,null,null,null,null,null,null,"סה\"כ",{"$f":"IF(COUNT(Y5:Y7)>0,AVERAGE(B12:B63,I13:I63,P13:P63),\"\")","v":""},{"$f":"IF(COUNT(Z5:Z7)>0,AVERAGE(C12:C63,J13:J63,Q13:Q63),\"\")","v":""},{"$f":"IF(SUM(AA5:AA7)>0,AVERAGE(D12:D63,K13:K63,R13:R63),)","v":{"$error":"#N/A"}},{"$f":"IF(SUM(AB5:AB7)>0,AVERAGE(E12:E63,L13:L63,S13:S63),)","v":{"$error":"#N/A"}},{"$f":"IF(SUM(AC5:AC7)>0,AVERAGE(F12:F63,M13:M63,T13:T63),)","v":{"$error":"#N/A"}},{"$f":"IF(COUNT(Y8:AC8)>0,AVERAGE(B13:F63,I13:M63,P13:T63),\"\")","v":""}]
[]
[]
["קבוצה 1",null,null,null,null,null,null,"קבוצה 2",null,null,null,null,null,null,"קבוצה 3",null,null,null,null,null,null,null,null,"סכומים ",{"$f":"Y4","v":"חזרה 1"},{"$f":"Z4","v":"חזרה 2"},"חזרה 3","חזרה 4","חזרה 5","סה\"כ"]
["מס' נבדק ","חזרה 1","חזרה 2","חזרה 3","חזרה 4","חזרה 5",null,"מס' נבדק ",{"$f":"B12","v":"חזרה 1"},{"$f":"C12","v":"חזרה 2"},"חזרה 3","חזרה 4","חזרה 5",null,"מס' נבדק ",{"$f":"B12","v":"חזרה 1"},{"$f":"C12","v":"חזרה 2"},"חזרה 3","חזרה 4","חזרה 5","עיקביות",null,null,{"$f":"X5","v":"קבוצה 1"},{"$f":"IF(COUNT(B13:B27)>0,SUM(B13:B63),\"\")","v":""},{"$f":"IF(COUNT(C13:C27)>0,SUM(C13:C63),\"\")","v":""},"","","",{"$f":"IF(COUNT(Y5:AC5)>0,SUM(B13:F63),\"\")","v":""}]
[1,null,null,null,null,null,null,1,null,null,null,null,null,null,1,null,null,null,null,null,{"$f":"IF(SUM(B13:F13,I13:M13,P13:T13)>0,SUM(B13:F13)^2+SUM(I13:M13)^2+SUM(P13:T13)^2,\"\")","v":""},null,null,{"$f":"X6","v":"קבוצה 2"},{"$f":"IF(COUNT(I13:I27)>0,SUM(I13:I63),\"\")","v":""},{"$f":"IF(COUNT(J13:J27)>0,SUM(J13:J63),\"\")","v":""},"","","",{"$f":"IF(COUNT(Y6:AC6)>0,SUM(I13:M63),\"\")","v":""}]
[2,null,null,null,null,null,null,2,null,null,null,null,null,null,2,null,null,null,null,null,{"$f":"IF(SUM(B14:F14,I14:M14,P14:T14)>0,SUM(B14:F14)^2+SUM(I14:M14)^2+SUM(P14:T14)^2,\"\")","v":""},null,null,{"$f":"X7","v":"קבוצה 3"},{"$f":"IF(COUNT(P13:P27)>0,SUM(P13:P63),\"\")","v":""},{"$f":"IF(COUNT(Q13:Q27)>0,SUM(Q13:Q63),\"\")","v":""},"","","",{"$f":"IF(COUNT(Y7:AC7)>0,SUM(P13:T63),\"\")","v":""}]
[3,null,null,null,null,null,null,3,null,null,null,null,null,null,3,null,null,null,null,null,"",null,null,"סה\"כ",{"$f":"IF(COUNT(Y5:Y7)>0,SUM(B12:B63,I13:I63,P13:P63),\"\")","v":""},{"$f":"IF(COUNT(Z5:Z7)>0,SUM(C12:C63,J13:J63,Q13:Q63),\"\")","v":""},{"$f":"IF(COUNT(AA5:AA7)>0,SUM(D12:D63,K13:K63,R13:R63),\"\")","v":""},{"$f":"IF(COUNT(AB5:AB7)>0,SUM(E12:E63,L13:L63,S13:S63),\"\")","v":""},{"$f":"IF(COUNT(AC5:AC7)>0,SUM(F12:F63,M13:M63,T13:T63),\"\")","v":""},{"$f":"IF(COUNT(Y8:AC8)>0,SUM(B13:F63,I13:M63,P13:T63),\"\")","v":""}]
[4,null,null,null,null,null,null,4,null,null,null,null,null,null,4,null,null,null,null,null,""]
[5,null,null,null,null,null,null,5,null,null,null,null,null,null,5,null,null,null,null,null,"",null,null,{"$f":"IF(LEN(AD15)>0,AD15^2/COUNT(B13:F63,I13:M63,P13:T63),\"\")","v":""},"(SSx)2 /N ",null,"(SSSxijk)2/npq","A","קו בסיס"]
[6,null,null,null,null,null,null,6,null,null,null,null,null,null,6,null,null,null,null,null,"",null,null,{"$f":"IF(LEN(AD15)>0,SUMSQ(B13:F63,I13:M63,P13:T63),\"\")","v":""},"SSx2",null,"SSSxijk2","B","שונות כללית"]
[7,null,null,null,null,null,null,7,null,null,null,null,null,null,7,null,null,null,null,null,"",null,null,{"$f":"IF(COUNT(AD12:AD14)>0,SUMSQ(AD12:AD14)/(M5*M4),\"\")","v":""},"S(SS Aj)2/(nq)",null,"S(SSxi.k)2/nq","C",{"$f":"IF(LEN(L3)>0,L3,\"גורם1\")","v":"גורם1"}]
[8,null,null,null,null,null,null,8,null,null,null,null,null,null,8,null,null,null,null,null,"",null,null,{"$f":"IF(COUNT(Y15:AC15)>0,SUMSQ(Y15:AC15)/(M5*M3),\"\")","v":""},"S(SS Bk)2/(np)",null,"S(SSxij.)2/np","D",{"$f":"IF(LEN(L4)>0,L4,\"גורם 2 \")","v":"גורם 2 "}]
[9,null,null,null,null,null,null,9,null,null,null,null,null,null,9,null,null,null,null,null,"",null,null,{"$f":"IF(COUNT(Y12:AC14)>0,SUMSQ(Y12:AC14)/M5,\"\")","v":""},"SS(S AB)2/n",null,"SS(Sxi..)2/n","E","אינטראקציה"]
[10,null,null,null,null,null,null,10,null,null,null,null,null,null,10,null,null,null,null,null,"",null,null,{"$f":"IF(LEN(AD15)>0,SUM(U13:U63)/M4,\"\")","v":""},"S(SS PA)2/(q)",null,"SS(SP)2/q","F","עיקביות של נבדק",null,null,null,null,{"$f":"ISERROR(AA5)","v":true}]
[11,null,null,null,null,null,null,11,null,null,null,null,null,null,11,null,null,null,null,null,""]
[12,null,null,null,null,null,null,12,null,null,null,null,null,null,12,null,null,null,null,null,""]
[13,null,null,null,null,null,null,13,null,null,null,null,null,null,13,null,null,null,null,null,""]
[14,null,null,null,null,null,null,14,null,null,null,null,null,null,14,null,null,null,null,null,""]
[15,null,null,null,null,null,null,15,null,null,null,null,null,null,15,null,null,null,null,null,""]
[16,null,null,null,null,null,null,16,null,null,null,null,null,null,16,null,null,null,null,null,""]
[17,null,null,null,null,null,null,17,null,null,null,null,null,null,17,null,null,null,null,null,"",null,null,null,null,null,"Critic F"]
[18,null,null,null,null,null,null,18,null,null,null,null,null,null,18,null,null,null,null,null,"","חלוקת השונות של אותו גורם בשונות הכללית פחות השונויות המסוברות ע\"י הגורמים האחרים ",null,null,null,"eta2",0.01,0.05,"sig","F","MS","d.f","SS","d.f",null,"SV"]
[19,null,null,null,null,null,null,19,null,null,null,null,null,null,19,null,null,null,null,null,"",null,null,null,null,null,null,null,null,null,null,{"$f":"IF(LEN(AD15)>0,M5*M3-1,\"\")","v":""},{"$f":"IF(LEN(AD15)>0,X22-X17,\"\")","v":""},"np-1","F-A","Between Ss"]
[20,null,null,null,null,null,null,20,null,null,null,null,null,null,20,null,null,null,null,null,"",null,null,null,null,{"$f":"IF(COUNT(B$13:C$14,I$13:J$14)>0,AG32/(AG33),\"\")","v":""},{"$f":"IF(COUNT(B$13:C$14,I$13:J$14)>0,FINV(0.01,AF32,AF$33),\"\")","v":""},{"$f":"IF(COUNT(B$13:C$14,I$13:J$14)>0,FINV(0.05,AF32,AF$33),\"\")","v":""},{"$f":"IF(COUNT(B$13:C$14,I$13:J$14)>0,FDIST(AD32,AF32,AF$33),\"\")","v":""},{"$f":"IF(COUNT(B$13:C$14,I$13:J$14)>0,AE32/AE$33,\"\")","v":""},{"$f":"IF(COUNT(B$13:C$14,I$13:J$14)>0,AG32/AF32,\"\")","v":""},{"$f":"IF(COUNT(B13:C14,I13:J14)>0,M3-1,\"\")","v":""},{"$f":"IF(COUNT(B13:F16)>0,X19-X17,\"\")","v":""},"p-1","C-A","A","גורם A"]
[21,null,null,null,null,null,null,21,null,null,null,null,null,null,21,null,null,null,null,null,"",null,null,null,null,null,null,null,null,null,{"$f":"IF(COUNT(B$13:C$14,I$13:J$14)>0,AG33/AF33,\"\")","v":""},{"$f":"IF(LEN(AD15)>0,M3*(M5-1),\"\")","v":""},{"$f":"IF(COUNT(B13:F16)>0,X22-X19,\"\")","v":""},"p(n-1)","F-C","error 1 "]
[22,null,null,null,null,null,null,22,null,null,null,null,null,null,22,null,null,null,null,null,"",null,null,null,null,null,null,null,null,null,null,{"$f":"IF(LEN(AD15)>0,M5*M3*(M4-1),\"\")","v":""},{"$f":"IF(COUNT(B13:F16)>0,X18-X22,\"\")","v":""},"np(q-1)","B-F","Within Ss"]
[23,null,null,null,null,null,null,23,null,null,null,null,null,null,23,null,null,null,null,null,"",null,null,null,"SS כושר / (SSTOT -SS אינטראקציה - SS סוג שיעור )",{"$f":"IF(COUNT(B$13:C$14,I$13:J$14)>0,AG35/(AG34-AG36),\"\")","v":""},{"$f":"IF(COUNT(B$13:C$14,I$13:J$14)>0,FINV(0.01,AF35,AF$37),\"\")","v":""},{"$f":"IF(COUNT(B$13:C$14,I$13:J$14)>0,FINV(0.05,AF35,AF$37),\"\")","v":""},{"$f":"IF(COUNT(B$13:C$14,I$13:J$14)>0,FDIST(AD35,AF35,AF$37),\"\")","v":""},{"$f":"IF(COUNT(B$13:C$14,I$13:J$14)>0,AE35/AE$37,\"\")","v":""},{"$f":"IF(COUNT(B$13:C$14,I$13:J$14)>0,AG35/AF35,\"\")","v":""},{"$f":"IF(COUNT(B13:C14,I13:J14)>0,M4-1,\"\")","v":""},{"$f":"IF(COUNT(B13:C14,I13:J14)>0,X20-X17,\"\")","v":""},"q-1","D-A","B","גורם B"]
[24,null,null,null,null,null,null,24,null,null,null,null,null,null,24,null,null,null,null,null,"",null,null,null,"SS סוג שעור / (SSTOT -SS אינטראקציה - SS כושר )",{"$f":"IF(COUNT(B$13:C$14,I$13:J$14)>0,AG36/(AG34-AG35),\"\")","v":""},{"$f":"IF(COUNT(B$13:C$14,I$13:J$14)>0,FINV(0.01,AF36,AF$37),\"\")","v":""},{"$f":"IF(COUNT(B$13:C$14,I$13:J$14)>0,FINV(0.05,AF36,AF$37),\"\")","v":""},{"$f":"IF(COUNT(B$13:C$14,I$13:J$14)>0,FDIST(AD36,AF36,AF$37),\"\")","v":""},{"$f":"IF(COUNT(B$13:C$14,I$13:J$14)>0,AE36/AE$37,\"\")","v":""},{"$f":"IF(COUNT(B$13:C$14,I$13:J$14)>0,AG36/AF36,\"\")","v":""},{"$f":"IF(COUNT(B13:C14,I13:J14)>0,AF35*AF32,\"\")","v":""},{"$f":"IF(COUNT(B13:F16)>0,X21-X19-X20+X17,\"\")","v":""},"(p-1)*(q-1)","E-C-D+A","AB","איטראקציה A X B"]
[25,null,null,null,null,null,null,25,null,null,null,null,null,null,25,null,null,null,null,null,"",null,null,null,"SS אינטאקציה / (SSTOT -SS סוג שיעור - SS כושר )",null,null,null,null,null,{"$f":"IF(COUNT(B$13:C$14,I$13:J$14)>0,AG37/AF37,\"\")","v":""},{"$f":"IF(COUNT(B13:C14,I13:J14)>0,(M4-1)*M3*(M5-1),\"\")","v":""},{"$f":"IF(COUNT(B13:F16)>0,X18-X21-X22+X19,\"\")","v":""},"p(n-1)(q-1)","B-E-F+C","error 2","שגיאה"]
[26,null,null,null,null,null,null,26,null,null,null,null,null,null,26,null,null,null,null,null,"",null,null,null,null,null,null,null,null,null,null,{"$f":"IF(COUNT(B13:F16)>0,M5*M4*M3-1,\"\")","v":""},{"$f":"IF(COUNT(B13:C14,I13:J14)>0,X18-X17,\"\")","v":""},"qpn-1 ","B-A","total","סה\"כ"]
[27,null,null,null,null,null,null,27,null,null,null,null,null,null,27,null,null,null,null,null,"",null,"פרשנות"]
[28,null,null,null,null,null,null,28,null,null,null,null,null,null,28,null,null,null,null,null,"",null,"גרום A "]
[29,null,null,null,null,null,null,29,null,null,null,null,null,null,29,null,null,null,null,null,"",null,{"$f":"IF(COUNT(B13:F16)>1,IF(AC32>0.05,\"  אין די ראיות לקבוע שהחזרות שונות זו מזו \",IF(M3>2,\"יש די ראיות לקבוע שהחזרות  שונות ויש לבצע מבחן מעקב כדי לקבוע מי שונה ממי\",\" יש די ראיות לקבוע שהקבוצות שונות ויש להסתכל על הממוצעים כדי לקבוע לטובת מי\")),\"\")","v":""}]
[30,null,null,null,null,null,null,30,null,null,null,null,null,null,30,null,null,null,null,null,""]
[31,null,null,null,null,null,null,31,null,null,null,null,null,null,31,null,null,null,null,null,"",null,"גרום B "]
[32,null,null,null,null,null,null,32,null,null,null,null,null,null,32,null,null,null,null,null,"",null,{"$f":"IF(COUNT(B13:F16)>1,IF(AC35>0.05,\"  אין די ראיות לקבוע שהקבוצות שונות זו מזו \",IF(M4>2,\"יש די ראיות לקבוע שהקבוצות שונות ויש לבצע מבחן מעקב כדי לקבוע מי שונה ממי\",\" יש די ראיות לקבוע שהקבוצות שונות ויש להסתכל על הממוצעים כדי לקבוע לטובת מי\")),\"\")","v":""}]
[33,null,null,null,null,null,null,33,null,null,null,null,null,null,33,null,null,null,null,null,""]
[34,null,null,null,null,null,null,34,null,null,null,null,null,null,34,null,null,null,null,null,"",null,"גורם האינטראקציה "]
[35,null,null,null,null,null,null,35,null,null,null,null,null,null,35,null,null,null,null,null,"",null,{"$f":"IF(COUNT(B13:F16)=0,\"\",IF(AC36>0.05,\"  אין די ראיות לקבוע שהאינטראקציה מבוהקות \",IF(AF36>1,\"יש די ראיות לקבוע שהאינטראקציה מבוהקות ויש לפרק אותה כדי למצוא מהיכן היא נובעת \",\"יש די ראיות לקבוע שהאינטראקציה מבוהקות\")))","v":""}]
[36,null,null,null,null,null,null,36,null,null,null,null,null,null,36,null,null,null,null,null,"",null,{"$f":"IF(COUNT(M5)>1,CONCATENATE(TEXT(Z36*100,\"#.##\"),\"  \",\"אחוז מההבדלים במשתנה התלוי ניתן להסביר כתוצאה מקיום האינטראקציה בין המשתנים - אפקט דיפרציאלי    \"),\"\")","v":""}]
[37,null,null,null,null,null,null,37,null,null,null,null,null,null,37,null,null,null,null,null,""]
[38,null,null,null,null,null,null,38,null,null,null,null,null,null,38,null,null,null,null,null,""]
[39,null,null,null,null,null,null,39,null,null,null,null,null,null,39,null,null,null,null,null,"",null,null,null,"פוסט הוק ( post hoc  ) ע\"ש tukey עבור מספר נבדקים  שווה ",null,null,null,"Tukey"]
[40,null,null,null,null,null,null,40,null,null,null,null,null,null,40,null,null,null,null,null,""]
[41,null,null,null,null,null,null,41,null,null,null,null,null,null,41,null,null,null,null,null,"",null,null,null,null,null,"גורם 2",null,"גורם 1"]
[42,null,null,null,null,null,null,42,null,null,null,null,null,null,42,null,null,null,null,null,""]
[43,null,null,null,null,null,null,43,null,null,null,null,null,null,43,null,null,null,null,null,"",null,null,null,null,null,"MSw/n","q","HSD","q"]
[44,null,null,null,null,null,null,44,null,null,null,null,null,null,44,null,null,null,null,null,"",null,null,null,null,null,{"$f":"IF(LEN(AF35)>0,SQRT(AE37/(M5*M3))*AB56,\"\")","v":""},{"$f":"IF(LEN(AF35)>0,INDEX('q new'!M4:U25,MATCH(AF37,'q new'!L4:L25),MATCH(AF35+1,'q new'!M3:U3)),\"\")","v":""},{"$f":"IF(LEN(AF32)>0,SQRT((AE33/(M5*M4)))*AD56,\"\")","v":""},{"$f":"IF(LEN(AF32)>0,INDEX('q new'!M4:U25,MATCH(AF37,'q new'!L4:L25),MATCH(AF32+1,'q new'!M3:U3)),\"\")","v":""},"I 0.05="]
[45,null,null,null,null,null,null,45,null,null,null,null,null,null,45,null,null,null,null,null,"",null,null,null,null,null,{"$f":"IF(LEN(AF35)>0,SQRT(AE37/(M5*M3))*AB57,\"\")","v":""},{"$f":"IF(LEN(AF35)>0,INDEX('q new'!X4:AF25,MATCH(AF37,'q new'!W4:W25),MATCH(AF35+1,'q new'!X3:AF3)),\"\")","v":""},{"$f":"IF(LEN(AF32)>0,SQRT((AE33/(M5*M4)))*AD57,\"\")","v":""},{"$f":"IF(LEN(AF32)>0,INDEX('q new'!X4:AF25,MATCH(AF37,'q new'!W4:W25),MATCH(AF32+1,'q new'!X3:AF3)),\"\")","v":""},"I 0.01="]
[46,null,null,null,null,null,null,46,null,null,null,null,null,null,46,null,null,null,null,null,""]
[47,null,null,null,null,null,null,47,null,null,null,null,null,null,47,null,null,null,null,null,"",null,null,null,null,null,"גורם 1"]
[48,null,null,null,null,null,null,48,null,null,null,null,null,null,48,null,null,null,null,null,"",null,null,null,null,null,null,"טבלת הפרשי ממוצעים "]
[49,null,null,null,null,null,null,49,null,null,null,null,null,null,49,null,null,null,null,null,"",null,null,null,null,null,null,null,{"$f":"AD5","v":""},{"$f":"AD6","v":""},{"$f":"AD7","v":""}]
[50,null,null,null,null,null,null,50,null,null,null,null,null,null,50,null,null,null,null,null,"",null,null,null,null,null,null,"ממוצע",{"$f":"X5","v":"קבוצה 1"},{"$f":"X6","v":"קבוצה 2"},{"$f":"X7","v":"קבוצה 3"}]
[51,null,null,null,null,null,null,51,null,null,null,null,null,null,51,null,null,null,null,null,"",null,null,null,null,null,{"$f":"AC61","v":""},{"$f":"AC62","v":"קבוצה 1"},{"$f":"IF(AND(LEN(AC$61)>0,LEN($AA63)>0),AC$61-$AA63,\"\")","v":""},"",""]
["ממוצע",{"$f":"IF(COUNT(B13:B63)>0,AVERAGE(B13:B63),\"\")","v":""},{"$f":"IF(COUNT(C13:C63)>0,AVERAGE(C13:C63),\"\")","v":""},{"$f":"IF(COUNT(D13:D63)>0,AVERAGE(D13:D63),\"\")","v":""},{"$f":"IF(COUNT(E13:E63)>0,AVERAGE(E13:E63),\"\")","v":""},{"$f":"IF(COUNT(F13:F63)>0,AVERAGE(F13:F63),\"\")","v":""},null,"ממוצע",{"$f":"IF(COUNT(I13:I63)>0,AVERAGE(I13:I63),\"\")","v":""},{"$f":"IF(COUNT(J13:J63)>0,AVERAGE(J13:J63),\"\")","v":""},{"$f":"IF(COUNT(K13:K63)>0,AVERAGE(K13:K63),\"\")","v":""},{"$f":"IF(COUNT(L13:L63)>0,AVERAGE(L13:L63),\"\")","v":""},{"$f":"IF(COUNT(M13:M63)>0,AVERAGE(M13:M63),\"\")","v":""},null,"ממוצע",{"$f":"IF(COUNT(P13:P63)>0,AVERAGE(P13:P63),\"\")","v":""},{"$f":"IF(COUNT(Q13:Q63)>0,AVERAGE(Q13:Q63),\"\")","v":""},{"$f":"IF(COUNT(R13:R63)>0,AVERAGE(R13:R63),\"\")","v":""},{"$f":"IF(COUNT(S13:S63)>0,AVERAGE(S13:S63),\"\")","v":""},{"$f":"IF(COUNT(T13:T63)>0,AVERAGE(T13:T63),\"\")","v":""},"",null,null,null,null,null,{"$f":"AD61","v":""},{"$f":"AD62","v":"קבוצה 2"},"","",""]
["סטיית תקן",{"$f":"IF(COUNT(B13:B63)>0,STDEV(B13:B63),\"\")","v":""},{"$f":"IF(COUNT(C13:C63)>0,STDEV(C13:C63),\"\")","v":""},{"$f":"IF(COUNT(D13:D63)>0,STDEV(D13:D63),\"\")","v":""},{"$f":"IF(COUNT(E13:E63)>0,STDEV(E13:E63),\"\")","v":""},{"$f":"IF(COUNT(F13:F63)>0,STDEV(F13:F63),\"\")","v":""},null,"סטיית תקן",{"$f":"IF(COUNT(I13:I63)>0,STDEV(I13:I63),\"\")","v":""},{"$f":"IF(COUNT(J13:J63)>0,STDEV(J13:J63),\"\")","v":""},{"$f":"IF(COUNT(K13:K63)>0,STDEV(K13:K63),\"\")","v":""},{"$f":"IF(COUNT(L13:L63)>0,STDEV(L13:L63),\"\")","v":""},{"$f":"IF(COUNT(M13:M63)>0,STDEV(M13:M63),\"\")","v":""},null,"סטיית תקן",{"$f":"IF(COUNT(P13:P63)>0,STDEV(P13:P63),\"\")","v":""},{"$f":"IF(COUNT(Q13:Q63)>0,STDEV(Q13:Q63),\"\")","v":""},{"$f":"IF(COUNT(R13:R63)>0,STDEV(R13:R63),\"\")","v":""},{"$f":"IF(COUNT(S13:S63)>0,STDEV(S13:S63),\"\")","v":""},{"$f":"IF(COUNT(T13:T63)>0,STDEV(T13:T63),\"\")","v":""},"",null,null,null,null,null,{"$f":"AE61","v":""},{"$f":"AE62","v":"קבוצה 3"},"","",""]
["N",{"$f":"IF(COUNT(B13:B63)>0,COUNT(B13:B63),\"\")","v":""},{"$f":"IF(COUNT(C13:C63)>0,COUNT(C13:C63),\"\")","v":""},{"$f":"IF(COUNT(D13:D63)>0,COUNT(D13:D63),\"\")","v":""},{"$f":"IF(COUNT(E13:E63)>0,COUNT(E13:E63),\"\")","v":""},{"$f":"IF(COUNT(F13:F63)>0,COUNT(F13:F63),\"\")","v":""},null,"N",{"$f":"IF(COUNT(I13:I63)>0,COUNT(I13:I63),\"\")","v":""},{"$f":"IF(COUNT(J13:J63)>0,COUNT(J13:J63),\"\")","v":""},{"$f":"IF(COUNT(K13:K63)>0,COUNT(K13:K63),\"\")","v":""},{"$f":"IF(COUNT(L13:L63)>0,COUNT(L13:L63),\"\")","v":""},{"$f":"IF(COUNT(M13:M63)>0,COUNT(M13:M63),\"\")","v":""},null,"N",{"$f":"IF(COUNT(P13:P63)>0,COUNT(P13:P63),\"\")","v":""},{"$f":"IF(COUNT(Q13:Q63)>0,COUNT(Q13:Q63),\"\")","v":""},{"$f":"IF(COUNT(R13:R63)>0,COUNT(R13:R63),\"\")","v":""},{"$f":"IF(COUNT(S13:S63)>0,COUNT(S13:S63),\"\")","v":""},{"$f":"IF(COUNT(T13:T63)>0,COUNT(T13:T63),\"\")","v":""},""]
[null,null,null,null,null,null,null,null,null,null,null,null,null,null,null,null,null,null,null,null,null,null,null,null,null,null,"גורם 2"]
[]
[null,null,null,null,null,null,null,null,null,null,null,null,null,null,null,null,null,null,null,null,null,null,null,null,null,null,null,null,{"$f":"Y8","v":""},{"$f":"Z8","v":""},{"$f":"AA8","v":{"$error":"#N/A"}},{"$f":"AB8","v":{"$error":"#N/A"}},{"$f":"AC8","v":{"$error":"#N/A"}}]
[null,null,null,null,null,null,null,null,null,null,null,null,null,null,null,null,null,null,null,null,null,null,null,null,null,null,null,"ממוצע",{"$f":"Y4","v":"חזרה 1"},{"$f":"Z4","v":"חזרה 2"},"חזרה 3","חזרה 4","חזרה 5"]
[null,null,null,null,null,null,null,null,null,null,null,null,null,null,null,null,null,null,null,null,null,null,null,null,null,null,{"$f":"AC70","v":"חזרה 1"},{"$f":"AC69","v":""},{"$f":"IF(AND(LEN(AC$69)>0,LEN($AB71)>0),AC$69-$AB71,\"\")","v":""},{"$f":"IF(AND(LEN(AD$69)>0,LEN($AB71)>0),AD$69-$AB71,\"\")","v":""},{"$error":"#N/A"},{"$error":"#N/A"},{"$error":"#N/A"}]
[null,null,null,null,null,null,null,null,null,null,null,null,null,null,null,null,null,null,null,null,null,null,null,null,null,null,{"$f":"AD70","v":"חזרה 2"},{"$f":"AD69","v":""},{"$f":"IF(AND(LEN(AC$69)>0,LEN($AB72)>0),AC$69-$AB72,\"\")","v":""},"",{"$error":"#N/A"},{"$error":"#N/A"},{"$error":"#N/A"}]
[null,null,null,null,null,null,null,null,null,null,null,null,null,null,null,null,null,null,null,null,null,null,null,null,null,null,{"$f":"AE70","v":"חזרה 3"},{"$f":"AE69","v":{"$error":"#N/A"}},{"$error":"#N/A"},{"$error":"#N/A"},{"$error":"#N/A"},{"$error":"#N/A"},{"$error":"#N/A"}]
[null,null,null,null,null,null,null,null,null,null,null,null,null,null,null,null,null,null,null,null,null,null,null,null,null,null,{"$f":"AF70","v":"חזרה 4"},{"$f":"AF69","v":{"$error":"#N/A"}},{"$error":"#N/A"},{"$error":"#N/A"},{"$error":"#N/A"},{"$error":"#N/A"},{"$error":"#N/A"}]
[null,null,null,null,null,null,null,null,null,null,null,null,null,null,null,null,null,null,null,null,null,null,null,null,null,null,{"$f":"AG70","v":"חזרה 5"},{"$f":"AG69","v":{"$error":"#N/A"}},{"$f":"IF(AND(LEN(AC$69)>0,LEN($AB75)>0),AC$69-$AB75,\"\")","v":{"$error":"#N/A"}},{"$error":"#N/A"},{"$error":"#N/A"},{"$error":"#N/A"},{"$error":"#N/A"}]

{"sheet":"תפריט ראשי דו כיווני ","index":1,"n_rows":30,"n_cols":2,"rows_kept":30,"cut":false,"hidden":false,"merged":[[0,0,0,1]]}
["תפריט ראשי "]
["1.  סטטיסטיקה תיאורית "]
[]
[]
[]
[]
["2. מתאמים - קשר בין משתנים"]
[" פירסון וספירמן "]
[]
["3. השוואת מדגם לאוכלוסייה"]
["מבחן Z ו t"]
["4. השוואת ממוצעי שני מדגמים "]
["מבחני t"]
[]
["5. מבחני חי בריבוע "]
["לבדיקת הבדלים/קשר עבור"]
["משתנים קטגוריליים "]
[]
[]
[]
[]
["6. טבלאות סטטיסטיות "]
[]
[]
["7. ניתוח שונות חד כיווני "]
[]
["8. ניתוח שונות דו כיווני ","ניתוח שונות דו כיווני  עם שני משתנים בלתי תלויים"]
[null,"ניתוח שונות דו כיווני  עם שני משתנים  תלויים"]
["9. ניתוח שונות מעורב"]
["10. שלב ראשון של ניתוח רגרסייה "]

{"sheet":"oneway  (reap)","index":2,"n_rows":70,"n_cols":44,"rows_kept":70,"cut":false,"hidden":false,"merged":[[21,16,21,17]]}
[" ניתוח שונות חד כיווני עם מדידות חוזרות - השוואת ממוצעים של יותר משני משתנים תלויים    One way anova with reapeted measures ",null,null,null,null,"עבור השוואת ממוצעים של יותר משתי קבוצות בלתי תלוית "]
[]
["הוראות"]
["הכנס  שמות למועדים      "]
["הכנס את הנתונים של הנבדקים בכל אחד מהמועדים ",null,null,null,null,null,null,null,null,null,null,null,null,null,null,{"$f":"IF(COUNT(#REF!)>1,IF(#REF!>0.05,\"  אין די ראיות לקבוע שהקבוצות שונות במבחן חד צדדי \",\"יש די ראיות לקבוע שהקבוצות שונות במבחן חד צדדי\"),\"\")","v":""}]
["תוצאות  המבחן הסטטיסטי יופיעו באופן אוטומטי . בדוק את התוצאות  ותן פשרנות בהתאם "]
["להדפסת התוצאות לחץ על הדפסה "]
["לעיבוד נוסף לחץ על נקה "]
[null,null,null,null,null,null,null,null,null,null,null,null,null,null,null,null,null,"סטטיסטיקה תיאורית "]
["מס' נבדק ","מועד 1","מועד 2","מועד 3","מועד 4","מועד 5","מועד 6","מועד 7","מועד 8","מועד 9","מועד 10","SR",null,null,{"$f":"B10","v":"מועד 1"},"מועד 2","מועד 3","מועד 4","מועד 5","מועד 6","מועד 7","מועד 8","מועד 9","מועד 10"]
[1,null,null,null,null,null,null,null,null,null,null,{"$f":"IF(COUNT(B11:K11)>0,SUM(B11:K11),\"\")","v":""},null,"ממוצע",{"$f":"IF(COUNT(B11:B61)>0,AVERAGE(B11:B61),\"\")","v":""},"","","","","",{"$f":"IF(COUNT(K11:K61)>0,AVERAGE(K11:K61),\"\")","v":""},{"$f":"IF(COUNT(I11:I61)>0,AVERAGE(I11:I61),\"\")","v":""},"",""]
[2,null,null,null,null,null,null,null,null,null,null,{"$f":"IF(COUNT(B12:K12)>0,SUM(B12:K12),\"\")","v":""},null,"סטיית תקן",{"$f":"IF(COUNT(B11:B61)>0,STDEV(B11:B61),\"\")","v":""},"","","","","",{"$f":"IF(COUNT(K11:K61)>0,STDEV(K11:K61),\"\")","v":""},{"$f":"IF(COUNT(I11:I61)>0,STDEV(I11:I61),\"\")","v":""},"",""]
[3,null,null,null,null,null,null,null,null,null,null,"",null,"מס נבדקים",{"$f":"IF(COUNT(B11:B61)>0,COUNT(B11:B61),\"\")","v":""},"","","","","",{"$f":"IF(COUNT(K11:K61)>0,COUNT(K11:K61),\"\")","v":""},{"$f":"IF(COUNT(I11:I61)>0,COUNT(I11:I61),\"\")","v":""},"",""]
[4,null,null,null,null,null,null,null,null,null,null,"",null,"סכום ",{"$f":"IF(COUNT(B11:B61)>0,SUM(B11:B61),\"\")","v":""},"","","","","",{"$f":"IF(COUNT(K11:K61)>0,SUM(K11:K61),\"\")","v":""},{"$f":"IF(COUNT(I11:I61)>0,SUM(I11:I61),\"\")","v":""},"",""]
[5,null,null,null,null,null,null,null,null,null,null,"",null,null,"C",{"$f":"IF(COUNT(B11:B61)>0,O14^2/O13,\"\")","v":""},"","","","","",{"$f":"IF(COUNT(K11:K61)>0,U14^2/U13,\"\")","v":""}]
[6,null,null,null,null,null,null,null,null,null,null,"",null,null,null,null,null,"משמעות"]
[7,null,null,null,null,null,null,null,null,null,null,"",null,null,null,{"$f":"IF(COUNT(B11:K61)>0,SUM(B11:K61)^2/COUNT(B11:K61),\"\")","v":""},"(SSX)2/N",null,null,null,"ממוצע כללי","A"]
[8,null,null,null,null,null,null,null,null,null,null,"",null,null,null,{"$f":"IF(COUNT(B11:H61)>0,SUMSQ(B11:K61),\"\")","v":""},"SSX2",null,"Within (error)",null,"שונות כללית","B"]
[9,null,null,null,null,null,null,null,null,null,null,"",null,null,null,{"$f":"IF(COUNT(B11:K61)>0,SUMSQ(O14:X14)/COUNT(B11:B61),\"\")","v":""},"S(SX)2/n",null,"between",null,"שונות בין מדידות ","C"]
[10,null,null,null,null,null,null,null,null,null,null,"",null,null,null,{"$f":"IF(COUNT(B11:K61)>0,SUMSQ(L11:L61)/COUNT(B11:K11),\"\")","v":""},"S(SR)2/q",null,"subject",null,"שונות בין נבדקים","D"]
[11,null,null,null,null,null,null,null,null,null,null,""]
[12,null,null,null,null,null,null,null,null,null,null,"",null,null,"h2","P","F קריטי",null,"F","MSW","df",null,null,null,null,null,null,null,null,"SS",null,"SV","מקור השונות"]
[13,null,null,null,null,null,null,null,null,null,null,"",null,null,{"$f":"IF(COUNT(B11:K34)>0,AD23/(AD23+AD25),\"\")","v":""},{"$f":"IF(COUNT(B$11:K$61)>0,FDIST(S23,U23,U25),\"\")","v":""},{"$f":"IF(COUNT(B$11:K$61)>0,FINV(0.05,U23,U25),\"\")","v":""},0.05,{"$f":"IF(COUNT(B11:K61)>0,T23/T25,\"\")","v":""},{"$f":"IF(COUNT(B11:K61)>0,AD23/U23,\"\")","v":""},{"$f":"IF(COUNT(B11:K61)>0,COUNT(B11:K11)-1,\"\")","v":""},null,null,null,null,null,null,"1- מספר המדידות/חזרות","q-1",{"$f":"IF(COUNT(B11:K61)>0,P19-P17,\"\")","v":""},"C-A","C(between)","בין מדידות/חזרות"]
[14,null,null,null,null,null,null,null,null,null,null,"",null,null,{"$f":"LEFT((O23*100),5)","v":{"$error":"#VALUE!"}},null,{"$f":"IF(COUNT(B$11:K$61)>0,FINV(0.01,U23,U25),\"\")","v":""},0.01,null,{"$f":"IF(COUNT(B12:K62)>0,AD24/U24,\"\")","v":""},{"$f":"IF(COUNT(B11:K61)>0,COUNT(B11:B61)-1,\"\")","v":""},null,null,null,null,null,null,"1- מספר הנבדקים בכל מדידה","n-1",{"$f":"IF(COUNT(B11:K61)>0,P20-P17,\"\")","v":""},"D-A","R(bet Ss)","בין נבדקים"]
[15,null,null,null,null,null,null,null,null,null,null,"",null,null,null,null,null,null,null,{"$f":"IF(COUNT(B13:K63)>0,AD25/U25,\"\")","v":""},{"$f":"IF(COUNT(B11:K61)>0,(COUNT(B11:K11)-1)*(COUNT(B11:B61)-1),\"\")","v":""},null,null,null,null,null,null,"1- מספר המדידות/חזרות)) (1- מספר הנבדקים בכל מדידה)","(q-1)(n-1)",{"$f":"IF(COUNT(B11:K61)>0,P18-P19-P20+P17,\"\")","v":""},"B-C-D+A","error","שגיאה"]
[16,null,null,null,null,null,null,null,null,null,null,"",null,null,null,null,null,null,null,null,{"$f":"IF(COUNT(B11:K61)>0,COUNT(B11:K61)-1,\"\")","v":""},null,null,null,null,null,null,"1- סה\"כ מדידות בכל המחקר(מספר חזרות","n*q-1",{"$f":"IF(COUNT(B11:K61)>0,P18-P17,\"\")","v":""},"B-A","total","סה\"כ"]
[17,null,null,null,null,null,null,null,null,null,null,""]
[18,null,null,null,null,null,null,null,null,null,null,""]
[19,null,null,null,null,null,null,null,null,null,null,""]
[20,null,null,null,null,null,null,null,null,null,null,""]
[21,null,null,null,null,null,null,null,null,null,null,"",null,"פרשנות",null,null,null,null,null,null,null,null,{"$f":"IF(COUNT(B11:K26)>1,IF(P23>0.05,\"  אין די ראיות לקבוע שהמועדים שונים זו מזה \",\"יש די ראיות לקבוע שלא כל המועדים שווים  ויש לבצע מבחן מעקב כדי לקבוע מי שונה ממי\"),\"\")","v":""}]
[22,null,null,null,null,null,null,null,null,null,null,"",null,"h2",{"$f":"IF(COUNT(B11:K26)>1,CONCATENATE(O24,\"  \",\"אחוז מההבדלים בתוצאות ניתן להסביר כתוצאה מהביצוע במועדים/מצבי הביצוע השונים יתר  השונות מוסברת באמצעות גורמים אחרים \"),\"\")","v":""}]
[23,null,null,null,null,null,null,null,null,null,null,""]
[24,null,null,null,null,null,null,null,null,null,null,"",null,null,"כתיבה מדעית",null,null,null,{"$f":"IF(COUNT(B11:K22)>1,IF(O27<0.01,CONCATENATE(T29,\"<0.01\"),IF(O27<0.05,CONCATENATE(T29,\"<0.05\"),CONCATENATE(T29, \">0.05\"))),\"\")","v":""},null,null,{"$f":"IF(COUNT(B11:K22)>2,CONCATENATE(\"F(\",T27,\",\",T28,\")=\",LEFT(R27,5),\",  P \"),\"\")","v":""},null,null,null,null,null,null,null,null,null,"פוסט הוק ( post hoc  ) עבור מספר נבדקים  שווה "]
[25,null,null,null,null,null,null,null,null,null,null,"",null,null,null,null,null,null,null,null,null,null,null,null,null,null,null,null,null,null,"tukey",null,null,null,null,"scheffe"]
[26,null,null,null,null,null,null,null,null,null,null,"",null,null,null,null,null,"טבלת הפרשי ממוצעים "]
[27,null,null,null,null,null,null,null,null,null,null,"",null,null,null,{"$f":"O10","v":"מועד 1"},"מועד 2","מועד 3","מועד 4","מועד 5","מועד 6","מועד 7","מועד 8","מועד 9","מועד 10"]
[28,null,null,null,null,null,null,null,null,null,null,"",null,null,"ממוצע",{"$f":"IF(LEN(O11)>0,O11,\"\")","v":""},{"$f":"IF(LEN(P11)>0,P11,\"\")","v":""},"","","","","","","",""]
[29,null,null,null,null,null,null,null,null,null,null,"",null,{"$f":"O10","v":"מועד 1"},{"$f":"IF(LEN(O11)>0,O11,\"\")","v":""},{"$f":"IF(AND(LEN(P$38)>0,LEN($O39)>0),P$38-$O39,\"\")","v":""},{"$f":"IF(AND(LEN(Q$38)>0,LEN($O39)>0),Q$38-$O39,\"\")","v":""},{"$f":"IF(AND(LEN(R$38)>0,LEN($O39)>0),R$38-$O39,\"\")","v":""},"","","","","","","",null,null,null,null,"Tukey",null,null,null,"sheffe"]
[30,null,null,null,null,null,null,null,null,null,null,"",null,{"$f":"P10","v":"מועד 2"},{"$f":"IF(LEN(P11)>0,P11,\"\")","v":""},"","","","","","","","","","",null,null,null,null,null,"√MSW/n","MSw/n","q",null,null,"2MSw/n",null,"I-1",null,null,null,null,"I"]
[31,null,null,null,null,null,null,null,null,null,null,"",null,{"$f":"Q10","v":"מועד 3"},{"$f":"IF(LEN(Q11)>0,Q11,\"\")","v":""},"","","","","","","","","","",null,null,null,null,{"$f":"IF(COUNT(B11:K19)>1,AE41*AG41,\"\")","v":""},{"$f":"IF(COUNT(B11:K19)>1,SQRT(($T25/O13)),\"\")","v":""},{"$f":"IF(COUNT(B11:K19)>1,($T$25/O13),\"\")","v":""},{"$f":"AJ46","v":""},{"$f":"IF(COUNT(B11:K19)>1,SQRT((COUNT(B11:K11)-1)*Q23*((2*T25)/O13)),\"\")","v":""},"=",{"$f":"IF(COUNT(B11:K19)>1,((2*T25)/O13),\"\")","v":""},{"$f":"IF(COUNT(B11:K19)>1,Q23,\"\")","v":""},{"$f":"IF(COUNT(B11:K19)>1,COUNT(B11:K11)-1,\"\")","v":""},"I 0.05=",null,null,null,"הכנס גודל מדגמים"]
[32,null,null,null,null,null,null,null,null,null,null,"",null,{"$f":"R10","v":"מועד 4"},{"$f":"IF(LEN(R11)>0,R11,\"\")","v":""},"","","","","","","","","","",null,null,null,null,{"$f":"IF(COUNT(B12:K20)>1,AE42*AG42,\"\")","v":""},{"$f":"IF(COUNT(B11:K19)>1,SQRT(($T$25/O13)),\"\")","v":""},{"$f":"IF(COUNT(B11:K19)>1,($T$25/O13),\"\")","v":""},{"$f":"AJ47","v":""},{"$f":"IF(COUNT(B11:K19)>1,SQRT((COUNT(B11:K11)-1)*Q24*((2*T25)/O13)),\"\")","v":""},"=",{"$f":"IF(COUNT(B11:K19)>1,((2*T25)/O13),\"\")","v":""},{"$f":"IF(COUNT(B11:K19)>1,Q24,\"\")","v":""},{"$f":"IF(COUNT(B11:K19)>1,COUNT(B11:K11)-1,\"\")","v":""},"I 0.01=",null,null,null,6,"n1"]
[33,null,null,null,null,null,null,null,null,null,null,"",null,{"$f":"S10","v":"מועד 5"},{"$f":"IF(LEN(S11)>0,S11,\"\")","v":""},"","","","","","","","","","",null,null,null,null,null,null,null,null,null,null,null,null,null,null,null,null,null,24,"n2"]
[34,null,null,null,null,null,null,null,null,null,null,"",null,{"$f":"T10","v":"מועד 6"},{"$f":"IF(LEN(T11)>0,T11,\"\")","v":""},"","","","","","","","","","",null,null,null,null,null,"טוקי עבור מספר נבדקים לא שווה "]
[35,null,null,null,null,null,null,null,null,null,null,"",null,{"$f":"U10","v":"מועד 7"},{"$f":"IF(LEN(U11)>0,U11,\"\")","v":""},"","","","","","","","","","",null,null,null,null,null,null,null,null,null,null,null,null,null,null,null,null,null,{"$f":"IF(COUNT(B11:K19)>1,SQRT(AL41*AK41*S28*(1/AQ42+1/AQ43)),\"\")","v":""},"I, 0.05="]
[36,null,null,null,null,null,null,null,null,null,null,"",null,{"$f":"W37","v":"מועד 8"},{"$f":"IF(LEN(V11)>0,V11,\"\")","v":""},"","","","","","","","","","",null,null,null,null,null,null,null,null,null,null,{"$f":"IF(COUNT(B11:K20)>1,INDEX('q new'!M4:U25,MATCH(U25,'q new'!L4:L25),MATCH(U23+1,'q new'!M3:U3)),\"\")","v":""},"Q",0.05,null,null,null,null,{"$f":"IF(COUNT(B11:K19)>1,SQRT(AL41*AK42*S28*(1/AQ42+1/AQ43)),\"\")","v":""},"I, 0.01="]
[37,null,null,null,null,null,null,null,null,null,null,"",null,{"$f":"X37","v":"מועד 9"},{"$f":"IF(LEN(W11)>0,W11,\"\")","v":""},"","","","","","","","","","",null,null,null,null,null,null,null,null,null,null,{"$f":"IF(COUNT(B11:K20)>1,INDEX('q new'!X4:AF25,MATCH(U25,'q new'!W4:W25),MATCH(U23+1,'q new'!X3:AF3)),\"\")","v":""},"Q",0.01]
[38,null,null,null,null,null,null,null,null,null,null,"",null,{"$f":"Y37","v":"מועד 10"},{"$f":"IF(LEN(X11)>0,X11,\"\")","v":""},"","","","","","","","","",""]
[39,null,null,null,null,null,null,null,null,null,null,"",null,null,null,null,null,null,null,null,null,null,null,null,null,null,null,null,null,null,null,0.05,null,null,null,null,0.01]
[40,null,null,null,null,null,null,null,null,null,null,"",null,null,null,null,null,null,null,null,null,null,null,null,null,null,null,null,null,null,{"$f":"IF(COUNT(B11:K19)>1,$AJ$46*(SQRT(($S$28/2)*($P$16+$Q$16))),\"\")","v":""},null,"HSD (G1 vs G2) =",null,null,{"$f":"IF(COUNT(B11:K19)>1,$AJ$47*(SQRT(($S$28/2)*($P$16+$Q$16))),\"\")","v":""},null,"HSD (G1 vs G2) ="]
[41,null,null,null,null,null,null,null,null,null,null,"",null,null,null,null,null,null,null,null,null,null,null,null,null,null,null,null,null,null,{"$f":"IF(COUNT(B11:K19)>1,$AJ46*(SQRT(($S28/2)*($P$16+#REF!))),\"\")","v":""},null,"HSD (G1 vs G3) =",null,null,{"$f":"IF(COUNT(B11:K19)>1,$AJ47*(SQRT(($S28/2)*($P$16+#REF!))),\"\")","v":""},null,"HSD (G1 vs G3) ="]
[42,null,null,null,null,null,null,null,null,null,null,"",null,null,null,null,null,null,null,null,null,null,null,null,null,null,null,null,null,null,{"$f":"IF(COUNT(B11:K19)>1,$AJ$46*(SQRT(($S$28/2)*($Q$16+#REF!))),\"\")","v":""},null,"HSD (G2 vs G3) =",null,null,{"$f":"IF(COUNT(B11:K19)>1,$AJ$47*(SQRT(($S$28/2)*($Q$16+#REF!))),\"\")","v":""},null,"HSD (G2 vs G3) ="]
[43,null,null,null,null,null,null,null,null,null,null,"",null,null,null,null,null,null,null,null,null,null,null,null,null,null,null,null,null,null,{"$f":"IF(COUNT($O$13:$U$13)>3,$AJ$46*(SQRT(($S$28/2)*($P$16+#REF!))),\"\")","v":""},null,"HSD (G1 vs G4) =",null,null,{"$f":"IF(COUNT($O$13:$U$13)>3,$AJ$47*(SQRT(($S$28/2)*($P$16+#REF!))),\"\")","v":""},null,"HSD (G1 vs G4) ="]
[44,null,null,null,null,null,null,null,null,null,null,"",null,null,null,null,null,null,null,null,null,null,null,null,null,null,null,null,null,null,{"$f":"IF(COUNT($O$13:$U$13)>3,$AJ$46*(SQRT(($S$28/2)*($Q$16+#REF!))),\"\")","v":""},null,"HSD (G2 vs G4) =",null,null,{"$f":"IF(COUNT($O$13:$U$13)>3,$AJ$47*(SQRT(($S$28/2)*($Q$16+#REF!))),\"\")","v":""},null,"HSD (G2 vs G4) ="]
[45,null,null,null,null,null,null,null,null,null,null,"",null,null,null,null,null,null,null,null,null,null,null,null,null,null,null,null,null,null,{"$f":"IF(COUNT($O$13:$U$13)>3,$AJ$46*(SQRT(($S$28/2)*(#REF!+#REF!))),\"\")","v":""},null,"HSD (G3 vs G4) =",null,null,{"$f":"IF(COUNT($O$13:$U$13)>3,$AJ$47*(SQRT(($S$28/2)*(#REF!+#REF!))),\"\")","v":""},null,"HSD (G3 vs G4) ="]
[46,null,null,null,null,null,null,null,null,null,null,"",null,null,null,null,null,null,null,null,null,null,null,null,null,null,null,null,null,null,{"$f":"IF(COUNT($O$13:$U$13)>4,$AJ$46*(SQRT(($S$28/2)*($P$16+#REF!))),\"\")","v":""},null,"HSD (G1 vs G5) =",null,null,{"$f":"IF(COUNT($O$13:$U$13)>4,$AJ$47*(SQRT(($S$28/2)*($P$16+#REF!))),\"\")","v":""},null,"HSD (G1 vs G5) ="]
[47,null,null,null,null,null,null,null,null,null,null,"",null,null,null,null,null,null,null,null,null,null,null,null,null,null,null,null,null,null,{"$f":"IF(COUNT($O$13:$U$13)>4,$AJ$46*(SQRT(($S$28/2)*($Q$16+#REF!))),\"\")","v":""},null,"HSD (G2 vs G5) =",null,null,{"$f":"IF(COUNT($O$13:$U$13)>4,$AJ$47*(SQRT(($S$28/2)*($Q$16+#REF!))),\"\")","v":""},null,"HSD (G2 vs G5) ="]
[48,null,null,null,null,null,null,null,null,null,null,"",null,null,null,null,null,null,null,null,null,null,null,null,null,null,null,null,null,null,{"$f":"IF(COUNT($O$13:U$13)>4,$AJ$46*(SQRT(($S$28/2)*(#REF!+#REF!))),\"\")","v":""},null,"HSD (G3 vs G5) =",null,null,{"$f":"IF(COUNT($O$13:AB$13)>4,$AJ$47*(SQRT(($S$28/2)*(#REF!+#REF!))),\"\")","v":""},null,"HSD (G3 vs G5) ="]
[49,null,null,null,null,null,null,null,null,null,null,"",null,null,null,null,null,null,null,null,null,null,null,null,null,null,null,null,null,null,{"$f":"IF(COUNT($O$13:$U$13)>4,$AJ$46*(SQRT(($S$28/2)*(#REF!+#REF!))),\"\")","v":""},null,"HSD (G4 vs G5) =",null,null,{"$f":"IF(COUNT($O$13:$U$13)>4,$AJ$47*(SQRT(($S$28/2)*(#REF!+#REF!))),\"\")","v":""},null,"HSD (G4 vs G5) ="]
[50,null,null,null,null,null,null,null,null,null,null,"",null,null,null,null,null,null,null,null,null,null,null,null,null,null,null,null,null,null,{"$f":"IF(COUNT($O$13:$U$13)>5,$AJ$46*(SQRT(($S$28/2)*($P$16+#REF!))),\"\")","v":""},null,"HSD (G1 vs G6) =",null,null,{"$f":"IF(COUNT($O$13:$U$13)>5,$AJ$47*(SQRT(($S$28/2)*($P$16+#REF!))),\"\")","v":""},null,"HSD (G1 vs G6) ="]
[51,null,null,null,null,null,null,null,null,null,null,"",null,null,null,null,null,null,null,null,null,null,null,null,null,null,null,null,null,null,{"$f":"IF(COUNT($O$13:$U$13)>5,$AJ$46*(SQRT(($S$28/2)*($P$16+#REF!))),\"\")","v":""},null,"HSD (G2 vs G6) =",null,null,{"$f":"IF(COUNT($O$13:$U$13)>5,$AJ$47*(SQRT(($S$28/2)*($P$16+#REF!))),\"\")","v":""},null,"HSD (G2 vs G6) ="]
["ממוצע",{"$f":"IF(COUNT(B11:B61)>0,AVERAGE(B11:B61),\"\")","v":""},{"$f":"IF(COUNT(C11:C61)>0,AVERAGE(C11:C61),\"\")","v":""},{"$f":"IF(COUNT(D11:D61)>0,AVERAGE(D11:D61),\"\")","v":""},{"$f":"IF(COUNT(E11:E61)>0,AVERAGE(E11:E61),\"\")","v":""},{"$f":"IF(COUNT(F11:F61)>0,AVERAGE(F11:F61),\"\")","v":""},{"$f":"IF(COUNT(G11:G61)>0,AVERAGE(G11:G61),\"\")","v":""},null,null,null,"",{"$f":"IF(COUNT(L11:L61)>0,AVERAGE(L11:L61),\"\")","v":""},null,null,null,null,null,null,null,null,null,null,null,null,null,null,null,null,null,null,{"$f":"IF(COUNT($O$13:$U$13)>5,$AJ$46*(SQRT(($S$28/2)*($P$16+#REF!))),\"\")","v":""},null,"HSD (G3 vs G6) =",null,null,{"$f":"IF(COUNT($O$13:$U$13)>5,$AJ$47*(SQRT(($S$28/2)*($P$16+#REF!))),\"\")","v":""},null,"HSD (G3 vs G6) ="]
["סטיית תקן",{"$f":"IF(COUNT(B11:B61)>0,STDEV(B11:B61),\"\")","v":""},{"$f":"IF(COUNT(C11:C61)>0,STDEV(C11:C61),\"\")","v":""},{"$f":"IF(COUNT(D11:D61)>0,STDEV(D11:D61),\"\")","v":""},{"$f":"IF(COUNT(E11:E61)>0,STDEV(E11:E61),\"\")","v":""},{"$f":"IF(COUNT(F11:F61)>0,STDEV(F11:F61),\"\")","v":""},{"$f":"IF(COUNT(G11:G61)>0,STDEV(G11:G61),\"\")","v":""},null,null,null,"",{"$f":"IF(COUNT(L11:L61)>0,STDEV(L11:L61),\"\")","v":""},null,null,null,null,null,null,null,null,null,null,null,null,null,null,null,null,null,null,{"$f":"IF(COUNT($O$13:$U$13)>5,$AJ$46*(SQRT(($S$28/2)*($P$16+#REF!))),\"\")","v":""},null,"HSD (G4 vs G6) =",null,null,{"$f":"IF(COUNT($O$13:$U$13)>5,$AJ$47*(SQRT(($S$28/2)*($P$16+#REF!))),\"\")","v":""},null,"HSD (G4 vs G6) ="]
["N",{"$f":"IF(COUNT(B11:B61)>0,COUNT(B11:B61),\"\")","v":""},{"$f":"IF(COUNT(C11:C61)>0,COUNT(C11:C61),\"\")","v":""},{"$f":"IF(COUNT(D11:D61)>0,COUNT(D11:D61),\"\")","v":""},{"$f":"IF(COUNT(E11:E61)>0,COUNT(E11:E61),\"\")","v":""},{"$f":"IF(COUNT(F11:F61)>0,COUNT(F11:F61),\"\")","v":""},{"$f":"IF(COUNT(G11:G61)>0,COUNT(G11:G61),\"\")","v":""},null,null,null,"",{"$f":"IF(COUNT(L11:L61)>0,COUNT(L11:L61),\"\")","v":""},null,null,null,null,null,null,null,null,null,null,null,null,null,null,null,null,null,null,{"$f":"IF(COUNT($O$13:$U$13)>5,$AJ$46*(SQRT(($S$28/2)*($P$16+#REF!))),\"\")","v":""},null,"HSD (G5 vs G6) =",null,null,{"$f":"IF(COUNT($O$13:$U$13)>5,$AJ$47*(SQRT(($S$28/2)*($P$16+#REF!))),\"\")","v":""},null,"HSD (G5 vs G6) ="]
[null,null,null,null,null,null,null,null,null,null,null,null,null,null,null,null,null,null,null,null,null,null,null,null,null,null,null,null,null,null,{"$f":"IF(COUNT($O$13:$U$13)>6,$AJ$46*(SQRT(($S$28/2)*($P$16+#REF!))),\"\")","v":""},null,"HSD (G1 vs G7) =",null,null,{"$f":"IF(COUNT($O$13:$U$13)>6,$AJ$47*(SQRT(($S$28/2)*($P$16+#REF!))),\"\")","v":""},null,"HSD (G1 vs G7) ="]
[null,null,null,null,null,null,null,null,null,null,null,null,null,null,null,null,null,null,null,null,null,null,null,null,null,null,null,null,null,null,{"$f":"IF(COUNT($O$13:$U$13)>6,$AJ$46*(SQRT(($S$28/2)*($P$16+#REF!))),\"\")","v":""},null,"HSD (G2 vs G7) =",null,null,{"$f":"IF(COUNT($O$13:$U$13)>6,$AJ$47*(SQRT(($S$28/2)*($P$16+#REF!))),\"\")","v":""},null,"HSD (G2 vs G7) ="]
[null,null,null,null,null,null,null,null,null,null,null,null,null,null,null,null,null,null,null,null,null,null,null,null,null,null,null,null,null,null,{"$f":"IF(COUNT($O$13:$U$13)>6,$AJ$46*(SQRT(($S$28/2)*($P$16+#REF!))),\"\")","v":""},null,"HSD (G3 vs G7) =",null,null,{"$f":"IF(COUNT($O$13:$U$13)>6,$AJ$47*(SQRT(($S$28/2)*($P$16+#REF!))),\"\")","v":""},null,"HSD (G3 vs G7) ="]
[null,null,null,null,null,null,null,null,null,null,null,null,null,null,null,null,null,null,null,null,null,null,null,null,null,null,null,null,null,null,{"$f":"IF(COUNT($O$13:$U$13)>6,$AJ$46*(SQRT(($S$28/2)*($P$16+#REF!))),\"\")","v":""},null,"HSD (G4 vs G7) =",null,null,{"$f":"IF(COUNT($O$13:$U$13)>6,$AJ$47*(SQRT(($S$28/2)*($P$16+#REF!))),\"\")","v":""},null,"HSD (G4 vs G7) ="]
[null,null,null,null,null,null,null,null,null,null,null,null,null,null,null,null,null,null,null,null,null,null,null,null,null,null,null,null,null,null,{"$f":"IF(COUNT($O$13:$U$13)>6,$AJ$46*(SQRT(($S$28/2)*($P$16+$RU$16))),\"\")","v":""},null,"HSD (G5 vs G7) =",null,null,{"$f":"IF(COUNT($O$13:$U$13)>6,$AJ$47*(SQRT(($S$28/2)*($P$16+$RU$16))),\"\")","v":""},null,"HSD (G5 vs G7) ="]
[null,null,null,null,null,null,null,null,null,null,null,null,null,null,null,null,null,null,null,null,null,null,null,null,null,null,null,null,null,null,{"$f":"IF(COUNT($O$13:$U$13)>6,$AJ$46*(SQRT(($S$28/2)*($P$16+$RU$16))),\"\")","v":""},null,"HSD (G6 vs G7) =",null,null,{"$f":"IF(COUNT($O$13:$U$13)>6,$AJ$47*(SQRT(($S$28/2)*($P$16+$RU$16))),\"\")","v":""},null,"HSD (G6 vs G7) ="]

{"sheet":"תפריט ראשי כולל תיאורית (2)","index":3,"n_rows":23,"n_cols":2,"rows_kept":23,"cut":false,"hidden":false,"merged":[[0,0,0,1]]}
["תפריט ראשי "]
["1.  סטטיסטיקה תיאורית ","1. הצגת סטטיסטיקה תיאורית למשתנים אינטרוולים (רציפים) "]
[null," 2. הצגת אופן ההתפלגות של משתנה רציף כולל פוליגון "]
[null,"3. הצגת אופן ההתפלגות של משתנה קטגוריילי כולל גרף "]
[null,"4. הצגת שכיחויות למשתנים קטגוריילים/סידוריים"]
[null,"5. הצגת שכיחויות למשתנים קטגוריילים/סידוריים עבור שתי קבוצות"]
["2. מתאמים - קשר בין משתנים"]
[" פירסון וספירמן "]
[]
["3. השוואת מדגם לאוכלוסייה"]
["מבחן Z ו t"]
["4. השוואת שני מדגמים "]
["מבחני t"]
[]
["5. השוואת יותר משני מדגמים בלתי תלויים ","     ניתוח שונות חד כיווני ONE WAY ANOVA"]
["6. מבחני חי בריבוע "]
["לבדיקת הבדלים/קשר עבור"]
["משתנים קטגוריליים "]
[]
[]
[]
[]
["7. טבלאות סטטיסטיות "]

{"sheet":"תפריט ראשי חד כיווני","index":4,"n_rows":29,"n_cols":2,"rows_kept":29,"cut":false,"hidden":false,"merged":[[0,0,0,1]]}
["תפריט ראשי "]
["1.  סטטיסטיקה תיאורית "]
[]
[]
[]
[]
["2. מתאמים - קשר בין משתנים"]
[" פירסון וספירמן "]
[]
["3. השוואת מדגם לאוכלוסייה"]
["מבחן Z ו t"]
["4. השוואת ממוצעי שני מדגמים "]
["מבחני t"]
[]
["5. מבחני חי בריבוע "]
["לבדיקת הבדלים/קשר עבור"]
["משתנים קטגוריליים "]
[]
[]
[]
[]
["6. טבלאות סטטיסטיות "]
[]
[]
["7. ניתוח שונות חד כיווני ","ניתוח שונות חד כיווני ONE WAY ANOVA השוואת ממוצעים של יותר משתי קבוצות"]
[null,"ניתוח שונות חד כיווני  עם מדידות חוזרות  השוואת ממוצעים של יותר משתי מדידות     ONE WAY ANOVA with repeated measueres"]
["8. ניתוח שונות דו כיווני"]
["9. ניתוח שונות מעורב"]
["10. שלב ראשון של ניתוח רגרסייה "]

{"sheet":"oneway  (2)","index":5,"n_rows":64,"n_cols":28,"rows_kept":64,"cut":false,"hidden":false,"merged":[[25,11,25,12],[42,21,42,22],[42,26,42,27]]}
[" ניתוח שונות חד כיווני  One way anova ",null,null,null,null,"עבור השוואת ממוצעים של יותר משתי קבוצות בלתי תלוית "]
[]
["הוראות"]
["הכנס  שמות לקבוצות     "]
["הכנס את הנתונים של הנבדקים בכל אחת מהקבוצות",null,null,null,null,null,null,null,null,null,null,{"$f":"IF(COUNT(#REF!)>1,IF(#REF!>0.05,\"  אין די ראיות לקבוע שהקבוצות שונות במבחן חד צדדי \",\"יש די ראיות לקבוע שהקבוצות שונות במבחן חד צדדי\"),\"\")","v":""}]
["תוצאות  המבחן הסטטיסטי יופיעו באופן אוטומטי . בדוק את התוצאות  ותן פשרנות בהתאם "]
["להדפסת התוצאות לחץ על הדפסה "]
["לעיבוד נוסף לחץ על נקה "]
[null,null,null,null,null,null,null,null,null,null,null,null,null,"סטטיסטיקה תיאורית "]
["מס' נבדק ","קבוצה 1","קבוצה 2","קבוצה 3","קבוצה 4","קבוצה 5","קבוצה 6","קבוצה 7",null,null,null,{"$f":"B10","v":"קבוצה 1"},{"$f":"C10","v":"קבוצה 2"},"קבוצה 3","קבוצה 4","קבוצה 5","קבוצה 6","קבוצה 7"]
[1,null,null,null,null,null,null,null,null,null,"ממוצע",{"$f":"IF(COUNT(B11:B61)>0,AVERAGE(B11:B61),\"\")","v":""},{"$f":"IF(COUNT(C11:C61)>0,AVERAGE(C11:C61),\"\")","v":""},{"$f":"IF(COUNT(D11:D61)>0,AVERAGE(D11:D61),\"\")","v":""},{"$f":"IF(COUNT(E11:E61)>0,AVERAGE(E11:E61),\"\")","v":""},{"$f":"IF(COUNT(F11:F61)>0,AVERAGE(F11:F61),\"\")","v":""},{"$f":"IF(COUNT(G11:G61)>0,AVERAGE(G11:G61),\"\")","v":""},""]
[2,null,null,null,null,null,null,null,null,null,"סטיית תקן",{"$f":"IF(COUNT(B11:B61)>0,STDEV(B11:B61),\"\")","v":""},"","","","","",""]
[3,null,null,null,null,null,null,null,null,null,"מס נבדקים",{"$f":"IF(COUNT(B11:B61)>0,COUNT(B11:B61),\"\")","v":""},{"$f":"IF(COUNT(C11:C61)>0,COUNT(C11:C61),\"\")","v":""},{"$f":"IF(COUNT(D11:D61)>0,COUNT(D11:D61),\"\")","v":""},{"$f":"IF(COUNT(E11:E61)>0,COUNT(E11:E61),\"\")","v":""},{"$f":"IF(COUNT(F11:F61)>0,COUNT(F11:F61),\"\")","v":""},{"$f":"IF(COUNT(G11:G61)>0,COUNT(G11:G61),\"\")","v":""},""]
[4,null,null,null,null,null,null,null,null,null,"סכום ",{"$f":"IF(COUNT(B11:B61)>0,SUM(B11:B61),\"\")","v":""},{"$f":"IF(COUNT(C11:C61)>0,SUM(C11:C61),\"\")","v":""},{"$f":"IF(COUNT(D11:D61)>0,SUM(D11:D61),\"\")","v":""},{"$f":"IF(COUNT(E11:E61)>0,SUM(E11:E61),\"\")","v":""},{"$f":"IF(COUNT(F11:F61)>0,SUM(F11:F61),\"\")","v":""},{"$f":"IF(COUNT(G11:G61)>0,SUM(G11:G61),\"\")","v":""},""]
[5,null,null,null,null,null,null,null,null,null,"C",{"$f":"IF(COUNT(B11:B61)>0,L14^2/L13,\"\")","v":""},"","","","","",""]
[6,null,null,null,null,null,null,null,null,null,"1/n",{"$f":"IF(LEN(L11)>0,1/L13,\"\")","v":""},{"$f":"IF(LEN(M11)>0,1/M13,\"\")","v":""},"","","","",""]
[7,null,null,null,null,null,null,null,null,null,null,null,null,null,{"$f":"IF(COUNT(B11:H61)>0,SUM(B11:H61)^2/COUNT(B11:H61),\"\")","v":""},"(SSx)2 /N =","A"]
[8,null,null,null,null,null,null,null,null,null,null,null,null,null,{"$f":"IF(COUNT(B11:H61)>0,SUMSQ(B11:H61),\"\")","v":""},"SSx2","B"]
[9,null,null,null,null,null,null,null,null,null,null,null,null,null,{"$f":"IF(COUNT(B11:H61)>0,SUM(L15:R15),\"\")","v":""},"S{(Sx)2/n}","C"]
[10]
[11,null,null,null,null,null,null,null,null,null,null,null,"F","MS",null,"df",null,"SS","SV"]
[12,null,null,null,null,null,null,null,null,null,null,null,"MSb/MSw","MSb=","SSb/dfb","dfb=","q-1 =","C-A","SSb="]
[13,null,null,null,null,null,null,null,null,null,null,null,null,"MSw=","SSw/dfw","dfw=","N-q =","B-C","SSw="]
[14,null,null,null,null,null,null,null,null,null,null,null,null,null,null,"dftot=","N-1","B-A","SStot="]
[15]
[16,null,null,null,null,null,null,null,null,"h2","P","F קריטי",null,"F","MS","df",null,"SS"]
[17,null,null,null,null,null,null,null,null,{"$f":"IF(COUNT(B11:H61)>0,R27/R29,\"\")","v":""},{"$f":"IF(COUNT(B$11:H$61)>0,_xlfn.F.DIST(N27,P27,P28,FALSE),\"\")","v":""},{"$f":"IF(COUNT(B$11:H$61)>0,_xlfn.F.INV.RT(0.05,P27,P28),\"\")","v":""},0.05,{"$f":"IF(COUNT(B$11:H$61)>0,O27/O28,\"\")","v":""},{"$f":"IF(COUNT(B11:H61)>0,R27/P27,\"\")","v":""},{"$f":"IF(COUNT(B11:H61)>0,COUNT(B11:H11)-1,\"\")","v":""},"q-1 =",{"$f":"IF(COUNT(B11:H61)>0,O19-O17,\"\")","v":""},"bet"]
[18,null,null,null,null,null,null,null,null,null,null,{"$f":"IF(COUNT(B$11:H$61)>0,_xlfn.F.INV.RT(0.01,P27,P28),\"\")","v":""},0.01,null,{"$f":"IF(COUNT(B11:H61)>0,R28/P28,\"\")","v":""},{"$f":"IF(COUNT(B11:H61)>0,COUNT(B11:H61)-COUNT(B11:H11),\"\")","v":""},"N-q =",{"$f":"IF(COUNT(B11:H61)>0,O18-O19,\"\")","v":""},"within"]
[19,null,null,null,null,null,null,null,null,null,null,null,null,null,null,{"$f":"IF(COUNT(B11:H61)>0,COUNT(B11:H61)-1,\"\")","v":""},"dftot=",{"$f":"IF(COUNT(B11:H61)>0,O18-O17,\"\")","v":""},"total"]
[20]
[21,null,null,null,null,null,null,null,null,"פרשנות",null,null,null,null,null,null,null,{"$f":"IF(COUNT(B11:H26)>1,IF(K27>0.05,\"  אין די ראיות לקבוע שהקבוצות שונות זו מזו \",\"יש די ראיות לקבוע שהקבוצות שונות ויש לבצע מבחן מעקב כדי לקבוע מי שונה ממי\"),\"\")","v":""}]
[22,null,null,null,null,null,null,null,null,"h2",null,null,null,null,null,null,null,null,null,{"$f":"IF(COUNT(B11:H26)>1,CONCATENATE(J27*100,\"  \",\"אחוז מההבדלים במשתנה התלוי ניתן להסביר כתוצאה מהשייכות לקבוצות יתר השונות מוסברת באמצעות גורמים אחרים \"),\"\")","v":""}]
[23]
[24,null,null,null,null,null,null,null,null,null,"כתיבה מדעית",null,null,null,{"$f":"IF(COUNT(B11:H22)>1,IF(K27<0.01,CONCATENATE(R34,\"<0.01\"),IF(K27<0.05,CONCATENATE(R34,\"<0.05\"),CONCATENATE(R34, \">0.05\"))),\"\")","v":""},null,null,{"$f":"IF(COUNT(B11:H22)>2,CONCATENATE(\"F(\",P27,\",\",P28,\")=\",LEFT(N27,5),\",  P \"),\"\")","v":""}]
[25]
[26,null,null,null,null,null,null,null,null,null,null,null,null,"טבלת הפרשי ממוצעים "]
[27,null,null,null,null,null,null,null,null,null,null,{"$f":"L10","v":"קבוצה 1"},"קבוצה 2","קבוצה 3","קבוצה 4","קבוצה 5","קבוצה 6","קבוצה 7"]
[28,null,null,null,null,null,null,null,null,null,"ממוצע",{"$f":"IF(LEN(L11)>0,L11,\"\")","v":""},"","","","","",""]
[29,null,null,null,null,null,null,null,null,{"$f":"L10","v":"קבוצה 1"},{"$f":"IF(LEN(L11)>0,L11,\"\")","v":""},{"$f":"IF(AND(LEN(L$38)>0,LEN($K39)>0),L$38-$K39,\"\")","v":""},"","","","","","",null,null,null,null,null,null,{"$f":"INDEX('q new'!M4:U25,MATCH(P28,'q new'!L4:L25),MATCH(P27+1,'q new'!M3:U3))","v":{"$error":"#N/A"}},"Q",0.05]
[30,null,null,null,null,null,null,null,null,{"$f":"M10","v":"קבוצה 2"},{"$f":"IF(LEN(M11)>0,M11,\"\")","v":""},"","","","","","","",null,null,null,null,null,null,{"$f":"INDEX('q new'!X4:AF25,MATCH(P28,'q new'!W4:W25),MATCH(P27+1,'q new'!X3:AF3))","v":{"$error":"#N/A"}},"Q",0.01]
[31,null,null,null,null,null,null,null,null,{"$f":"N10","v":"קבוצה 3"},{"$f":"IF(LEN(N11)>0,N11,\"\")","v":""},"","","","","","",""]
[32,null,null,null,null,null,null,null,null,{"$f":"O10","v":"קבוצה 4"},{"$f":"IF(LEN(O11)>0,O11,\"\")","v":""},"","","","","","",""]
[33,null,null,null,null,null,null,null,null,{"$f":"P10","v":"קבוצה 5"},{"$f":"IF(LEN(P11)>0,P11,\"\")","v":""},"","","","","","","",null,null,null,0.05,null,null,null,null,0.01]
[34,null,null,null,null,null,null,null,null,{"$f":"Q10","v":"קבוצה 6"},{"$f":"IF(LEN(Q11)>0,Q11,\"\")","v":""},"","","","","","","",null,null,{"$f":"IF(COUNT(B11:H19)>1,$Y$39*(SQRT(($O$28/2)*($L$16+$M$16))),\"\")","v":""},null,"HSD (G1 vs G2) =",null,null,{"$f":"IF(COUNT(B11:H19)>1,$Y$40*(SQRT(($O$28/2)*($L$16+$M$16))),\"\")","v":""},null,"HSD (G1 vs G2) ="]
[35,null,null,null,null,null,null,null,null,{"$f":"R10","v":"קבוצה 7"},{"$f":"IF(LEN(R11)>0,R11,\"\")","v":""},"","","","","","","",null,null,{"$f":"IF(COUNT(B11:H19)>1,$Y39*(SQRT(($O28/2)*($L$16+$N$16))),\"\")","v":""},null,"HSD (G1 vs G3) =",null,null,{"$f":"IF(COUNT(B11:H19)>1,$Y40*(SQRT(($O28/2)*($L$16+$N$16))),\"\")","v":""},null,"HSD (G1 vs G3) ="]
[36,null,null,null,null,null,null,null,null,null,null,null,null,null,null,null,null,null,null,null,{"$f":"IF(COUNT(B11:H19)>1,$Y$39*(SQRT(($O$28/2)*($M$16+$N$16))),\"\")","v":""},null,"HSD (G2 vs G3) =",null,null,{"$f":"IF(COUNT(B11:H19)>1,$Y$40*(SQRT(($O$28/2)*($M$16+$N$16))),\"\")","v":""},null,"HSD (G2 vs G3) ="]
[37,null,null,null,null,null,null,null,null,null,null,null,null,null,null,null,null,null,null,null,{"$f":"IF(COUNT($L$13:$R$13)>3,$Y$39*(SQRT(($O$28/2)*($L$16+$O$16))),\"\")","v":""},null,"HSD (G1 vs G4) =",null,null,{"$f":"IF(COUNT($L$13:$R$13)>3,$Y$40*(SQRT(($O$28/2)*($L$16+$O$16))),\"\")","v":""},null,"HSD (G1 vs G4) ="]
[38,null,null,null,null,null,null,null,null,null,null,null,null,null,null,null,null,null,null,null,{"$f":"IF(COUNT($L$13:$R$13)>3,$Y$39*(SQRT(($O$28/2)*($M$16+$O$16))),\"\")","v":""},null,"HSD (G2 vs G4) =",null,null,{"$f":"IF(COUNT($L$13:$R$13)>3,$Y$40*(SQRT(($O$28/2)*($M$16+$O$16))),\"\")","v":""},null,"HSD (G2 vs G4) ="]
[39,null,null,null,null,null,null,null,null,null,null,null,null,null,null,null,null,null,null,null,{"$f":"IF(COUNT($L$13:$R$13)>3,$Y$39*(SQRT(($O$28/2)*($N$16+$O$16))),\"\")","v":""},null,"HSD (G3 vs G4) =",null,null,{"$f":"IF(COUNT($L$13:$R$13)>3,$Y$40*(SQRT(($O$28/2)*($N$16+$O$16))),\"\")","v":""},null,"HSD (G3 vs G4) ="]
[40,null,null,null,null,null,null,null,null,null,null,null,null,null,null,null,null,null,null,null,{"$f":"IF(COUNT($L$13:$R$13)>4,$Y$39*(SQRT(($O$28/2)*($L$16+$P$16))),\"\")","v":""},null,"HSD (G1 vs G5) =",null,null,{"$f":"IF(COUNT($L$13:$R$13)>4,$Y$40*(SQRT(($O$28/2)*($L$16+$P$16))),\"\")","v":""},null,"HSD (G1 vs G5) ="]
[41,null,null,null,null,null,null,null,null,null,null,null,null,null,null,null,null,null,null,null,{"$f":"IF(COUNT($L$13:$R$13)>4,$Y$39*(SQRT(($O$28/2)*($M$16+$P$16))),\"\")","v":""},null,"HSD (G2 vs G5) =",null,null,{"$f":"IF(COUNT($L$13:$R$13)>4,$Y$40*(SQRT(($O$28/2)*($M$16+$P$16))),\"\")","v":""},null,"HSD (G2 vs G5) ="]
[42,null,null,null,null,null,null,null,null,null,null,null,null,null,null,null,null,null,null,null,{"$f":"IF(COUNT($L$13:R$13)>4,$Y$39*(SQRT(($O$28/2)*($N$16+$P$16))),\"\")","v":""},null,"HSD (G3 vs G5) =",null,null,{"$f":"IF(COUNT($L$13:W$13)>4,$Y$40*(SQRT(($O$28/2)*($N$16+$P$16))),\"\")","v":""},null,"HSD (G3 vs G5) ="]
[43,null,null,null,null,null,null,null,null,null,null,null,null,null,null,null,null,null,null,null,{"$f":"IF(COUNT($L$13:$R$13)>4,$Y$39*(SQRT(($O$28/2)*($O$16+$P$16))),\"\")","v":""},null,"HSD (G4 vs G5) =",null,null,{"$f":"IF(COUNT($L$13:$R$13)>4,$Y$40*(SQRT(($O$28/2)*($O$16+$P$16))),\"\")","v":""},null,"HSD (G4 vs G5) ="]
[44,null,null,null,null,null,null,null,null,null,null,null,null,null,null,null,null,null,null,null,{"$f":"IF(COUNT($L$13:$R$13)>5,$Y$39*(SQRT(($O$28/2)*($L$16+$Q$16))),\"\")","v":""},null,"HSD (G1 vs G6) =",null,null,{"$f":"IF(COUNT($L$13:$R$13)>5,$Y$40*(SQRT(($O$28/2)*($L$16+$Q$16))),\"\")","v":""},null,"HSD (G1 vs G6) ="]
[45,null,null,null,null,null,null,null,null,null,null,null,null,null,null,null,null,null,null,null,{"$f":"IF(COUNT($L$13:$R$13)>5,$Y$39*(SQRT(($O$28/2)*($L$16+$Q$16))),\"\")","v":""},null,"HSD (G2 vs G6) =",null,null,{"$f":"IF(COUNT($L$13:$R$13)>5,$Y$40*(SQRT(($O$28/2)*($L$16+$Q$16))),\"\")","v":""},null,"HSD (G2 vs G6) ="]
[46,null,null,null,null,null,null,null,null,null,null,null,null,null,null,null,null,null,null,null,{"$f":"IF(COUNT($L$13:$R$13)>5,$Y$39*(SQRT(($O$28/2)*($L$16+$Q$16))),\"\")","v":""},null,"HSD (G3 vs G6) =",null,null,{"$f":"IF(COUNT($L$13:$R$13)>5,$Y$40*(SQRT(($O$28/2)*($L$16+$Q$16))),\"\")","v":""},null,"HSD (G3 vs G6) ="]
[47,null,null,null,null,null,null,null,null,null,null,null,null,null,null,null,null,null,null,null,{"$f":"IF(COUNT($L$13:$R$13)>5,$Y$39*(SQRT(($O$28/2)*($L$16+$Q$16))),\"\")","v":""},null,"HSD (G4 vs G6) =",null,null,{"$f":"IF(COUNT($L$13:$R$13)>5,$Y$40*(SQRT(($O$28/2)*($L$16+$Q$16))),\"\")","v":""},null,"HSD (G4 vs G6) ="]
[48,null,null,null,null,null,null,null,null,null,null,null,null,null,null,null,null,null,null,null,{"$f":"IF(COUNT($L$13:$R$13)>5,$Y$39*(SQRT(($O$28/2)*($L$16+$Q$16))),\"\")","v":""},null,"HSD (G5 vs G6) =",null,null,{"$f":"IF(COUNT($L$13:$R$13)>5,$Y$40*(SQRT(($O$28/2)*($L$16+$Q$16))),\"\")","v":""},null,"HSD (G5 vs G6) ="]
[49,null,null,null,null,null,null,null,null,null,null,null,null,null,null,null,null,null,null,null,{"$f":"IF(COUNT($L$13:$R$13)>6,$Y$39*(SQRT(($O$28/2)*($L$16+$R$16))),\"\")","v":""},null,"HSD (G1 vs G7) =",null,null,{"$f":"IF(COUNT($L$13:$R$13)>6,$Y$40*(SQRT(($O$28/2)*($L$16+$R$16))),\"\")","v":""},null,"HSD (G1 vs G7) ="]
[50,null,null,null,null,null,null,null,null,null,null,null,null,null,null,null,null,null,null,null,{"$f":"IF(COUNT($L$13:$R$13)>6,$Y$39*(SQRT(($O$28/2)*($L$16+$R$16))),\"\")","v":""},null,"HSD (G2 vs G7) =",null,null,{"$f":"IF(COUNT($L$13:$R$13)>6,$Y$40*(SQRT(($O$28/2)*($L$16+$R$16))),\"\")","v":""},null,"HSD (G2 vs G7) ="]
[51,null,null,null,null,null,null,null,null,null,null,null,null,null,null,null,null,null,null,null,{"$f":"IF(COUNT($L$13:$R$13)>6,$Y$39*(SQRT(($O$28/2)*($L$16+$R$16))),\"\")","v":""},null,"HSD (G3 vs G7) =",null,null,{"$f":"IF(COUNT($L$13:$R$13)>6,$Y$40*(SQRT(($O$28/2)*($L$16+$R$16))),\"\")","v":""},null,"HSD (G3 vs G7) ="]
["ממוצע",{"$f":"IF(COUNT(B11:B61)>0,AVERAGE(B11:B61),\"\")","v":""},{"$f":"IF(COUNT(C11:C61)>0,AVERAGE(C11:C61),\"\")","v":""},{"$f":"IF(COUNT(D11:D61)>0,AVERAGE(D11:D61),\"\")","v":""},{"$f":"IF(COUNT(E11:E61)>0,AVERAGE(E11:E61),\"\")","v":""},{"$f":"IF(COUNT(F11:F61)>0,AVERAGE(F11:F61),\"\")","v":""},{"$f":"IF(COUNT(G11:G61)>0,AVERAGE(G11:G61),\"\")","v":""},"",null,null,null,null,null,null,null,null,null,null,null,null,{"$f":"IF(COUNT($L$13:$R$13)>6,$Y$39*(SQRT(($O$28/2)*($L$16+$R$16))),\"\")","v":""},null,"HSD (G4 vs G7) =",null,null,{"$f":"IF(COUNT($L$13:$R$13)>6,$Y$40*(SQRT(($O$28/2)*($L$16+$R$16))),\"\")","v":""},null,"HSD (G4 vs G7) ="]
["סטיית תקן",{"$f":"IF(COUNT(B11:B61)>0,STDEV(B11:B61),\"\")","v":""},{"$f":"IF(COUNT(C11:C61)>0,STDEV(C11:C61),\"\")","v":""},{"$f":"IF(COUNT(D11:D61)>0,STDEV(D11:D61),\"\")","v":""},{"$f":"IF(COUNT(E11:E61)>0,STDEV(E11:E61),\"\")","v":""},{"$f":"IF(COUNT(F11:F61)>0,STDEV(F11:F61),\"\")","v":""},{"$f":"IF(COUNT(G11:G61)>0,STDEV(G11:G61),\"\")","v":""},"",null,null,null,null,null,null,null,null,null,null,null,null,{"$f":"IF(COUNT($L$13:$R$13)>6,$Y$39*(SQRT(($O$28/2)*($L$16+$RQ$16))),\"\")","v":""},null,"HSD (G5 vs G7) =",null,null,{"$f":"IF(COUNT($L$13:$R$13)>6,$Y$40*(SQRT(($O$28/2)*($L$16+$RQ$16))),\"\")","v":""},null,"HSD (G5 vs G7) ="]
["N",{"$f":"IF(COUNT(B11:B61)>0,COUNT(B11:B61),\"\")","v":""},{"$f":"IF(COUNT(C11:C61)>0,COUNT(C11:C61),\"\")","v":""},{"$f":"IF(COUNT(D11:D61)>0,COUNT(D11:D61),\"\")","v":""},{"$f":"IF(COUNT(E11:E61)>0,COUNT(E11:E61),\"\")","v":""},{"$f":"IF(COUNT(F11:F61)>0,COUNT(F11:F61),\"\")","v":""},{"$f":"IF(COUNT(G11:G61)>0,COUNT(G11:G61),\"\")","v":""},"",null,null,null,null,null,null,null,null,null,null,null,null,{"$f":"IF(COUNT($L$13:$R$13)>6,$Y$39*(SQRT(($O$28/2)*($L$16+$RQ$16))),\"\")","v":""},null,"HSD (G6 vs G7) =",null,null,{"$f":"IF(COUNT($L$13:$R$13)>6,$Y$40*(SQRT(($O$28/2)*($L$16+$RQ$16))),\"\")","v":""},null,"HSD (G6 vs G7) ="]

{"sheet":"oneway ","index":6,"n_rows":70,"n_cols":34,"rows_kept":70,"cut":false,"hidden":false,"merged":[[25,11,25,12],[48,21,48,22],[48,26,48,27],[43,20,43,23],[33,21,33,24]]}
[" ניתוח שונות חד כיווני  One way anova ",null,null,null,null,"עבור השוואת ממוצעים של יותר משתי קבוצות בלתי תלוית "]
[]
["הוראות"]
["הכנס  שמות לקבוצות     "]
["הכנס את הנתונים של הנבדקים בכל אחת מהקבוצות",null,null,null,null,null,null,null,null,null,null,{"$f":"IF(COUNT(#REF!)>1,IF(#REF!>0.05,\"  אין די ראיות לקבוע שהקבוצות שונות במבחן חד צדדי \",\"יש די ראיות לקבוע שהקבוצות שונות במבחן חד צדדי\"),\"\")","v":""}]
["תוצאות  המבחן הסטטיסטי יופיעו באופן אוטומטי . בדוק את התוצאות  ותן פשרנות בהתאם "]
["להדפסת התוצאות לחץ על הדפסה "]
["לעיבוד נוסף לחץ על נקה "]
[null,null,null,null,null,null,null,null,null,null,null,null,null,"סטטיסטיקה תיאורית "]
["מס' נבדק ","קבוצה 1","קבוצה 2","קבוצה 3","קבוצה 4","קבוצה 5","קבוצה 6","קבוצה 7",null,null,null,{"$f":"B10","v":"קבוצה 1"},{"$f":"C10","v":"קבוצה 2"},"קבוצה 3",{"$f":"E10","v":"קבוצה 4"},"קבוצה 5","קבוצה 6","קבוצה 7"]
[1,null,null,null,null,null,null,null,null,null,"ממוצע",{"$f":"IF(COUNT(B11:B61)>0,AVERAGE(B11:B61),\"\")","v":""},{"$f":"IF(COUNT(C11:C61)>0,AVERAGE(C11:C61),\"\")","v":""},{"$f":"IF(COUNT(D11:D61)>0,AVERAGE(D11:D61),\"\")","v":""},{"$f":"IF(COUNT(E11:E61)>0,AVERAGE(E11:E61),\"\")","v":""},{"$f":"IF(COUNT(F11:F61)>0,AVERAGE(F11:F61),\"\")","v":""},{"$f":"IF(COUNT(G11:G61)>0,AVERAGE(G11:G61),\"\")","v":""},""]
[2,null,null,null,null,null,null,null,null,null,"סטיית תקן",{"$f":"IF(COUNT(B11:B61)>0,STDEV(B11:B61),\"\")","v":""},"","","","","",""]
[3,null,null,null,null,null,null,null,null,null,"מס נבדקים",{"$f":"IF(COUNT(B11:B61)>0,COUNT(B11:B61),\"\")","v":""},{"$f":"IF(COUNT(C11:C61)>0,COUNT(C11:C61),\"\")","v":""},{"$f":"IF(COUNT(D11:D61)>0,COUNT(D11:D61),\"\")","v":""},{"$f":"IF(COUNT(E11:E61)>0,COUNT(E11:E61),\"\")","v":""},{"$f":"IF(COUNT(F11:F61)>0,COUNT(F11:F61),\"\")","v":""},{"$f":"IF(COUNT(G11:G61)>0,COUNT(G11:G61),\"\")","v":""},""]
[4,null,null,null,null,null,null,null,null,null,"סכום ",{"$f":"IF(COUNT(B11:B61)>0,SUM(B11:B61),\"\")","v":""},{"$f":"IF(COUNT(C11:C61)>0,SUM(C11:C61),\"\")","v":""},{"$f":"IF(COUNT(D11:D61)>0,SUM(D11:D61),\"\")","v":""},{"$f":"IF(COUNT(E11:E61)>0,SUM(E11:E61),\"\")","v":""},{"$f":"IF(COUNT(F11:F61)>0,SUM(F11:F61),\"\")","v":""},{"$f":"IF(COUNT(G11:G61)>0,SUM(G11:G61),\"\")","v":""},""]
[5,null,null,null,null,null,null,null,null,null,"C",{"$f":"IF(COUNT(B11:B61)>0,L14^2/L13,\"\")","v":""},"","","","","",""]
[6,null,null,null,null,null,null,null,null,null,"1/n",{"$f":"IF(LEN(L11)>0,1/L13,\"\")","v":""},{"$f":"IF(LEN(M11)>0,1/M13,\"\")","v":""},"","","","",""]
[7,null,null,null,null,null,null,null,null,null,null,null,null,null,{"$f":"IF(COUNT(B11:H61)>0,SUM(B11:H61)^2/COUNT(B11:H61),\"\")","v":""},"(SSx)2 /N =","A"]
[8,null,null,null,null,null,null,null,null,null,null,null,null,null,{"$f":"IF(COUNT(B11:H61)>0,SUMSQ(B11:H61),\"\")","v":""},"SSx2","B"]
[9,null,null,null,null,null,null,null,null,null,null,null,null,null,{"$f":"IF(COUNT(B11:H61)>0,SUM(L15:R15),\"\")","v":""},"S{(Sx)2/n}","C"]
[10]
[11,null,null,null,null,null,null,null,null,null,null,null,"F","MS",null,"df",null,"SS","SV"]
[12,null,null,null,null,null,null,null,null,null,null,null,"MSb/MSw","MSb=","SSb/dfb","dfb=","q-1 =","C-A","SSb="]
[13,null,null,null,null,null,null,null,null,null,null,null,null,"MSw=","SSw/dfw","dfw=","N-q =","B-C","SSw="]
[14,null,null,null,null,null,null,null,null,null,null,null,null,null,null,"dftot=","N-1","B-A","SStot="]
[15]
[16,null,null,null,null,null,null,null,null,"h2","P","F קריטי",null,"F","MS","df",null,"SS"]
[17,null,null,null,null,null,null,null,null,{"$f":"IF(COUNT(B11:H61)>0,R27/R29,\"\")","v":""},{"$f":"IF(COUNT(B$11:H$61)>0,FDIST(N27,P27,P28),\"\")","v":""},{"$f":"IF(COUNT(B$11:H$61)>0,FINV(0.05,P27,P28),\"\")","v":""},0.05,{"$f":"IF(COUNT(B$11:H$61)>0,O27/O28,\"\")","v":""},{"$f":"IF(COUNT(B11:H61)>0,R27/P27,\"\")","v":""},{"$f":"IF(COUNT(B11:H61)>0,COUNT(B11:H11)-1,\"\")","v":""},"q-1 =",{"$f":"IF(COUNT(B11:H61)>0,O19-O17,\"\")","v":""},"bet"]
[18,null,null,null,null,null,null,null,null,null,null,{"$f":"IF(COUNT(B$11:H$61)>0,FINV(0.01,P27,P28),\"\")","v":""},0.01,null,{"$f":"IF(COUNT(B11:H61)>0,R28/P28,\"\")","v":""},{"$f":"IF(COUNT(B11:H61)>0,COUNT(B11:H61)-COUNT(B11:H11),\"\")","v":""},"N-q =",{"$f":"IF(COUNT(B11:H61)>0,O18-O19,\"\")","v":""},"within"]
[19,null,null,null,null,null,null,null,null,null,null,null,null,null,null,{"$f":"IF(COUNT(B11:H61)>0,COUNT(B11:H61)-1,\"\")","v":""},"dftot=",{"$f":"IF(COUNT(B11:H61)>0,O18-O17,\"\")","v":""},"total"]
[20]
[21,null,null,null,null,null,null,null,null,"פרשנות",null,null,null,null,null,null,null,{"$f":"IF(COUNT(B11:H26)>1,IF(K27>0.05,\"  אין די ראיות לקבוע שהקבוצות שונות זו מזו \",\"יש די ראיות לקבוע שהקבוצות שונות ויש לבצע מבחן מעקב כדי לקבוע מי שונה ממי\"),\"\")","v":""}]
[22,null,null,null,null,null,null,null,null,"h2",null,null,null,null,null,null,null,null,null,{"$f":"IF(COUNT(B11:H26)>1,CONCATENATE(J27*100,\"  \",\"אחוז מההבדלים במשתנה התלוי ניתן להסביר כתוצאה מהשייכות לקבוצות יתר השונות מוסברת באמצעות גורמים אחרים \"),\"\")","v":""}]
[23]
[24,null,null,null,null,null,null,null,null,null,"כתיבה מדעית",null,null,null,{"$f":"IF(COUNT(B11:H22)>1,IF(K27<0.01,CONCATENATE(R34,\"<0.01\"),IF(K27<0.05,CONCATENATE(R34,\"<0.05\"),CONCATENATE(R34, \">0.05\"))),\"\")","v":""},null,null,{"$f":"IF(COUNT(B11:H22)>2,CONCATENATE(\"F(\",P27,\",\",P28,\")=\",LEFT(N27,5),\",  P \"),\"\")","v":""},null,null,null,"פוסט הוק ( post hoc  ) עבור מספר נבדקים  שווה "]
[25,null,null,null,null,null,null,null,null,null,null,null,null,null,null,null,null,null,null,null,"tukey",null,null,null,null,"scheffe"]
[26,null,null,null,null,null,null,null,null,null,null,null,null,"טבלת הפרשי ממוצעים "]
[27,null,null,null,null,null,null,null,null,null,null,{"$f":"L10","v":"קבוצה 1"},"קבוצה 2","קבוצה 3","קבוצה 4","קבוצה 5","קבוצה 6","קבוצה 7"]
[28,null,null,null,null,null,null,null,null,null,"ממוצע",{"$f":"IF(LEN(L11)>0,L11,\"\")","v":""},"","","","","",""]
[29,null,null,null,null,null,null,null,null,{"$f":"L10","v":"קבוצה 1"},{"$f":"IF(LEN(L11)>0,L11,\"\")","v":""},{"$f":"IF(AND(LEN(L$38)>0,LEN($K39)>0),L$38-$K39,\"\")","v":""},"","","","","","",null,"Tukey",null,null,null,"sheffe"]
[30,null,null,null,null,null,null,null,null,{"$f":"M10","v":"קבוצה 2"},{"$f":"IF(LEN(M11)>0,M11,\"\")","v":""},"","","","","","","",null,null,"√MSW/n","MSw/n","q",null,null,"2MSw/n",null,"I-1",null,null,null,null,"I"]
[31,null,null,null,null,null,null,null,null,{"$f":"N10","v":"קבוצה 3"},{"$f":"IF(LEN(N11)>0,N11,\"\")","v":""},"","","","","","","",null,{"$f":"IF(COUNT(B11:H19)>1,U41*W41,\"\")","v":""},{"$f":"IF(COUNT(B11:H19)>1,SQRT(($O$28/L13)),\"\")","v":""},{"$f":"IF(COUNT(B11:H19)>1,($O$28/L13),\"\")","v":""},{"$f":"Z46","v":""},{"$f":"IF(COUNT(B11:H19)>1,SQRT((COUNT(B11:H11)-1)*L27*((2*O28)/L13)),\"\")","v":""},"=",{"$f":"IF(COUNT(B11:H19)>1,((2*O28)/L13),\"\")","v":""},{"$f":"IF(COUNT(B11:H19)>1,L27,\"\")","v":""},{"$f":"IF(COUNT(B11:H19)>1,COUNT(B11:H11)-1,\"\")","v":""},"I 0.05=",null,null,null,"הכנס גודל מדגמים"]
[32,null,null,null,null,null,null,null,null,{"$f":"O10","v":"קבוצה 4"},{"$f":"IF(LEN(O11)>0,O11,\"\")","v":""},"","","","","","","",null,{"$f":"IF(COUNT(B12:H20)>1,U42*W42,\"\")","v":""},{"$f":"IF(COUNT(B11:H19)>1,SQRT(($O$28/L13)),\"\")","v":""},{"$f":"IF(COUNT(B11:H19)>1,($O$28/L13),\"\")","v":""},{"$f":"Z47","v":""},{"$f":"IF(COUNT(B11:H19)>1,SQRT((COUNT(B11:H11)-1)*L28*((2*O28)/L13)),\"\")","v":""},"=",{"$f":"IF(COUNT(B11:H19)>1,((2*O28)/L13),\"\")","v":""},{"$f":"L28","v":""},{"$f":"IF(COUNT(B11:H19)>1,COUNT(B11:H11)-1,\"\")","v":""},"I 0.01=",null,null,null,null,"n1"]
[33,null,null,null,null,null,null,null,null,{"$f":"P10","v":"קבוצה 5"},{"$f":"IF(LEN(P11)>0,P11,\"\")","v":""},"","","","","","","",null,null,null,null,null,null,null,null,null,null,null,null,null,null,null,"n2"]
[34,null,null,null,null,null,null,null,null,{"$f":"Q10","v":"קבוצה 6"},{"$f":"IF(LEN(Q11)>0,Q11,\"\")","v":""},"","","","","","","",null,null,"טוקי עבור מספר נבדקים לא שווה "]
[35,null,null,null,null,null,null,null,null,{"$f":"R10","v":"קבוצה 7"},{"$f":"IF(LEN(R11)>0,R11,\"\")","v":""},"","","","","","","",null,null,null,null,null,null,null,null,null,null,null,null,null,null,{"$f":"IF(COUNT(B11:H19)>1,SQRT(AB41*AA41*O28*(1/AG42+1/AG43)),\"\")","v":""},"I, 0.05="]
[36,null,null,null,null,null,null,null,null,null,null,null,null,null,null,null,null,null,null,null,null,null,null,null,null,{"$f":"IF(COUNT(B11:H20)>1,INDEX('q new'!M4:U25,MATCH(P28,'q new'!L4:L25),MATCH(P27+1,'q new'!M3:U3)),\"\")","v":""},"Q",0.05,null,null,null,null,{"$f":"IF(COUNT(B11:H19)>1,SQRT(AB41*AA42*O28*(1/AG42+1/AG43)),\"\")","v":""},"I, 0.01="]
[37,null,null,null,null,null,null,null,null,null,null,null,null,null,null,null,null,null,null,null,null,null,null,null,null,{"$f":"IF(COUNT(B11:H20)>1,INDEX('q new'!X4:AF25,MATCH(P28,'q new'!W4:W25),MATCH(P27+1,'q new'!X3:AF3)),\"\")","v":""},"Q",0.01]
[38]
[39,null,null,null,null,null,null,null,null,null,null,null,null,null,null,null,null,null,null,null,null,0.05,null,null,null,null,0.01]
[40,null,null,null,null,null,null,null,null,null,null,null,null,null,null,null,null,null,null,null,{"$f":"IF(COUNT(B11:H19)>1,$Z$46*(SQRT(($O$28/2)*($L$16+$M$16))),\"\")","v":""},null,"HSD (G1 vs G2) =",null,null,{"$f":"IF(COUNT(B11:H19)>1,$Z$47*(SQRT(($O$28/2)*($L$16+$M$16))),\"\")","v":""},null,"HSD (G1 vs G2) ="]
[41,null,null,null,null,null,null,null,null,null,null,null,null,null,null,null,null,null,null,null,{"$f":"IF(COUNT(B11:H19)>1,$Z46*(SQRT(($O28/2)*($L$16+$N$16))),\"\")","v":""},null,"HSD (G1 vs G3) =",null,null,{"$f":"IF(COUNT(B11:H19)>1,$Z47*(SQRT(($O28/2)*($L$16+$N$16))),\"\")","v":""},null,"HSD (G1 vs G3) ="]
[42,null,null,null,null,null,null,null,null,null,null,null,null,null,null,null,null,null,null,null,{"$f":"IF(COUNT(B11:H19)>1,$Z$46*(SQRT(($O$28/2)*($M$16+$N$16))),\"\")","v":""},null,"HSD (G2 vs G3) =",null,null,{"$f":"IF(COUNT(B11:H19)>1,$Z$47*(SQRT(($O$28/2)*($M$16+$N$16))),\"\")","v":""},null,"HSD (G2 vs G3) ="]
[43,null,null,null,null,null,null,null,null,null,null,null,null,null,null,null,null,null,null,null,{"$f":"IF(COUNT($L$13:$R$13)>3,$Z$46*(SQRT(($O$28/2)*($L$16+$O$16))),\"\")","v":""},null,"HSD (G1 vs G4) =",null,null,{"$f":"IF(COUNT($L$13:$R$13)>3,$Z$47*(SQRT(($O$28/2)*($L$16+$O$16))),\"\")","v":""},null,"HSD (G1 vs G4) ="]
[44,null,null,null,null,null,null,null,null,null,null,null,null,null,null,null,null,null,null,null,{"$f":"IF(COUNT($L$13:$R$13)>3,$Z$46*(SQRT(($O$28/2)*($M$16+$O$16))),\"\")","v":""},null,"HSD (G2 vs G4) =",null,null,{"$f":"IF(COUNT($L$13:$R$13)>3,$Z$47*(SQRT(($O$28/2)*($M$16+$O$16))),\"\")","v":""},null,"HSD (G2 vs G4) ="]
[45,null,null,null,null,null,null,null,null,null,null,null,null,null,null,null,null,null,null,null,{"$f":"IF(COUNT($L$13:$R$13)>3,$Z$46*(SQRT(($O$28/2)*($N$16+$O$16))),\"\")","v":""},null,"HSD (G3 vs G4) =",null,null,{"$f":"IF(COUNT($L$13:$R$13)>3,$Z$47*(SQRT(($O$28/2)*($N$16+$O$16))),\"\")","v":""},null,"HSD (G3 vs G4) ="]
[46,null,null,null,null,null,null,null,null,null,null,null,null,null,null,null,null,null,null,null,{"$f":"IF(COUNT($L$13:$R$13)>4,$Z$46*(SQRT(($O$28/2)*($L$16+$P$16))),\"\")","v":""},null,"HSD (G1 vs G5) =",null,null,{"$f":"IF(COUNT($L$13:$R$13)>4,$Z$47*(SQRT(($O$28/2)*($L$16+$P$16))),\"\")","v":""},null,"HSD (G1 vs G5) ="]
[47,null,null,null,null,null,null,null,null,null,null,null,null,null,null,null,null,null,null,null,{"$f":"IF(COUNT($L$13:$R$13)>4,$Z$46*(SQRT(($O$28/2)*($M$16+$P$16))),\"\")","v":""},null,"HSD (G2 vs G5) =",null,null,{"$f":"IF(COUNT($L$13:$R$13)>4,$Z$47*(SQRT(($O$28/2)*($M$16+$P$16))),\"\")","v":""},null,"HSD (G2 vs G5) ="]
[48,null,null,null,null,null,null,null,null,null,null,null,null,null,null,null,null,null,null,null,{"$f":"IF(COUNT($L$13:R$13)>4,$Z$46*(SQRT(($O$28/2)*($N$16+$P$16))),\"\")","v":""},null,"HSD (G3 vs G5) =",null,null,{"$f":"IF(COUNT($L$13:W$13)>4,$Z$47*(SQRT(($O$28/2)*($N$16+$P$16))),\"\")","v":""},null,"HSD (G3 vs G5) ="]
[49,null,null,null,null,null,null,null,null,null,null,null,null,null,null,null,null,null,null,null,{"$f":"IF(COUNT($L$13:$R$13)>4,$Z$46*(SQRT(($O$28/2)*($O$16+$P$16))),\"\")","v":""},null,"HSD (G4 vs G5) =",null,null,{"$f":"IF(COUNT($L$13:$R$13)>4,$Z$47*(SQRT(($O$28/2)*($O$16+$P$16))),\"\")","v":""},null,"HSD (G4 vs G5) ="]
[50,null,null,null,null,null,null,null,null,null,null,null,null,null,null,null,null,null,null,null,{"$f":"IF(COUNT($L$13:$R$13)>5,$Z$46*(SQRT(($O$28/2)*($L$16+$Q$16))),\"\")","v":""},null,"HSD (G1 vs G6) =",null,null,{"$f":"IF(COUNT($L$13:$R$13)>5,$Z$47*(SQRT(($O$28/2)*($L$16+$Q$16))),\"\")","v":""},null,"HSD (G1 vs G6) ="]
[51,null,null,null,null,null,null,null,null,null,null,null,null,null,null,null,null,null,null,null,{"$f":"IF(COUNT($L$13:$R$13)>5,$Z$46*(SQRT(($O$28/2)*($L$16+$Q$16))),\"\")","v":""},null,"HSD (G2 vs G6) =",null,null,{"$f":"IF(COUNT($L$13:$R$13)>5,$Z$47*(SQRT(($O$28/2)*($L$16+$Q$16))),\"\")","v":""},null,"HSD (G2 vs G6) ="]
["ממוצע",{"$f":"IF(COUNT(B11:B61)>0,AVERAGE(B11:B61),\"\")","v":""},{"$f":"IF(COUNT(C11:C61)>0,AVERAGE(C11:C61),\"\")","v":""},{"$f":"IF(COUNT(D11:D61)>0,AVERAGE(D11:D61),\"\")","v":""},{"$f":"IF(COUNT(E11:E61)>0,AVERAGE(E11:E61),\"\")","v":""},{"$f":"IF(COUNT(F11:F61)>0,AVERAGE(F11:F61),\"\")","v":""},{"$f":"IF(COUNT(G11:G61)>0,AVERAGE(G11:G61),\"\")","v":""},"",null,null,null,null,null,null,null,null,null,null,null,null,{"$f":"IF(COUNT($L$13:$R$13)>5,$Z$46*(SQRT(($O$28/2)*($L$16+$Q$16))),\"\")","v":""},null,"HSD (G3 vs G6) =",null,null,{"$f":"IF(COUNT($L$13:$R$13)>5,$Z$47*(SQRT(($O$28/2)*($L$16+$Q$16))),\"\")","v":""},null,"HSD (G3 vs G6) ="]
["סטיית תקן",{"$f":"IF(COUNT(B11:B61)>0,STDEV(B11:B61),\"\")","v":""},{"$f":"IF(COUNT(C11:C61)>0,STDEV(C11:C61),\"\")","v":""},{"$f":"IF(COUNT(D11:D61)>0,STDEV(D11:D61),\"\")","v":""},{"$f":"IF(COUNT(E11:E61)>0,STDEV(E11:E61),\"\")","v":""},{"$f":"IF(COUNT(F11:F61)>0,STDEV(F11:F61),\"\")","v":""},{"$f":"IF(COUNT(G11:G61)>0,STDEV(G11:G61),\"\")","v":""},"",null,null,null,null,null,null,null,null,null,null,null,null,{"$f":"IF(COUNT($L$13:$R$13)>5,$Z$46*(SQRT(($O$28/2)*($L$16+$Q$16))),\"\")","v":""},null,"HSD (G4 vs G6) =",null,null,{"$f":"IF(COUNT($L$13:$R$13)>5,$Z$47*(SQRT(($O$28/2)*($L$16+$Q$16))),\"\")","v":""},null,"HSD (G4 vs G6) ="]
["N",{"$f":"IF(COUNT(B11:B61)>0,COUNT(B11:B61),\"\")","v":""},{"$f":"IF(COUNT(C11:C61)>0,COUNT(C11:C61),\"\")","v":""},{"$f":"IF(COUNT(D11:D61)>0,COUNT(D11:D61),\"\")","v":""},{"$f":"IF(COUNT(E11:E61)>0,COUNT(E11:E61),\"\")","v":""},{"$f":"IF(COUNT(F11:F61)>0,COUNT(F11:F61),\"\")","v":""},{"$f":"IF(COUNT(G11:G61)>0,COUNT(G11:G61),\"\")","v":""},"",null,null,null,null,null,null,null,null,null,null,null,null,{"$f":"IF(COUNT($L$13:$R$13)>5,$Z$46*(SQRT(($O$28/2)*($L$16+$Q$16))),\"\")","v":""},null,"HSD (G5 vs G6) =",null,null,{"$f":"IF(COUNT($L$13:$R$13)>5,$Z$47*(SQRT(($O$28/2)*($L$16+$Q$16))),\"\")","v":""},null,"HSD (G5 vs G6) ="]
[null,null,null,null,null,null,null,null,null,null,null,null,null,null,null,null,null,null,null,null,{"$f":"IF(COUNT($L$13:$R$13)>6,$Z$46*(SQRT(($O$28/2)*($L$16+$R$16))),\"\")","v":""},null,"HSD (G1 vs G7) =",null,null,{"$f":"IF(COUNT($L$13:$R$13)>6,$Z$47*(SQRT(($O$28/2)*($L$16+$R$16))),\"\")","v":""},null,"HSD (G1 vs G7) ="]
[null,null,null,null,null,null,null,null,null,null,null,null,null,null,null,null,null,null,null,null,{"$f":"IF(COUNT($L$13:$R$13)>6,$Z$46*(SQRT(($O$28/2)*($L$16+$R$16))),\"\")","v":""},null,"HSD (G2 vs G7) =",null,null,{"$f":"IF(COUNT($L$13:$R$13)>6,$Z$47*(SQRT(($O$28/2)*($L$16+$R$16))),\"\")","v":""},null,"HSD (G2 vs G7) ="]
[null,null,null,null,null,null,null,null,null,null,null,null,null,null,null,null,null,null,null,null,{"$f":"IF(COUNT($L$13:$R$13)>6,$Z$46*(SQRT(($O$28/2)*($L$16+$R$16))),\"\")","v":""},null,"HSD (G3 vs G7) =",null,null,{"$f":"IF(COUNT($L$13:$R$13)>6,$Z$47*(SQRT(($O$28/2)*($L$16+$R$16))),\"\")","v":""},null,"HSD (G3 vs G7) ="]
[null,null,null,null,null,null,null,null,null,null,null,null,null,null,null,null,null,null,null,null,{"$f":"IF(COUNT($L$13:$R$13)>6,$Z$46*(SQRT(($O$28/2)*($L$16+$R$16))),\"\")","v":""},null,"HSD (G4 vs G7) =",null,null,{"$f":"IF(COUNT($L$13:$R$13)>6,$Z$47*(SQRT(($O$28/2)*($L$16+$R$16))),\"\")","v":""},null,"HSD (G4 vs G7) ="]
[null,null,null,null,null,null,null,null,null,null,null,null,null,null,null,null,null,null,null,null,{"$f":"IF(COUNT($L$13:$R$13)>6,$Z$46*(SQRT(($O$28/2)*($L$16+$RQ$16))),\"\")","v":""},null,"HSD (G5 vs G7) =",null,null,{"$f":"IF(COUNT($L$13:$R$13)>6,$Z$47*(SQRT(($O$28/2)*($L$16+$RQ$16))),\"\")","v":""},null,"HSD (G5 vs G7) ="]
[null,null,null,null,null,null,null,null,null,null,null,null,null,null,null,null,null,null,null,null,{"$f":"IF(COUNT($L$13:$R$13)>6,$Z$46*(SQRT(($O$28/2)*($L$16+$RQ$16))),\"\")","v":""},null,"HSD (G6 vs G7) =",null,null,{"$f":"IF(COUNT($L$13:$R$13)>6,$Z$47*(SQRT(($O$28/2)*($L$16+$RQ$16))),\"\")","v":""},null,"HSD (G6 vs G7) ="]

{"sheet":"q new","index":7,"n_rows":28,"n_cols":32,"rows_kept":28,"cut":false,"hidden":false,"merged":[[7,0,8,0],[5,0,6,0],[5,6,6,6],[1,0,2,0],[1,1,1,9],[3,0,4,0],[3,1,4,1],[1,12,1,20],[1,22,2,22],[1,23,1,31],[5,7,6,7],[5,8,6,8]]}
[]
["לטווח שגיאה","k= Number of Treatments K = מספר הטיפולים",null,null,null,null,null,null,null,null,null,"לטווח שגיאה","k= Number of Treatments K = מספר הטיפולים 0.05",null,null,null,null,null,null,null,null,null,"לטווח שגיאה","k= Number of Treatments K = מספר הטיפולים 0.01"]
[null,"2 2","3 3","4 4","5 5","6 6","7 7","3 3","9 9","10 10",null,"K",2,3,4,5,6,7,8,9,10,null,null,2,3,4,5,6,7,8,9,10]
["5 5","3.64 5.70 3.64 5.70","4.60 6.98","5.22  7.80","5.67 8.42 5.67 8.42","6.03 8.91 6.03 8.91","6.33 9.32","6.58 9.67 6.58 9.67","6.80 9.97 6.80 9.97","6.99 10.24",null,5,{"$f":"LEFT(B4,4)","v":"3.64"},{"$f":"LEFT(C4,4)","v":"4.60"},{"$f":"LEFT(D4,4)","v":"5.22"},{"$f":"LEFT(E4,4)","v":"5.67"},{"$f":"LEFT(F4,4)","v":"6.03"},{"$f":"LEFT(G4,4)","v":"6.33"},{"$f":"LEFT(H4,4)","v":"6.58"},{"$f":"LEFT(I4,4)","v":"6.80"},{"$f":"LEFT(J4,4)","v":"6.99"},null,5,{"$f":"RIGHT(B4,4)","v":"5.70"},{"$f":"RIGHT(C4,4)","v":"6.98"},"7.80","8.42","8.91","9.32","9.67","9.97",{"$f":"RIGHT(J4,5)","v":"10.24"}]
[null,null,"6.98 6.98","7.80 7.80",null,null,"9.32 9.32",null,null,"10.24 10.24",null,6,{"$f":"LEFT(B6,4)","v":"3.46"},"4.34","4.90","5.30","5.63","5.90","6.12","6.32","6.49",null,6,{"$f":"RIGHT(B6,4)","v":"5.24"},"6.33","7.03","7.56","7.97","8.32","8.61","8.87","9.10"]
["6 6","3.46 5.24 3.46 5.24","4.34 6.33 4.34 6.33","4.90 7.03 4.90 7.03","5.30 7.56 5.30 7.56","5.63  7.97","5.90 8.32 5.90 8.32","6.12 8.61 6.12 8.61","6.32 8.87 6.32 8.87","6.49 9.10",null,7,{"$f":"LEFT(B8,4)","v":"3.34"},"4.16","4.68","5.06","5.36","5.61","5.82","6.00","6.16",null,7,{"$f":"RIGHT(B8,4)","v":"4.95"},"5.92","6.54","7.01","7.37","7.68","7.94","8.17","8.37"]
[null,null,null,null,null,"7.97 7.97",null,null,null,"9.10 9.10",null,8,{"$f":"LEFT(B10,4)","v":"3.26"},{"$f":"LEFT(C10,4)","v":"4.04"},{"$f":"LEFT(D10,4)","v":"4.53"},{"$f":"LEFT(E10,4)","v":"4.89"},{"$f":"LEFT(F10,4)","v":"5.17"},{"$f":"LEFT(G10,4)","v":"5.40"},{"$f":"LEFT(H10,4)","v":"5.60"},{"$f":"LEFT(I10,4)","v":"5.77"},{"$f":"LEFT(J10,4)","v":"5.92"},null,8,{"$f":"RIGHT(B10,4)","v":"4.75"},{"$f":"RIGHT(C10,4)","v":"5.64"},{"$f":"RIGHT(D10,4)","v":"6.20"},{"$f":"RIGHT(E10,4)","v":"6.62"},{"$f":"RIGHT(F10,4)","v":"6.96"},{"$f":"RIGHT(G10,4)","v":"7.24"},{"$f":"RIGHT(H10,4)","v":"7.47"},{"$f":"RIGHT(I10,4)","v":"7.68"},{"$f":"RIGHT(J10,4)","v":"7.86"}]
["7 7","3.34 4.95 3.34 4.95","4.16 5.92 4.16 5.92","4.68 6.54 4.68 6.54","5.06 7.01 5.06 7.01","5.36 7.37 5.36 7.37","5.61 7.68 5.61 7.68","5.82 7.94","6.00 8.17","6.16 8.37",null,9,"3.20","3.95","4.41","4.76","5.02","5.24","5.43","5.59","5.74",null,9,"4.60","5.43","5.96","6.35","6.66","6.91","7.13","7.33","7.49"]
[null,null,null,null,null,null,null,"7.94 7.94","8.17 8.17","8.37 8.37",null,10,"3.15","3.88","4.33","4.65","4.91","5.12","5.30","5.46","5.60",null,10,"4.48","5.27","5.77","6.14","6.43","6.67","6.87","7.05","7.21"]
["8 8","3.26 4.75 3.26 4.75","4.04 5.64 4.04 5.64","4.53 6.20 4.53 6.20","4.89 6.62 4.89 6.62","5.17 6.96 5.17 6.96","5.40 7.24 5.40 7.24","5.60 7.47 5.60 7.47","5.77 7.68 5.77 7.68","5.92 7.86 5.92 7.86",null,11,"3.11","3.82","4.26","4.57","4.82","5.03","5.20","5.35","5.49",null,11,"4.39","5.15","5.62","5.97","6.25","6.48","6.67","6.84","6.99"]
["9 9","3.20 4.60 3.20 4.60","3.95 5.43 3.95 5.43","4.41 5.96 4.41 5.96","4.76 6.35 4.76 6.35","5.02 6.66 5.02 6.66","5.24 6.91 5.24 6.91","5.43 7.13 5.43 7.13","5.59 7.33 5.59 7.33","5.74 7.49 5.74 7.49",null,12,"3.08","3.77","4.20","4.51","4.75","4.95","5.12","5.27","5.39",null,12,"4.32","5.05","5.50","5.84","6.10","6.32","6.51","6.67","6.81"]
["10 10","3.15 4.48 3.15 4.48","3.88 5.27 3.88 5.27","4.33 5.77 4.33 5.77","4.65 6.14 4.65 6.14","4.91 6.43 4.91 6.43","5.12 6.67 5.12 6.67","5.30 6.87 5.30 6.87","5.46 7.05 5.46 7.05","5.60 7.21 5.60 7.21",null,13,"3.06","3.73","4.15","4.45","4.69","4.88","5.05","5.19","5.32",null,13,"4.26","4.96","5.40","5.73","5.98","6.19","6.37","6.53","6.67"]
["11 11","3.11 4.39 3.11 4.39","3.82 5.15 3.82 5.15","4.26 5.62 4.26 5.62","4.57 5.97 4.57 5.97","4.82 6.25 4.82 6.25","5.03 6.48 5.03 6.48","5.20 6.67 5.20 6.67","5.35 6.84 5.35 6.84","5.49 6.99 5.49 6.99",null,14,"3.03","3.70","4.11","4.41","4.64","4.83","4.99","5.13","5.25",null,14,"4.21","4.89","5.32","5.63","5.88","6.08","6.26","6.41","6.54"]
["12 12","3.08 4.32 3.08 4.32","3.77 5.05 3.77 5.05","4.20 5.50 4.20 5.50","4.51 5.84 4.51 5.84","4.75 6.10 4.75 6.10","4.95 6.32 4.95 6.32","5.12 6.51 5.12 6.51","5.27 6.67 5.27 6.67","5.39 6.81 5.39 6.81",null,15,"3.01","3.67","4.08","4.37","4.59","4.78","4.94","5.08","5.20",null,15,"4.17","4.84","5.25","5.56","5.80","5.99","6.16","6.31","6.44"]
["13 13","3.06 4.26 3.06 4.26","3.73 4.96 3.73 4.96","4.15 5.40 4.15 5.40","4.45 5.73 4.45 5.73","4.69 5.98 4.69 5.98","4.88 6.19 4.88 6.19","5.05 6.37 5.05 6.37","5.19 6.53 5.19 6.53","5.32 6.67 5.32 6.67",null,16,"3.00","3.65","4.05","4.33","4.56","4.74","4.90","5.03","5.15",null,16,"4.13","4.79","5.19","5.49","5.72","5.92","6.08","6.22","6.35"]
["14 14","3.03 4.21 3.03 4.21","3.70 4.89 3.70 4.89","4.11 5.32 4.11 5.32","4.41 5.63 4.41 5.63","4.64 5.88 4.64 5.88","4.83 6.08 4.83 6.08","4.99 6.26 4.99 6.26","5.13 6.41 5.13 6.41","5.25 6.54 5.25 6.54",null,17,"2.98","3.63","4.02","4.30","4.52","4.70","4.86","4.99","5.11",null,17,"4.10","4.74","5.14","5.43","5.66","5.85","6.01","6.15","6.27"]
["15 15","3.01 4.17 3.01 4.17","3.67 4.84 3.67 4.84","4.08 5.25 4.08 5.25","4.37 5.56 4.37 5.56","4.59 5.80 4.59 5.80","4.78 5.99 4.78 5.99","4.94 6.16 4.94 6.16","5.08 6.31 5.08 6.31","5.20 6.44 5.20 6.44",null,18,"2.97","3.61","4.00","4.28","4.49","4.67","4.82","4.96","5.07",null,18,"4.07","4.70","5.09","5.38","5.60","5.79","5.94","6.08","6.20"]
["16 16","3.00 4.13 3.00 4.13","3.65 4.79 3.65 4.79","4.05 5.19 4.05 5.19","4.33 5.49 4.33 5.49","4.56 5.72 4.56 5.72","4.74 5.92 4.74 5.92","4.90 6.08 4.90 6.08","5.03 6.22 5.03 6.22","5.15 6.35 5.15 6.35",null,19,"2.96","3.59","3.98","4.25","4.47","4.65","4.79","4.92","5.04",null,19,"4.05","4.67","5.05","5.33","5.55","5.73","5.89","6.02","6.14"]
["17 17","2.98 4.10 2.98 4.10","3.63 4.74 3.63 4.74","4.02 5.14 4.02 5.14","4.30 5.43 4.30 5.43","4.52 5.66 4.52 5.66","4.70 5.85 4.70 5.85","4.86 6.01 4.86 6.01","4.99 6.15 4.99 6.15","5.11 6.27 5.11 6.27",null,20,"2.95","3.58","3.96","4.23","4.45","4.62","4.77","4.90","5.01",null,20,"4.02","4.64","5.02","5.29","5.51","5.69","5.84","5.97","6.09"]
["18 18","2.97 4.07 2.97 4.07","3.61 4.70 3.61 4.70","4.00 5.09 4.00 5.09","4.28 5.38 4.28 5.38","4.49 5.60 4.49 5.60","4.67 5.79 4.67 5.79","4.82 5.94 4.82 5.94","4.96 6.08 4.96 6.08","5.07 6.20 5.07 6.20",null,24,"2.92","3.53","3.90","4.17","4.37","4.54","4.68","4.81","4.92",null,24,"3.96","4.55","4.91","5.17","5.37","5.54","5.69","5.81","5.92"]
["19 19","2.96 4.05 2.96 4.05","3.59 4.67 3.59 4.67","3.98 5.05 3.98 5.05","4.25 5.33 4.25 5.33","4.47 5.55 4.47 5.55","4.65 5.73 4.65 5.73","4.79 5.89 4.79 5.89","4.92 6.02 4.92 6.02","5.04 6.14 5.04 6.14",null,30,"2.89","3.49","3.85","4.10","4.30","4.46","4.60","4.72","4.82",null,30,"3.89","4.45","4.80","5.05","5.24","5.40","5.54","5.65","5.76"]
["20 20","2.95 4.02 2.95 4.02","3.58 4.64 3.58 4.64","3.96 5.02 3.96 5.02","4.23 5.29 4.23 5.29","4.45 5.51 4.45 5.51","4.62 5.69 4.62 5.69","4.77 5.84 4.77 5.84","4.90 5.97 4.90 5.97","5.01 6.09 5.01 6.09",null,40,"2.86","3.44","3.79","4.04","4.23","4.39","4.52","4.63","4.73",null,40,"3.82","4.37","4.70","4.93","5.11","5.26","5.39","5.50","5.60"]
["24 24","2.92 3.96 2.92 3.96","3.53 4.55 3.53 4.55","3.90 4.91 3.90 4.91","4.17 5.17 4.17 5.17","4.37 5.37 4.37 5.37","4.54 5.54 4.54 5.54","4.68 5.69 4.68 5.69","4.81 5.81 4.81 5.81","4.92 5.92 4.92 5.92",null,60,"2.83","3.40","3.74","3.98","4.16","4.31","4.44","4.55","4.65",null,60,"3.76","4.28","4.59","4.82","4.99","5.13","5.25","5.36","5.45"]
["30 30","2.89 3.89 2.89 3.89","3.49 4.45 3.49 4.45","3.85 4.80 3.85 4.80","4.10 5.05 4.10 5.05","4.30 5.24 4.30 5.24","4.46 5.40 4.46 5.40","4.60 5.54 4.60 5.54","4.72 5.65 4.72 5.65","4.82 5.76 4.82 5.76",null,120,"2.80","3.36","3.68","3.92","4.10","4.24","4.36","4.47","4.56",null,120,"3.70","4.20","4.50","4.71","4.87","5.01","5.12","5.21","5.30"]
["40 40","2.86 3.82 2.86 3.82","3.44 4.37 3.44 4.37","3.79 4.70 3.79 4.70","4.04 4.93 4.04 4.93","4.23 5.11 4.23 5.11","4.39 5.26 4.39 5.26","4.52 5.39 4.52 5.39","4.63 5.50 4.63 5.50","4.73 5.60 4.73 5.60",null,121,"2.77","3.31","3.63","3.86","4.03","4.17","4.29","4.39","4.47",null,121,"3.64","4.12","4.40","4.60","4.76","4.88","4.99","5.08","5.16"]
["60 60","2.83 3.76 2.83 3.76","3.40 4.28 3.40 4.28","3.74 4.59 3.74 4.59","3.98 4.82 3.98 4.82","4.16 4.99 4.16 4.99","4.31 5.13 4.31 5.13","4.44 5.25 4.44 5.25","4.55 5.36 4.55 5.36","4.65 5.45 4.65 5.45"]
["120 120","2.80 3.70 2.80 3.70","3.36 4.20 3.36 4.20","3.68 4.50 3.68 4.50","3.92 4.71 3.92 4.71","4.10 4.87 4.10 4.87","4.24 5.01 4.24 5.01","4.36 5.12 4.36 5.12","4.47 5.21 4.47 5.21","4.56 5.30 4.56 5.30"]
["infinity אין סוף","2.77 3.64 2.77 3.64","3.31 4.12 3.31 4.12","3.63 4.40 3.63 4.40","3.86 4.60 3.86 4.60","4.03 4.76 4.03 4.76","4.17 4.88 4.17 4.88","4.29 4.99 4.29 4.99","4.39 5.08 4.39 5.08","4.47 5.16 4.47 5.16"]

{"sheet":"טבלת F","index":8,"n_rows":37,"n_cols":37,"rows_kept":37,"cut":false,"hidden":false,"merged":[[1,0,1,17],[1,19,1,36]]}
[]
[" F 0.05",null,null,null,null,null,null,null,null,null,null,null,null,null,null,null,null,null,null," F 0.01  "]
["df    ","between",null,null,null,null,null,null,null,null,null,null,null,null,null,null,null,null,null,"df    ","between"]
["   within",1,2,3,4,5,6,7,8,9,12,15,20,24,30,40,60,120,null,"   within",1,2,3,4,5,6,7,8,9,12,15,20,24,30,40,60,120]
[1,{"$f":"FINV(0.05,B$4,$A5)","v":161.44763879758855},{"$f":"FINV(0.05,C$4,$A5)","v":199.49999999999994},215.70734536960902,224.58324062625078,230.16187811010678,233.98600035626617,236.76840027699524,238.88269480252418,240.5432547132632,243.90603848907426,245.94992620524991,248.01308208473961,249.05177483132499,250.09514818700873,251.14315313278317,252.19573909398218,253.25285403343042,null,1,{"$f":"FINV(0.01,U$4,$A5)","v":4052.1806954768263},{"$f":"FINV(0.01,V$4,$A5)","v":4999.4999999999955},5403.3520137385403,5624.5833296294431,5763.6495541557169,5858.9861066861959,5928.3557315865291,5981.0703077977314,6022.4732449682679,6106.320707691294,6157.2846150643645,6208.7302217623228,6234.6308935331017,6260.6485793837282,6286.7820538528595,6313.03005258759,6339.391274672259]
[2,{"$f":"FINV(0.05,B$4,$A6)","v":18.512820512820511},18.999999999999996,19.164292127511288,19.246794344808965,19.296409652017257,19.329534015154028,19.353217536092941,19.370992898066469,19.384825718171481,19.412511147223483,19.429135069563547,19.445768490616928,19.454088763167416,19.462411410403089,19.470736432325509,19.479063828935903,19.487393600235123,null,2,{"$f":"FINV(0.01,U$4,$A6)","v":98.50251256281409},98.999999999999957,99.166201374471555,99.24937185533102,99.299296477864175,99.332588865403423,99.356373700187277,99.374214818915945,99.388092721714372,99.415852404754105,99.432510696141478,99.449170848701897,99.457501622921995,99.465832862435406,99.474164567242084,99.482496737342231,99.490829372735504]
[3,10.127964486013932,9.5520944959211587,9.2766281531448112,9.1171822532464244,9.0134551675225882,8.9406451207703839,8.886742955634281,8.8452384599594023,8.8122995552064509,8.7446406614652936,8.7028701348966955,8.6601898019307022,8.6385010402630815,8.6165758701973285,8.5944112499981848,8.5720041126509621,8.5493513668145784,null,3,34.116221564529795,30.816520350478257,29.456695126754646,28.7098983872982,28.237080837755048,27.910657357696032,27.671696070326174,27.489177030536222,27.345206333571468,27.051819256142476,26.872194956574052,26.689790510115021,26.59752322001809,26.504533696825892,26.410812689309392,26.316350861191438,26.221138793476968]
[4,7.708647422176786,6.9442719099991574,6.5913821164255788,6.38823290869587,6.2560565021608845,6.1631322826886326,6.0942109256988832,6.041044476119156,5.9987790312102476,5.9117291091107189,5.857805360765318,5.8025418932528234,5.7743886567079192,5.7458769825435541,5.716998405494782,5.6877441292043436,5.6581050078697857,null,4,21.197689584391309,17.999999999999993,16.694369237175085,15.977024852557676,15.521857544425243,15.206864861157531,14.975757704446696,14.798888790632594,14.659133574738862,14.373587012200312,14.198201869426416,14.019608680826577,13.929063535914112,13.837660341366915,13.745378894674044,13.65219819068748,13.558096376278812]
[5,6.607890973703368,5.786135043349967,5.4094513180564894,5.1921677728039226,5.0503290576326485,4.9502880686943191,4.8758716958339994,4.8183195356568689,4.7724656131008532,4.6777037917775175,4.6187591164058333,4.5581314973965119,4.5271531077303386,4.4957122617161325,4.4637933243772068,4.4313797042376049,4.3984537681925646,null,5,16.258177039833654,13.273933612004834,12.059953691651989,11.391928071349769,10.967020650907992,10.672254792434337,10.455510891760897,10.28931104613593,10.157761547933342,9.8882754868175873,9.722219474815601,9.5526461617887861,9.4664708006153067,9.3793292060000137,9.2911887830834026,9.2020149287133428,9.1117708515078615]
[6,5.9873776072737011,5.1432528497847176,4.7570626630894131,4.5336769502752441,4.3873741874061292,4.2838657138226397,4.2066584878692064,4.1468041622765357,4.099015541716521,3.9999353833188818,3.9380579883950348,3.8741885810265111,3.8414569017957709,3.8081642652703587,3.7742862848160135,3.7397966126428601,3.704666708625584,null,6,13.745022533304169,10.924766500838338,9.779538240923273,9.1483010302278522,8.7458952560199172,8.4661253404768946,8.2599952709689841,8.1016513667387038,7.9761213666233548,7.7183326552776128,7.5589944152204591,7.3958318913238088,7.3127208115933886,7.228533061839447,7.1432219022968706,7.0567368214192685,6.969023090063021]
[7,5.591447851220738,4.7374141277758826,4.3468313999078179,4.1203117268976337,3.971523150611342,3.8659688531238445,3.7870435399280704,3.7257253171227038,3.67667469893951,3.5746764466294172,3.5107401846336752,3.4445248320753219,3.4104943760647277,3.3758075019004425,3.3404296518330168,3.3043228764224408,3.2674453435037969,null,7,12.246383348435085,9.5465780211022917,8.4512850530799906,7.8466450625466022,7.4604354929892667,7.1914047852039982,6.9928327787113798,6.8400490718293492,6.7187524818244668,6.4690912788414883,6.3143308759994152,6.1554383855728352,6.074319250127088,5.9920101744850944,5.9084485564623943,5.8235656409207337,5.7372856284448437]
[8,5.3176550715787174,4.4589701075245118,4.0661805513511613,3.8378533545558975,3.6874986663400291,3.5805803197614603,3.500463855044941,3.4381012333731586,3.3881302347397284,3.2839390057264062,3.2184055133123435,3.1503237735028558,3.1152397960263221,3.0794064719704997,3.042777821132514,3.0053025837372571,2.96692332069924,null,8,11.258624143272641,8.6491106406735145,7.5909919475988543,7.006076622955586,6.6318251645095909,6.3706807302391981,6.177624260952248,6.0288701066125698,5.9106188491908576,5.6667192638773702,5.5151248396996024,5.3590949407693298,5.2792643872394507,5.198129548845019,5.1156103957481758,5.0316177067949255,4.9460515042514412]
[9,5.1173550291992269,4.2564947290937507,3.8625483576247648,3.6330885114190816,3.4816586539015244,3.373753647039214,3.2927458389171207,3.229582612686777,3.17889310445827,3.072947121878093,3.006101972368878,2.9364553921614438,2.9004737600512951,2.8636523437716961,2.8259326536708103,2.7872485572916754,2.7475247881803142,null,9,10.56143104739539,8.0215173099320634,6.9919172222334662,6.422085458153199,6.05694071411867,5.8017703065351292,5.6128654773762401,5.4671225154147729,5.3511288611485881,5.1114310168730679,4.9620783563999558,4.8079952287868721,4.728997565100693,4.6485816744207948,4.566648721043471,4.4830869612113267,4.3977692285263474]
[10,4.9646027437307128,4.1028210151304032,3.7082648190468448,3.4780496907652281,3.325834530413013,3.217174547398995,3.1354648046263263,3.0716583852790391,3.0203829470213761,2.912976721582639,2.8450165269958458,2.7740163983211246,2.7372476529036853,2.6995512330263698,2.6608552072041145,2.6210771556936074,2.5801218734780407,null,10,10.044289273396597,7.5594321575479011,6.5523125575152115,5.9943386616293672,5.6363261876690833,5.3858110448457959,5.200121250549973,5.0566931317444173,4.9424206520886091,4.7058696861591525,4.5581396045232081,4.4053947663954007,4.3269291640761081,4.2469328174616168,4.1652868974099269,4.0818552654742692,3.9964806910386916]
[11,4.8443356749436166,3.9822979570944854,3.5874337024204954,3.3566900211325938,3.2038742627296211,3.0946128879091401,3.012330343043101,2.947990318638638,2.8962227612877038,2.7875693256804883,2.7186396475783905,2.6464451537303044,2.6089736188842907,2.5704891211921619,2.5309054969881983,2.4901227686835603,2.4480237989368892,null,11,9.6460341119662498,7.2057133504573807,6.2167298115386522,5.6683002128787736,5.3160089186084933,5.0692104311952635,4.8860720392128734,4.7444676439354669,4.6315397476474969,4.3974010774270367,4.2508672629611794,4.0990462486676247,4.0209095936908499,3.9411317757733464,3.8595729663057017,3.7760709473849516,3.6904357024675063]
[12,4.7472253467225149,3.8852938346523942,3.4902948194976045,3.2591667269012499,3.1058752390841229,2.996120377517109,2.9133581790111962,2.8485651420676827,2.7963754894992481,2.6866371124956863,2.6168512341321111,2.5435883296529571,2.5054815467348126,2.4662791423336112,2.4258800587509795,2.3841656273817757,2.3409949058541901,null,12,9.3302121031685576,6.9266081401913002,5.9525446815458682,5.4119514344731394,5.0643431111429162,4.8205735018803084,4.6395024465643369,4.4993652808474325,4.3875099631801877,4.1552577908177879,4.0096191404110337,3.8584331026977896,3.7804854717554335,3.700788789264295,3.619181388401854,3.535473469281972,3.4494396704983736]
[13,4.6671927318268525,3.8055652529780568,3.4105336446278485,3.1791170525401871,3.0254383000982594,2.9152692387027517,2.8320975016349399,2.766913181917749,2.7143557890598928,2.6036607476283011,2.5331099831307475,2.4588817718014639,2.420195676588917,2.3803339297926245,2.3391800328701704,2.2965956221610817,2.2524141991123532,null,13,9.0738057285156639,6.7009645358807814,5.739380282773376,5.2053301894162436,4.8616212079068015,4.6203633955848549,4.4409974106651164,4.3020620108964467,4.1910777818110407,3.960326445188747,3.8153654521504303,3.6646091039546111,3.5867525237104076,3.5070417985111191,3.4252927358701624,3.3412866245260635,3.2547603648500751]
[14,4.6001099366694227,3.7388918324407361,3.3438886781189128,3.1122498479613889,2.9582489131221967,2.8477259959253578,2.7641992567781792,2.6986724187093056,2.645790735233819,2.5342432527485608,2.4630031048756633,2.3878960551375843,2.3486780759933543,2.3082070176459295,2.266350496134526,2.2229495688387084,2.1778105497903191,null,14,8.8615926651764276,6.5148841021827506,5.5638858396937421,5.0353779733294379,4.694963579397716,4.4558200259277569,4.2778818532656411,4.1399460751272388,4.0296803368958729,3.8001408373408978,3.6556972908674288,3.5052223399424305,3.4273873672211748,3.3475961021193164,3.2656412742712546,3.1812740937174562,3.0941914937422994]
[15,4.5430771652669701,3.6823203436732408,3.2873821046365093,3.055568275906595,2.9012945362361564,2.7904649973675064,2.7066267822256944,2.6407968829069026,2.5876264352275817,2.4753129734757695,2.4034470714953358,2.3275350089882942,2.2878260581447916,2.2467891575560133,2.2042756836323072,2.1601053418261738,2.1140557443502783,null,15,8.6831168176389504,6.3588734806671825,5.4169648578184191,4.8932095893215815,4.5556139846530046,4.3182730537670349,4.1415463070309544,4.004453186416943,3.8947881071250618,3.6662397836079661,3.5221936767003466,3.371891582092541,3.29402859380507,3.2141101832242587,3.1319055698072331,3.047134867786919,2.9594529754068986]
[16,4.4939984776663584,3.6337234675916301,3.2388715174535854,3.0069172799243447,2.8524091650819878,2.7413108283387784,2.6571966002210874,2.5910961798744014,2.5376665388806519,2.4246600016633844,2.352222762807386,2.2755695852259965,2.2354054155023908,2.1938409229080444,2.1507109695476179,2.1058132378581353,2.0588952366113631,null,16,8.5309652858962011,6.2262352803113821,5.2922140455209483,4.772577999723211,4.4374204955396026,4.2016337042750695,4.0259465906650673,3.8895721399261927,3.7804151699135691,3.5526867431473979,3.4089468723924945,3.2587373638219241,3.180810760551477,3.1007326389602778,3.0182483817431973,2.9330461284653464,{"$f":"FINV(0.01,AK$4,$A20)","v":2.8447368300867235}]
[17,4.4513217724681331,3.5915305684750827,3.1967768409433446,2.9647081100410797,2.8099961745295974,2.6986599016298731,2.6142990451333183,2.5479553577698537,2.4942914945641954,2.3806541615770072,2.3076926720809765,2.2303542821753983,2.1897664561386279,2.1477083618474029,2.1039981421874803,{"$f":"FINV(0.05,Q$4,$A21)","v":2.0584108786551645},2.0106626830824426,null,17,8.3997401451896341,6.1121137157978822,5.1849999172952197,4.6689676019514152,4.3359390831830762,4.101505325976615,3.9267193882777263,3.7909641782241854,3.6822415240458652,3.455198099325409,3.3116942797215918,3.1615175365551011,3.0835017973989407,3.0032414557417351,2.9204578237020211,2.834806313895823,2.745852167253251]
[18,{"$f":"FINV(0.05,B$4,$A22)","v":4.4138734191705664},3.5545571456617879,3.1599075898007243,2.9277441728071834,2.77285315299783,2.6613045229279009,2.5767217292599147,2.5101578953835757,2.4562811491592669,2.3420667980454342,2.2686221916065192,2.1906479255678022,2.1496645348258405,2.107143281868872,2.0628854464673854,2.0166430161615878,1.9680995154472845,null,18,8.2854195550996597,6.0129048348005281,5.0918895204140124,4.5790359665984486,4.2478821502317352,4.0146365073547567,3.8406386598979738,3.7054218811720387,3.5970739135457501,3.3706078722906927,3.2272855071105737,3.0770967202002626,2.9989736634560038,2.9185158832334199,2.8354204683701814,2.7493094676864263,2.6597007920156255]
[19,4.3807496923317979,3.521893260578826,3.1273500051133998,2.8951073075078422,2.7400575416853457,2.628318038338513,2.5435343014297049,2.4767701474512962,2.4226989371239691,2.3079544239310263,2.2340629220066179,2.1554966371315096,2.114142852918004,2.071185883598436,2.0264100551600932,1.9795438453524639,1.9302370988408279,null,19,8.184946822468925,5.9258790222928566,5.0102868436196015,4.5002576989066974,4.1707669806148076,3.9385726154799414,3.7652693946393363,3.630524582702261,3.5225025399101528,3.296527029846799,3.1533432507339318,3.0031087716581344,2.9248656189376123,2.8442005181321566,2.7607862527761822,2.6742109759887174,2.5839437839893731]
[20,4.3512435033292896,3.492828476735633,3.0983912121407795,2.8660814020156589,2.7108898372096917,2.5989777115642028,2.5140110629988341,2.4470637479798238,2.39281410844228,2.2775805735464223,2.2032742895611666,2.1241552129197361,2.0824537182164797,2.0390859041820075,1.9938190986725561,1.9463579238129021,1.8963175445953144,null,20,8.0959580640856981,5.8489319246111338,4.9381933823105379,4.4306901614377745,4.1026846305847338,3.8714268151294093,3.6987401520550511,3.5644120532989327,3.4566756315171574,3.2311198312104144,3.0880407075117691,2.9377352773658152,2.8593632640522086,2.7784848954551866,2.6947486291912934,2.6077082859324769,2.5167827910776133]
[21,4.3247937431830454,3.4668001115424172,3.0724669863968779,2.8400998074753825,2.6847807301748476,2.5727116405095254,2.487577703722041,2.4204621973544564,2.3660481920354548,2.2503619990631631,2.1756695725717052,2.096032976558122,2.0540043122355676,2.0102483000593172,1.9645152656162601,1.9164856929426248,1.8657391549599722,null,21,8.0165969468084768,5.7804156882425568,4.8740461970006939,4.3688151740781915,4.0421438611741243,3.8117254972548089,3.639589558217867,3.5056317946181963,3.3981473576496946,3.1729529764531397,3.0299514666344121,2.8795561927863593,2.8010495568884362,2.7199548892134362,2.6358963540355456,2.5483930889379507,2.456812613397434]
[22,4.3009495017776587,3.4433567793667246,3.0491249886524128,2.8167083396402548,2.6612739171180357,2.5490614138436585,2.4637738299608096,2.3965032837639266,2.341937327665792,2.2258308070834687,2.150777912196955,2.0706556612429461,2.0283185080245354,1.9841950017136885,1.9380184963055032,1.8894451125584126,1.8380180012721743,null,22,7.9453857291700425,5.7190219124822725,4.8166057778160596,4.3134294969595839,3.9879632231269468,3.7583014350037565,3.58666022429485,3.4530335271058066,3.3457727565515318,3.120891410114691,2.9779458371560836,2.8274466969950249,2.7488019344295553,2.6674901030475171,2.5831111522853996,2.4951492637624546,2.4029194299675516]
[23,4.2793443091446495,3.4221322078611793,3.0279983823321985,2.7955387373613885,2.6399994260529942,2.5276553252421778,2.442226085684859,2.3748121258206289,2.3201052423166302,2.2036072889298093,2.1282170476745299,2.0476380468629714,2.0050094582451163,1.9605374535103979,1.9139384758017035,1.8648441091003318,1.8127603294358301,null,23,7.8811336413683684,5.6636987680960402,4.7648767593744088,4.2635674594574988,3.9391948547411948,3.7102183612777666,3.5390238778798131,3.4056947335838363,3.2986335973739407,3.0740248137477555,2.9311177163451925,2.7805044379954045,2.701719748255953,2.6201914986432375,2.5354955417872231,2.4470809005875029,2.3542090266486886]
[24,4.2596772726902348,3.4028261053501945,3.0087865704473615,2.7762892892514786,2.6206541478628855,2.5081888234232559,2.4226285334209159,2.3550814948462078,2.3002435225148403,2.1833800816129392,2.1076734040321199,2.0266639715539498,1.9837595684896132,1.9389565493538539,1.8919545330539409,1.8423604398813029,1.789642391090313,null,24,7.8228705933679761,5.6135912114648372,4.7180508074958016,4.2184452673562687,3.8950696548170858,3.6667167179453148,3.4959275204932752,3.3628671199494815,3.2559850744613912,3.0316147610976976,2.8887320182515905,2.7379972346524548,2.6590721043481582,2.5773293750966428,2.4923209546421456,2.4034605675358303,2.3099552111552635]
[25,4.2416990502771483,3.3851899614491709,2.9912409095499513,2.7587104697176335,2.6029874027870616,2.4904100180874127,2.4047281081005818,2.3370572240603038,2.2820969851989057,2.1648914524188396,2.0888873192987276,2.0074714988038003,1.9643056340653762,1.9191877395511303,1.8718007187451413,1.8217267432689059,1.7683954676846565,null,25,7.769798415368995,5.5679971343240915,4.6754647823259132,4.1774202346456386,3.8549571646630025,3.6271739696815497,3.4567540466360827,3.3239374603151659,3.2172168262410796,2.9930560784080233,2.8501862354850052,2.6993248391832063,2.6202597266206942,2.5383053347150568,2.4529898071783975,2.3636914873325106,2.2695620992021319]
[26,4.2252012731274871,3.3690163594954443,2.9751539639733933,2.7425941372218592,2.5867900870625911,2.4741087807709587,2.3883136780251135,2.3205272350337482,2.2654526743472831,2.1479262277221571,2.0716419277448468,1.9898417525775969,1.9464276507245075,1.9010098174121537,1.853254568473869,1.8027192795763682,1.7487945904200064,null,26,7.7212544577376017,5.5263347139389776,4.6365696243343484,4.1399604836950115,3.8183357627898964,3.5910751263933767,3.4209929972886104,3.2883985212388325,3.1818239903274277,2.9578481555713019,2.8149819006093226,2.6639905475890413,2.5847866422118586,2.5026240440409309,2.4170073381880215,2.3272794548032998,2.2325361136096782]
[27,4.2100084683597556,3.3541308285291991,2.9603513184112873,2.727765306033989,2.5718864057841535,2.4591084425783349,2.3732077116305983,2.3053131774274283,2.250131477202665,2.1323033552378292,2.0557546854901849,1.9735904039339767,1.9299402814055464,1.8842363662807258,1.8361285306318316,1.7851493407275234,1.7306499328625271,null,27,7.6766840488874859,5.488117768420703,4.6009068946622849,4.1056221130833501,3.7847702132414436,3.5579905431887022,3.3882185368762139,3.2558271691272624,3.1493854106511754,2.9255733474711967,2.7827031007473519,2.6315798260686596,2.5522388638976929,2.4698719728842633,2.3839604057272661,2.2938116931190273,2.1984649019722973]
[28,4.195971818557763,3.3403855582377591,2.9466852660172647,2.7140758041450779,2.5581275011108073,2.4452593950893835,2.3592598540564387,2.2912639841441615,2.2359816606702894,2.1178693969856757,2.0410708336863559,1.9585611022711011,1.9146862711110562,1.8687091581310833,1.820263349153169,1.7688566179450886,1.7138001645765932,null,28,7.6356193977628095,5.4529369212239249,4.568090863679573,4.07403177491961,3.753894538830854,3.5275589889138619,3.3580726588472127,3.2258676765439178,3.1195470205736457,2.8958805059582322,2.7530000957973653,2.6017440139010155,2.5222681352392962,2.4397011821578296,2.3535013185327207,2.2629407301696265,2.1670012596726349]
[29,4.1829642890582726,3.3276544985720609,2.9340298896641732,2.701399331923267,2.5453864879485462,2.4324341045767892,2.3463419220205526,2.2782508490515503,2.2228738339299583,2.1044934566039637,2.0274583013950069,1.9446203517996814,1.9005313097716623,1.8542930028526727,1.8055228995549784,1.7537040252044933,1.6981072628661715,null,29,7.59766324995402,5.420445040307313,4.5377946777611333,4.0448732260845732,3.7253988048022095,3.4994745829027694,3.3302522295877437,3.1982188446886846,3.0920090251085832,2.8684722772823728,2.7255766821382132,2.5741877518134899,2.4945793911020573,2.4118168168257332,2.3253353620911468,2.2343719588906965,2.1378507259018664]
[30,4.1708767857666915,3.3158295010135221,2.9222771906450378,2.6896275736914181,2.5335545475592705,2.4205231885575733,2.334343964844781,2.2661632741381426,2.2106969833035763,2.0920631852759421,2.0148036912954894,1.9316534752369297,1.8873599845302909,1.8408716891117587,1.7917901186320135,1.7395736183119661,1.683452421997969,null,30,7.5624760946386322,5.3903458631778829,4.5097395624590648,4.0178768365875239,3.6990188114125706,3.4734766086671285,3.3044988866923952,3.1726239635133386,3.0665159079349871,2.8430951990777369,2.7001803409765954,2.5486591801019278,2.4689209804085266,2.3859673534585197,2.2992110715305802,2.2078539364295113,2.1107619103341251]
[40,4.0847457333016566,3.2317269928308443,2.8387453980206416,2.6059749491238664,2.4494664263887103,2.3358524047916633,2.2490243251473858,2.1801704532006414,2.1240292640166967,2.0034593955018329,1.9244628235276697,1.8388593490242173,1.7929370347739892,1.7444319643207373,1.6927972097024298,1.6372518239715579,1.576609861590262,null,40,7.3140999292051188,5.1785082358833447,4.3125692124921411,3.8282935494048735,3.5138398331373706,3.291012389298686,3.123757056573421,2.9929808697651721,2.887560440333619,2.6648273557293414,2.5216156865824506,2.3688761223373955,2.2879977099115827,2.2033820451901134,2.1142324540996467,2.0194112220751697,1.9171907833174193]
[60,4.001191376754992,3.1504113105827263,2.7580782958425822,2.5252151019828779,2.3682702357010696,2.2540530098570333,2.1665411560494183,2.0969683125159482,2.0400980554764687,1.9173958991763131,1.8364373601871415,1.7479841331228561,1.7001166964798249,1.649141009021406,1.5942725201140064,1.5343141798123641,1.4672665163364653,null,60,{"$f":"FINV(0.01,U$4,$A36)","v":7.0771057936141268},4.9774320353949504,4.1258919307956639,3.6490474910949979,3.3388844224495311,3.1186742715541818,2.9530492080027,2.8232802154716374,2.7184543866568061,2.4961159473559862,2.3522969868419059,2.1978059062903874,2.1153643356028438,2.0284785170992485,1.9360184715843505,1.836259360417092,1.7263195115781165]
[120,3.9201244089699174,3.0717794046586815,2.6801675698502416,2.4472365114692973,2.2898512831435824,2.1750062525809954,2.0867702777215946,2.0164256130641847,1.9587632956963756,1.8336952763569871,1.7504969606635032,1.6586801432365885,1.6084370962940859,1.5543425963956679,1.4952023928603775,{"$f":"FINV(0.05,Q$4,$A37)","v":1.4290131779545869},1.3518864592212352,null,120,6.8508934508525297,4.7865097396625789,3.949099792520776,3.4795313895777449,3.1735454751523284,2.9558540044310311,2.791764109703585,2.6629056295017137,2.558573882120819,2.3362998093575724,2.1915040638432637,2.0345880630988535,1.9500181023993919,1.8600052837171066,1.7628487819469538,1.6556931990052257,{"$f":"FINV(0.01,AK$4,$A37)","v":1.5329921830886073}]

{"sheet":"טבלת חי בריבוע","index":9,"n_rows":0,"n_cols":0,"rows_kept":0,"cut":false,"hidden":false,"merged":[]}

{"sheet":"טבלת t ","index":10,"n_rows":0,"n_cols":0,"rows_kept":0,"cut":false,"hidden":false,"merged":[]}

{"sheet":"ההתפלגות הנורמלית ","index":11,"n_rows":0,"n_cols":0,"rows_kept":0,"cut":false,"hidden":false,"merged":[]}

{"sheet":"תפריט ראשי טבלאות ","index":12,"n_rows":30,"n_cols":2,"rows_kept":30,"cut":false,"hidden":false,"merged":[[0,0,0,1]]}
["תפריט ראשי "]
["1.  סטטיסטיקה תיאורית "]
[]
[]
[]
[]
["2. מתאמים - קשר בין משתנים"]
[" פירסון וספירמן "]
[]
["3. השוואת מדגם לאוכלוסייה"]
["מבחן Z ו t"]
["4. השוואת ממוצעי שני מדגמים "]
["מבחני t"]
[]
["5. מבחני חי בריבוע "]
["לבדיקת הבדלים/קשר עבור"]
["משתנים קטגוריליים "]
[]
[]
[]
[]
["6. טבלאות סטטיסטיות ","1. טבלת ההתפלגות הנורמלית Z"]
[null,"2. טבלת t"]
[null,"3. טבלת  חי בריבוע   "]
[null,"4. טבלת F "]
[null,"5. טבלת  q לתיקון ע\"ש tukey   "]
["7. השוואת יותר משני מדגמים בלתי תלויים "]
["8. ניתוח שונות דו כיווני"]
["9. ניתוח שונות מעורב"]
["10. שלב ראשון של ניתוח רגרסייה "]

{"sheet":"תפריט ראשי כולל  (3)","index":13,"n_rows":21,"n_cols":2,"rows_kept":21,"cut":false,"hidden":false,"merged":[[0,0,0,1]]}
["תפריט ראשי "]
["1.  סטטיסטיקה תיאורית ","1. הצגת סטטיסטיקה תיאורית למשתנים אינטרוולים (רציפים) "]
[null," 2. הצגת אופן ההתפלגות של משתנה רציף כולל פוליגון "]
[null,"3. הצגת אופן ההתפלגות של משתנה קטגוריילי כולל גרף "]
[null,"4. הצגת שכיחויות למשתנים קטגוריילים/סידוריים"]
[null,"5. הצגת שכיחויות למשתנים קטגוריילים/סידוריים עבור שתי קבוצות"]
["2. מתאמים - קשר בין משתנים","6. מתאם ע\"ש פירסון למשתנים אינטרוולים - קשר בין שני משתנים "]
[null,"7. מתאם ע\"ש פירסון למשתנים אינטרוולים - מטריצת מתאמים"]
[null,"8. מתאם ע\"ש ספירמן למשתנים דירוגיים "]
["בדיקת הבדלים בין  מדגם לאוכלוסייה","9 השוואת מדגם לאוכלוסייה - מבחן Z (ממוצע וסטיית התקן של האוכלוסייה ידועים )"]
["משתנים אינטרווליים","10. השוואת מדגם לאוכלוסייה - מבחן t  - (רק ממוצע האוכלוסייה ידוע)"]
["בדיקת הבדלים בין  שני מדגמים ","11 מבחן t בלתי תלוי - ממוצעים (השווואת ממוצעי שתי קבוצות בלתי תלויות) "]
["משתנים אינטרווליים","12. מבחן t בלתי תלוי  לערכים גולמיים (השווואת ממוצעי שתי קבוצות בלתי תלויות) "]
[null,"13. מבחן t בלתי תלוי  לערכים גולמיים (השווואת ממוצעי שתי קבוצות בלתי תלויות) "]
["מבחני חי בריבוע ","14. מבחן חי בריבוע של 2X  2"]
["לבדיקת הבדלים/קשר עבור","15.  מבחן חי בריבוע של 3X 2"]
["משתנים קטגוריליים ","16.  מבחן חי בריבוע של 4X  2"]
[null,"17.  מבחן חי בריבוע של 5X  2"]
[null,"18.  מבחן חי בריבוע של 3X  3"]
[null,"19.  מבחן חי בריבוע של 4X  3"]
[null,"20.  מבחן חי בריבוע של 3X  5"]

{"sheet":"תפריט ראשי נקי","index":14,"n_rows":32,"n_cols":1,"rows_kept":32,"cut":false,"hidden":false,"merged":[]}
[]
["                                   תוכנת עזר לניתוחים סטטיסטיים                  פותח ע\"י מיכל ארנון  michalar@wincol.ac.il  04-8341480 052-8-393003"]
[]
["תפריט ראשי "]
["1.  סטטיסטיקה תיאורית: מדדי  מרכז , מדדי פיזור ושכיחויות "]
[]
[]
[]
[]
["2. חישוב מדד קשר (מתאם) ביין משתנים: מתאם פירסון למשתנים אינטרווליים ומתאם ספירמן למשתנים סידוריים"]
[]
[]
["3. הסקה סטטיסטית: השוואת מדגם לאוכלוסייה - משתנים אינטרווליים"]
[]
["4. הסקה סטטיסטית: בדיקת הבדלים בין  שני מדגמים  - משתנים אינטרווליים (מבחני t )"]
[]
[]
[]
[]
["5. הסקה סטטיסטית: מבחני חי בריבוע לבדיקת הבדלים/קשר עבור משתנים קטגורייליים/סידוריים "]
[]
[]
[]
[]
[]
[]
["6. טבלאות סטטיסטיות : טבלת ההתפלגות הנורמלית( Z), טבלת t ,טבלת חי בריבוע, טבלת q עבור tukey "]
["7.ניתוח שוונת חד כיווני עבור השוואת ממוצעים של יותר משתי קבוצות/מדידות "]
["8. ניתוח שונות דו כיווני  עבור השוואת ממוצעים של שני גורמים (בלתי תלויים / תלויים) "]
["9. ניתוח שונות מעורב (מדידות חוזרות ומדידות בלתי תלויות two way with mixed model"]
["10. שלב ראשון של ניתוח רגרסייה - מתאם חלקי  מתאם חלקי למחצה "]
["הערה: זוהי גירסה ראשונה של היישום ואשמח לקבל משוב מכל סוג שהוא (טעויות, הצעות לשיפור וכו' ) , מיכל "]

{"sheet":"תפריט ראשי כולל תיאורית","index":15,"n_rows":29,"n_cols":2,"rows_kept":29,"cut":false,"hidden":false,"merged":[[0,0,0,1]]}
["תפריט ראשי "]
["1.  סטטיסטיקה תיאורית ","1. הצגת סטטיסטיקה תיאורית למשתנים אינטרוולים (רציפים) "]
[null," 2. הצגת אופן ההתפלגות של משתנה רציף כולל פוליגון "]
[null,"3. הצגת אופן ההתפלגות של משתנה קטגוריילי כולל גרף "]
[null,"4. הצגת שכיחויות למשתנים קטגוריילים/סידוריים"]
[null,"5. הצגת שכיחויות למשתנים קטגוריילים/סידוריים עבור שתי קבוצות"]
["2. מתאמים - קשר בין משתנים"]
[" פירסון וספירמן "]
[]
["3. השוואת מדגם לאוכלוסייה"]
["מבחן Z ו t"]
["4. השוואת ממוצעי שני מדגמים "]
["מבחני t"]
[]
["5. מבחני חי בריבוע "]
["לבדיקת הבדלים/קשר עבור"]
["משתנים קטגוריליים "]
[]
[]
[]
[]
["6 טבלאות סטטיסטיות "]
[]
[]
["7. השוואת יותר משני מדגמים בלתי תלויים  "]
["ניתוח שונות חד כיווני oneway anova"]
["8. ניתוח שונות דו כיווני"]
["9. ניתוח שונות מעורב"]
["10. שלב ראשון של ניתוח רגרסייה "]

{"sheet":"תפריט ראשי מתאמים","index":16,"n_rows":29,"n_cols":2,"rows_kept":29,"cut":false,"hidden":false,"merged":[[0,0,0,1]]}
["תפריט ראשי "]
["1.  סטטיסטיקה תיאורית "]
[]
[]
[]
[]
["2. מתאמים - קשר בין משתנים","6. מתאם ע\"ש פירסון למשתנים אינטרוולים - קשר בין שני משתנים "]
[" פירסון וספירמן ","7. מתאם ע\"ש פירסון למשתנים אינטרוולים - מטריצת מתאמים"]
[null,"8. מתאם ע\"ש ספירמן למשתנים דירוגיים "]
["3. השוואת מדגם לאוכלוסייה"]
["מבחן Z ו t"]
["4. השוואת ממוצעי שני מדגמים "]
["מבחני t"]
[]
["5. מבחני חי בריבוע "]
["לבדיקת הבדלים/קשר עבור"]
["משתנים קטגוריליים "]
[]
[]
[]
[]
["6. טבלאות סטטיסטיות "]
[]
[]
["7. השוואת יותר משני מדגמים בלתי תלויים  "]
["ניתוח שונות חד כיווני oneway anova"]
["8. ניתוח שונות דו כיווני"]
["9. ניתוח שונות מעורב"]
["10. שלב ראשון של ניתוח רגרסייה "]

{"sheet":"תפריט ראשי מדגם ואוכלוסייה","index":17,"n_rows":29,"n_cols":2,"rows_kept":29,"cut":false,"hidden":false,"merged":[[0,0,0,1]]}
["תפריט ראשי "]
["1.  סטטיסטיקה תיאורית "]
[]
[]
[]
[]
["2. מתאמים - קשר בין משתנים"]
[" פירסון וספירמן "]
[]
["3. השוואת מדגם לאוכלוסייה","9 השוואת מדגם לאוכלוסייה - מבחן Z (ממוצע וסטיית התקן של האוכלוסייה ידועים )"]
["מבחן Z ו t","10. השוואת מדגם לאוכלוסייה - מבחן t  - (רק ממוצע האוכלוסייה ידוע)"]
["4. השוואת ממוצעי שני מדגמים "]
["מבחני t"]
[]
["5. מבחני חי בריבוע "]
["לבדיקת הבדלים/קשר עבור"]
["משתנים קטגוריליים "]
[]
[]
[]
[]
["6. טבלאות סטטיסטיות "]
[]
[]
["7. השוואת יותר משני מדגמים בלתי תלויים  "]
["ניתוח שונות חד כיווני oneway anova"]
["8. ניתוח שונות דו כיווני"]
["9. ניתוח שונות מעורב"]
["10. שלב ראשון של ניתוח רגרסייה "]

{"sheet":"תפריט ראשי שני מדגמים","index":18,"n_rows":29,"n_cols":2,"rows_kept":29,"cut":false,"hidden":false,"merged":[[0,0,0,1]]}
["תפריט ראשי "]
["1.  סטטיסטיקה תיאורית "]
[]
[]
[]
[]
["2. מתאמים - קשר בין משתנים"]
[" פירסון וספירמן "]
[]
["3. השוואת מדגם לאוכלוסייה"]
["מבחן Z ו t"]
["4. השוואת ממוצעי שני מדגמים ","11 מבחן t למשתנים מזווגים/תלוי  (השווואת תוצאות של שתי מדידות של אותו נבדק) "]
["מבחני t","12. מבחן t בלתי תלוי  לערכים גולמיים (השווואת ממוצעי שתי קבוצות בלתי תלויות) "]
[null,"13. מבחן t בלתי תלוי  לערכים ממוצעים (השווואת ממוצעי שתי קבוצות בלתי תלויות) "]
["5. מבחני חי בריבוע "]
["לבדיקת הבדלים/קשר עבור"]
["משתנים קטגוריליים "]
[]
[]
[]
[]
["6. טבלאות סטטיסטיות "]
[]
[]
["7. השוואת יותר משני מדגמים בלתי תלויים  "]
["ניתוח שונות חד כיווני oneway anova"]
["8. ניתוח שונות דו כיווני"]
["9. ניתוח שונות מעורב"]
["10. שלב ראשון של ניתוח רגרסייה "]

{"sheet":"תפריט ראשי חי בריבוע ","index":19,"n_rows":29,"n_cols":2,"rows_kept":29,"cut":false,"hidden":false,"merged":[[0,0,0,1]]}
["תפריט ראשי "]
["1.  סטטיסטיקה תיאורית "]
[]
[]
[]
[]
["2. מתאמים - קשר בין משתנים"]
[" פירסון וספירמן "]
[]
["3. השוואת מדגם לאוכלוסייה"]
["מבחן Z ו t"]
["4. השוואת ממוצעי שני מדגמים "]
["מבחני t"]
[]
["5. מבחני חי בריבוע ","14. מבחן חי בריבוע של 2X  2"]
["לבדיקת הבדלים/קשר עבור","15.  מבחן חי בריבוע של 3X 2"]
["משתנים קטגוריליים ","16.  מבחן חי בריבוע של 4X  2"]
[null,"17.  מבחן חי בריבוע של 5X  2"]
[null,"18.  מבחן חי בריבוע של 3X  3"]
[null,"19.  מבחן חי בריבוע של 4X  3"]
[null,"20.  מבחן חי בריבוע של 3X  5"]
["6. טבלאות סטטיסטיות ","21.  מבחן חי בריבוע כללי"]
[null,"22.  הכנת טבלת ציר לחיתוך בין שני משתנים (הכנה לחי בריבוע)"]
[]
["7. השוואת יותר משני מדגמים בלתי תלויים  "]
["ניתוח שונות חד כיווני oneway anova"]
["8. ניתוח שונות דו כיווני"]
["9. ניתוח שונות מעורב"]
["10. שלב ראשון של ניתוח רגרסייה "]

{"sheet":"סטטיסיקה תאורית  מסטר","index":20,"n_rows":323,"n_cols":44,"rows_kept":323,"cut":false,"hidden":false,"merged":[[5,24,5,42]]}
["סטטיסטיקה תיאורית של משתנים אינטרווליים (רציפים ) "]
["הצגת מדדים של סטטיסטקה תיאורית עבור משתנים רציפים "]
["הוראות "]
["הכנס את שמות המשתנים  (שורה 8) ואת הערכים עבור המשתנים עבורם אתה רוצה להציג סטטיסטיקה תיאורית"]
["הסטטיסטיקה התיאורית תופיע באופן אוטומטי בצד שמאל של המסך "]
["להכנסת נתונים חדשים ואיפוס הטבלה לחץ על כפתור נקה.  לחזרה לתפריט הראשי לחץ על כפתור תפריט ",null,null,null,null,null,null,null,null,null,null,null,null,null,null,null,null,null,null,null,null,null,null,null,"סטטיסטיקה תיאורית "]
[]
["הנבדק","משתנה1","משתנה2","משתנה3","משתנה4","משתנה5","משתנה6","משתנה7","משתנה8","משתנה9","משתנה10","משתנה11","משתנה12","משתנה13","משתנה14","משתנה15","משתנה16","משתנה17","משתנה18","משתנה19","משתנה20",null,null,{"$f":"B8","v":"משתנה1"},{"$f":"C8","v":"משתנה2"},"משתנה3","משתנה4","משתנה5","משתנה6","משתנה7","משתנה8","משתנה9","משתנה10","משתנה11","משתנה12","משתנה13","משתנה14","משתנה15","משתנה16","משתנה17","משתנה18","משתנה19",{"$f":"U8","v":"משתנה20"}]
[1,null,null,null,null,null,null,null,null,null,null,null,null,null,null,null,null,null,null,null,null,null,"ממוצע",{"$f":"IF(COUNT(B9:B33)>2,AVERAGE(B9:B160),\"\")","v":""},{"$f":"IF(COUNT(C9:C33)>2,AVERAGE(C9:C160),\"\")","v":""},"","","","","","","","","","","","","","","","","",""]
[2,null,null,null,null,null,null,null,null,null,null,null,null,null,null,null,null,null,null,null,null,null,"חציון",{"$f":"IF(COUNT(B9:B33)>2,MEDIAN(B9:B160),\"\")","v":""},{"$f":"IF(COUNT(C9:C33)>2,MEDIAN(C9:C160),\"\")","v":""},"","","","","","","","","","","","","","","","","",""]
[3,null,null,null,null,null,null,null,null,null,null,null,null,null,null,null,null,null,null,null,null,null,"סטיית תקן",{"$f":"IF(COUNT(B9:B33)>2,STDEV(B9:B160),\"\")","v":""},"","","","","","","","","","","","","","","","","","",""]
[4,null,null,null,null,null,null,null,null,null,null,null,null,null,null,null,null,null,null,null,null,null,"מינימום",{"$f":"IF(COUNT(B9:B33)>2,MIN(B9:B160),\"\")","v":""},{"$f":"IF(COUNT(C9:C33)>2,MIN(C9:C160),\"\")","v":""},"","","","","","","","","","","","","","","","","",""]
[5,null,null,null,null,null,null,null,null,null,null,null,null,null,null,null,null,null,null,null,null,null,"מקסימום",{"$f":"IF(COUNT(B9:B33)>2,MAX(B9:B160),\"\")","v":""},{"$f":"IF(COUNT(C9:C33)>2,MAX(C9:C160),\"\")","v":""},"","","","","","","","","","","","","","","","","",""]
[6,null,null,null,null,null,null,null,null,null,null,null,null,null,null,null,null,null,null,null,null,null,"n",{"$f":"IF(COUNT(B9:B33)>2,COUNT(B9:B160),\"\")","v":""},{"$f":"IF(COUNT(C9:C33)>2,COUNT(C9:C160),\"\")","v":""},"","","","","","","","","","","","","","","","","",""]
[7,null,null,null,null,null,null,null,null,null,null,null,null,null,null,null,null,null,null,null,null,null,"skewnis",{"$f":"IF(COUNT(B9:B33)>2,SKEW(B9:B160),\"\")","v":""},{"$f":"IF(COUNT(C9:C33)>2,SKEW(C9:C160),\"\")","v":""},"","","","","","","","","","","","","","","","","",""]
[8,null,null,null,null,null,null,null,null,null,null,null,null,null,null,null,null,null,null,null,null,null,"kurtosis",{"$f":"IF(COUNT(B9:B33)>2,KURT(B9:B160),\"\")","v":""},{"$f":"IF(COUNT(C9:C33)>2,KURT(C9:C160),\"\")","v":""},"","","","","","","","","","","","","","","","","",""]
[9,null,null,null,null,null,null,null,null,null,null,null,null,null,null,null,null,null,null,null,null,null," רבעון תחתון Q25",{"$f":"IF(COUNT(B9:B33)>2,QUARTILE(B9:B160,1),\"\")","v":""},{"$f":"IF(COUNT(C9:C33)>2,QUARTILE(C9:C160,1),\"\")","v":""},"","","","","","","","","","","","","","","","","",""]
[10,null,null,null,null,null,null,null,null,null,null,null,null,null,null,null,null,null,null,null,null,null," רבעון עליון  Q75",{"$f":"IF(COUNT(B9:B33)>2,QUARTILE(B9:B160,3),\"\")","v":""},{"$f":"IF(COUNT(C9:C33)>2,QUARTILE(C9:C160,3),\"\")","v":""},"","","","","","","","","","","","","","","","","",""]
[11]
[12]
[13]
[14]
[15]
[16]
[17]
[18]
[19]
[20]
[21]
[22]
[23]
[24]
[25]
[26]
[27]
[28]
[29]
[30]
[31]
[32]
[33]
[34]
[35]
[36]
[37]
[38]
[39]
[40]
[41]
[42]
[43]
[44]
[45]
[46]
[47]
[48]
[49]
[50]
[51]
[52]
[53]
[54]
[55]
[56]
[57]
[58]
[59]
[60]
[61]
[62]
[63]
[64]
[65]
[66]
[67]
[68]
[69]
[70]
[71]
[72]
[73]
[74]
[75]
[76]
[77]
[78]
[79]
[80]
[81]
[82]
[83]
[84]
[85]
[86]
[87]
[88]
[89]
[90]
[91]
[92]
[93]
[94]
[95,null,null,null,null,null,null,null,null,null,null,null,null,null,null,null,null,null,null,null,null,null,null,"הנבדק","משתנה1","משתנה2","משתנה3","משתנה4","משתנה5","משתנה6","משתנה7","משתנה8","משתנה9","משתנה10","משתנה11","משתנה12","משתנה13","משתנה14","משתנה15","משתנה16","משתנה17","משתנה18","משתנה19","משתנה20"]
[96,null,null,null,null,null,null,null,null,null,null,null,null,null,null,null,null,null,null,null,null,null,null,1]
[97,null,null,null,null,null,null,null,null,null,null,null,null,null,null,null,null,null,null,null,null,null,null,2]
[98,null,null,null,null,null,null,null,null,null,null,null,null,null,null,null,null,null,null,null,null,null,null,3]
[99,null,null,null,null,null,null,null,null,null,null,null,null,null,null,null,null,null,null,null,null,null,null,4]
[100,null,null,null,null,null,null,null,null,null,null,null,null,null,null,null,null,null,null,null,null,null,null,5]
[101,null,null,null,null,null,null,null,null,null,null,null,null,null,null,null,null,null,null,null,null,null,null,6]
[102,null,null,null,null,null,null,null,null,null,null,null,null,null,null,null,null,null,null,null,null,null,null,7]
[103,null,null,null,null,null,null,null,null,null,null,null,null,null,null,null,null,null,null,null,null,null,null,8]
[104,null,null,null,null,null,null,null,null,null,null,null,null,null,null,null,null,null,null,null,null,null,null,9]
[105,null,null,null,null,null,null,null,null,null,null,null,null,null,null,null,null,null,null,null,null,null,null,10]
[106,null,null,null,null,null,null,null,null,null,null,null,null,null,null,null,null,null,null,null,null,null,null,11]
[107,null,null,null,null,null,null,null,null,null,null,null,null,null,null,null,null,null,null,null,null,null,null,12]
[108,null,null,null,null,null,null,null,null,null,null,null,null,null,null,null,null,null,null,null,null,null,null,13]
[109,null,null,null,null,null,null,null,null,null,null,null,null,null,null,null,null,null,null,null,null,null,null,14]
[110,null,null,null,null,null,null,null,null,null,null,null,null,null,null,null,null,null,null,null,null,null,null,15]
[111,null,null,null,null,null,null,null,null,null,null,null,null,null,null,null,null,null,null,null,null,null,null,16]
[112,null,null,null,null,null,null,null,null,null,null,null,null,null,null,null,null,null,null,null,null,null,null,17]
[113,null,null,null,null,null,null,null,null,null,null,null,null,null,null,null,null,null,null,null,null,null,null,18]
[114,null,null,null,null,null,null,null,null,null,null,null,null,null,null,null,null,null,null,null,null,null,null,19]
[115,null,null,null,null,null,null,null,null,null,null,null,null,null,null,null,null,null,null,null,null,null,null,20]
[116,null,null,null,null,null,null,null,null,null,null,null,null,null,null,null,null,null,null,null,null,null,null,21]
[117,null,null,null,null,null,null,null,null,null,null,null,null,null,null,null,null,null,null,null,null,null,null,22]
[118,null,null,null,null,null,null,null,null,null,null,null,null,null,null,null,null,null,null,null,null,null,null,23]
[119,null,null,null,null,null,null,null,null,null,null,null,null,null,null,null,null,null,null,null,null,null,null,24]
[120,null,null,null,null,null,null,null,null,null,null,null,null,null,null,null,null,null,null,null,null,null,null,25]
[121,null,null,null,null,null,null,null,null,null,null,null,null,null,null,null,null,null,null,null,null,null,null,26]
[122,null,null,null,null,null,null,null,null,null,null,null,null,null,null,null,null,null,null,null,null,null,null,27]
[123,null,null,null,null,null,null,null,null,null,null,null,null,null,null,null,null,null,null,null,null,null,null,28]
[124,null,null,null,null,null,null,null,null,null,null,null,null,null,null,null,null,null,null,null,null,null,null,29]
[125,null,null,null,null,null,null,null,null,null,null,null,null,null,null,null,null,null,null,null,null,null,null,30]
[126,null,null,null,null,null,null,null,null,null,null,null,null,null,null,null,null,null,null,null,null,null,null,31]
[127,null,null,null,null,null,null,null,null,null,null,null,null,null,null,null,null,null,null,null,null,null,null,32]
[128,null,null,null,null,null,null,null,null,null,null,null,null,null,null,null,null,null,null,null,null,null,null,33]
[129,null,null,null,null,null,null,null,null,null,null,null,null,null,null,null,null,null,null,null,null,null,null,34]
[130,null,null,null,null,null,null,null,null,null,null,null,null,null,null,null,null,null,null,null,null,null,null,35]
[131,null,null,null,null,null,null,null,null,null,null,null,null,null,null,null,null,null,null,null,null,null,null,36]
[132,null,null,null,null,null,null,null,null,null,null,null,null,null,null,null,null,null,null,null,null,null,null,37]
[133,null,null,null,null,null,null,null,null,null,null,null,null,null,null,null,null,null,null,null,null,null,null,38]
[134,null,null,null,null,null,null,null,null,null,null,null,null,null,null,null,null,null,null,null,null,null,null,39]
[135,null,null,null,null,null,null,null,null,null,null,null,null,null,null,null,null,null,null,null,null,null,null,40]
[136,null,null,null,null,null,null,null,null,null,null,null,null,null,null,null,null,null,null,null,null,null,null,41]
[137,null,null,null,null,null,null,null,null,null,null,null,null,null,null,null,null,null,null,null,null,null,null,42]
[138,null,null,null,null,null,null,null,null,null,null,null,null,null,null,null,null,null,null,null,null,null,null,43]
[139,null,null,null,null,null,null,null,null,null,null,null,null,null,null,null,null,null,null,null,null,null,null,44]
[140,null,null,null,null,null,null,null,null,null,null,null,null,null,null,null,null,null,null,null,null,null,null,45]
[141,null,null,null,null,null,null,null,null,null,null,null,null,null,null,null,null,null,null,null,null,null,null,46]
[142,null,null,null,null,null,null,null,null,null,null,null,null,null,null,null,null,null,null,null,null,null,null,47]
[143,null,null,null,null,null,null,null,null,null,null,null,null,null,null,null,null,null,null,null,null,null,null,48]
[144,null,null,null,null,null,null,null,null,null,null,null,null,null,null,null,null,null,null,null,null,null,null,49]
[145,null,null,null,null,null,null,null,null,null,null,null,null,null,null,null,null,null,null,null,null,null,null,50]
[146,null,null,null,null,null,null,null,null,null,null,null,null,null,null,null,null,null,null,null,null,null,null,51]
[147,null,null,null,null,null,null,null,null,null,null,null,null,null,null,null,null,null,null,null,null,null,null,52]
[148,null,null,null,null,null,null,null,null,null,null,null,null,null,null,null,null,null,null,null,null,null,null,53]
[149,null,null,null,null,null,null,null,null,null,null,null,null,null,null,null,null,null,null,null,null,null,null,54]
[150,null,null,null,null,null,null,null,null,null,null,null,null,null,null,null,null,null,null,null,null,null,null,55]
[151,null,null,null,null,null,null,null,null,null,null,null,null,null,null,null,null,null,null,null,null,null,null,56]
[152,null,null,null,null,null,null,null,null,null,null,null,null,null,null,null,null,null,null,null,null,null,null,57]
[153,null,null,null,null,null,null,null,null,null,null,null,null,null,null,null,null,null,null,null,null,null,null,58]
[154,null,null,null,null,null,null,null,null,null,null,null,null,null,null,null,null,null,null,null,null,null,null,59]
[155,null,null,null,null,null,null,null,null,null,null,null,null,null,null,null,null,null,null,null,null,null,null,60]
[156,null,null,null,null,null,null,null,null,null,null,null,null,null,null,null,null,null,null,null,null,null,null,61]
[null,null,null,null,null,null,null,null,null,null,null,null,null,null,null,null,null,null,null,null,null,null,null,62]
[null,null,null,null,null,null,null,null,null,null,null,null,null,null,null,null,null,null,null,null,null,null,null,63]
[null,null,null,null,null,null,null,null,null,null,null,null,null,null,null,null,null,null,null,null,null,null,null,64]
[null,null,null,null,null,null,null,null,null,null,null,null,null,null,null,null,null,null,null,null,null,null,null,65]
[null,null,null,null,null,null,null,null,null,null,null,null,null,null,null,null,null,null,null,null,null,null,null,66]
[null,null,null,null,null,null,null,null,null,null,null,null,null,null,null,null,null,null,null,null,null,null,null,67]
[null,null,null,null,null,null,null,null,null,null,null,null,null,null,null,null,null,null,null,null,null,null,null,68]
[null,null,null,null,null,null,null,null,null,null,null,null,null,null,null,null,null,null,null,null,null,null,null,69]
[null,null,null,null,null,null,null,null,null,null,null,null,null,null,null,null,null,null,null,null,null,null,null,70]
[null,null,null,null,null,null,null,null,null,null,null,null,null,null,null,null,null,null,null,null,null,null,null,71]
[null,null,null,null,null,null,null,null,null,null,null,null,null,null,null,null,null,null,null,null,null,null,null,72]
[null,null,null,null,null,null,null,null,null,null,null,null,null,null,null,null,null,null,null,null,null,null,null,73]
[null,null,null,null,null,null,null,null,null,null,null,null,null,null,null,null,null,null,null,null,null,null,null,74]
[null,null,null,null,null,null,null,null,null,null,null,null,null,null,null,null,null,null,null,null,null,null,null,75]
[null,null,null,null,null,null,null,null,null,null,null,null,null,null,null,null,null,null,null,null,null,null,null,76]
[null,null,null,null,null,null,null,null,null,null,null,null,null,null,null,null,null,null,null,null,null,null,null,77]
[null,null,null,null,null,null,null,null,null,null,null,null,null,null,null,null,null,null,null,null,null,null,null,78]
[null,null,null,null,null,null,null,null,null,null,null,null,null,null,null,null,null,null,null,null,null,null,null,79]
[null,null,null,null,null,null,null,null,null,null,null,null,null,null,null,null,null,null,null,null,null,null,null,80]
[null,null,null,null,null,null,null,null,null,null,null,null,null,null,null,null,null,null,null,null,null,null,null,81]
[null,null,null,null,null,null,null,null,null,null,null,null,null,null,null,null,null,null,null,null,null,null,null,82]
[null,null,null,null,null,null,null,null,null,null,null,null,null,null,null,null,null,null,null,null,null,null,null,83]
[null,null,null,null,null,null,null,null,null,null,null,null,null,null,null,null,null,null,null,null,null,null,null,84]
[null,null,null,null,null,null,null,null,null,null,null,null,null,null,null,null,null,null,null,null,null,null,null,85]
[null,null,null,null,null,null,null,null,null,null,null,null,null,null,null,null,null,null,null,null,null,null,null,86]
[null,null,null,null,null,null,null,null,null,null,null,null,null,null,null,null,null,null,null,null,null,null,null,87]
[null,null,null,null,null,null,null,null,null,null,null,null,null,null,null,null,null,null,null,null,null,null,null,88]
[null,null,null,null,null,null,null,null,null,null,null,null,null,null,null,null,null,null,null,null,null,null,null,89]
[null,null,null,null,null,null,null,null,null,null,null,null,null,null,null,null,null,null,null,null,null,null,null,90]
[null,null,null,null,null,null,null,null,null,null,null,null,null,null,null,null,null,null,null,null,null,null,null,91]
[null,null,null,null,null,null,null,null,null,null,null,null,null,null,null,null,null,null,null,null,null,null,null,92]
[null,null,null,null,null,null,null,null,null,null,null,null,null,null,null,null,null,null,null,null,null,null,null,93]
[null,null,null,null,null,null,null,null,null,null,null,null,null,null,null,null,null,null,null,null,null,null,null,94]
[null,null,null,null,null,null,null,null,null,null,null,null,null,null,null,null,null,null,null,null,null,null,null,95]
[null,null,null,null,null,null,null,null,null,null,null,null,null,null,null,null,null,null,null,null,null,null,null,96]
[null,null,null,null,null,null,null,null,null,null,null,null,null,null,null,null,null,null,null,null,null,null,null,97]
[null,null,null,null,null,null,null,null,null,null,null,null,null,null,null,null,null,null,null,null,null,null,null,98]
[null,null,null,null,null,null,null,null,null,null,null,null,null,null,null,null,null,null,null,null,null,null,null,99]
[null,null,null,null,null,null,null,null,null,null,null,null,null,null,null,null,null,null,null,null,null,null,null,100]
[null,null,null,null,null,null,null,null,null,null,null,null,null,null,null,null,null,null,null,null,null,null,null,101]
[null,null,null,null,null,null,null,null,null,null,null,null,null,null,null,null,null,null,null,null,null,null,null,102]
[null,null,null,null,null,null,null,null,null,null,null,null,null,null,null,null,null,null,null,null,null,null,null,103]
[null,null,null,null,null,null,null,null,null,null,null,null,null,null,null,null,null,null,null,null,null,null,null,104]
[null,null,null,null,null,null,null,null,null,null,null,null,null,null,null,null,null,null,null,null,null,null,null,105]
[null,null,null,null,null,null,null,null,null,null,null,null,null,null,null,null,null,null,null,null,null,null,null,106]
[null,null,null,null,null,null,null,null,null,null,null,null,null,null,null,null,null,null,null,null,null,null,null,107]
[null,null,null,null,null,null,null,null,null,null,null,null,null,null,null,null,null,null,null,null,null,null,null,108]
[null,null,null,null,null,null,null,null,null,null,null,null,null,null,null,null,null,null,null,null,null,null,null,109]
[null,null,null,null,null,null,null,null,null,null,null,null,null,null,null,null,null,null,null,null,null,null,null,110]
[null,null,null,null,null,null,null,null,null,null,null,null,null,null,null,null,null,null,null,null,null,null,null,111]
[null,null,null,null,null,null,null,null,null,null,null,null,null,null,null,null,null,null,null,null,null,null,null,112]
[null,null,null,null,null,null,null,null,null,null,null,null,null,null,null,null,null,null,null,null,null,null,null,113]
[null,null,null,null,null,null,null,null,null,null,null,null,null,null,null,null,null,null,null,null,null,null,null,114]
[null,null,null,null,null,null,null,null,null,null,null,null,null,null,null,null,null,null,null,null,null,null,null,115]
[null,null,null,null,null,null,null,null,null,null,null,null,null,null,null,null,null,null,null,null,null,null,null,116]
[null,null,null,null,null,null,null,null,null,null,null,null,null,null,null,null,null,null,null,null,null,null,null,117]
[null,null,null,null,null,null,null,null,null,null,null,null,null,null,null,null,null,null,null,null,null,null,null,118]
[null,null,null,null,null,null,null,null,null,null,null,null,null,null,null,null,null,null,null,null,null,null,null,119]
[null,null,null,null,null,null,null,null,null,null,null,null,null,null,null,null,null,null,null,null,null,null,null,120]
[null,null,null,null,null,null,null,null,null,null,null,null,null,null,null,null,null,null,null,null,null,null,null,121]
[null,null,null,null,null,null,null,null,null,null,null,null,null,null,null,null,null,null,null,null,null,null,null,122]
[null,null,null,null,null,null,null,null,null,null,null,null,null,null,null,null,null,null,null,null,null,null,null,123]
[null,null,null,null,null,null,null,null,null,null,null,null,null,null,null,null,null,null,null,null,null,null,null,124]
[null,null,null,null,null,null,null,null,null,null,null,null,null,null,null,null,null,null,null,null,null,null,null,125]
[null,null,null,null,null,null,null,null,null,null,null,null,null,null,null,null,null,null,null,null,null,null,null,126]
[null,null,null,null,null,null,null,null,null,null,null,null,null,null,null,null,null,null,null,null,null,null,null,127]
[null,null,null,null,null,null,null,null,null,null,null,null,null,null,null,null,null,null,null,null,null,null,null,128]
[null,null,null,null,null,null,null,null,null,null,null,null,null,null,null,null,null,null,null,null,null,null,null,129]
[null,null,null,null,null,null,null,null,null,null,null,null,null,null,null,null,null,null,null,null,null,null,null,130]
[null,null,null,null,null,null,null,null,null,null,null,null,null,null,null,null,null,null,null,null,null,null,null,131]
[null,null,null,null,null,null,null,null,null,null,null,null,null,null,null,null,null,null,null,null,null,null,null,132]
[null,null,null,null,null,null,null,null,null,null,null,null,null,null,null,null,null,null,null,null,null,null,null,133]
[null,null,null,null,null,null,null,null,null,null,null,null,null,null,null,null,null,null,null,null,null,null,null,134]
[null,null,null,null,null,null,null,null,null,null,null,null,null,null,null,null,null,null,null,null,null,null,null,135]
[null,null,null,null,null,null,null,null,null,null,null,null,null,null,null,null,null,null,null,null,null,null,null,136]
[null,null,null,null,null,null,null,null,null,null,null,null,null,null,null,null,null,null,null,null,null,null,null,137]
[null,null,null,null,null,null,null,null,null,null,null,null,null,null,null,null,null,null,null,null,null,null,null,138]
[null,null,null,null,null,null,null,null,null,null,null,null,null,null,null,null,null,null,null,null,null,null,null,139]
[null,null,null,null,null,null,null,null,null,null,null,null,null,null,null,null,null,null,null,null,null,null,null,140]
[null,null,null,null,null,null,null,null,null,null,null,null,null,null,null,null,null,null,null,null,null,null,null,141]
[null,null,null,null,null,null,null,null,null,null,null,null,null,null,null,null,null,null,null,null,null,null,null,142]
[null,null,null,null,null,null,null,null,null,null,null,null,null,null,null,null,null,null,null,null,null,null,null,143]
[null,null,null,null,null,null,null,null,null,null,null,null,null,null,null,null,null,null,null,null,null,null,null,144]
[null,null,null,null,null,null,null,null,null,null,null,null,null,null,null,null,null,null,null,null,null,null,null,145]
[null,null,null,null,null,null,null,null,null,null,null,null,null,null,null,null,null,null,null,null,null,null,null,146]
[null,null,null,null,null,null,null,null,null,null,null,null,null,null,null,null,null,null,null,null,null,null,null,147]
[null,null,null,null,null,null,null,null,null,null,null,null,null,null,null,null,null,null,null,null,null,null,null,148]
[null,null,null,null,null,null,null,null,null,null,null,null,null,null,null,null,null,null,null,null,null,null,null,149]
[null,null,null,null,null,null,null,null,null,null,null,null,null,null,null,null,null,null,null,null,null,null,null,150]
[null,null,null,null,null,null,null,null,null,null,null,null,null,null,null,null,null,null,null,null,null,null,null,151]
[null,null,null,null,null,null,null,null,null,null,null,null,null,null,null,null,null,null,null,null,null,null,null,152]
[null,null,null,null,null,null,null,null,null,null,null,null,null,null,null,null,null,null,null,null,null,null,null,153]
[null,null,null,null,null,null,null,null,null,null,null,null,null,null,null,null,null,null,null,null,null,null,null,154]
[null,null,null,null,null,null,null,null,null,null,null,null,null,null,null,null,null,null,null,null,null,null,null,155]
[null,null,null,null,null,null,null,null,null,null,null,null,null,null,null,null,null,null,null,null,null,null,null,156]
[null,null,null,null,null,null,null,null,null,null,null,null,null,null,null,null,null,null,null,null,null,null,null,157]
[null,null,null,null,null,null,null,null,null,null,null,null,null,null,null,null,null,null,null,null,null,null,null,158]
[null,null,null,null,null,null,null,null,null,null,null,null,null,null,null,null,null,null,null,null,null,null,null,159]
[null,null,null,null,null,null,null,null,null,null,null,null,null,null,null,null,null,null,null,null,null,null,null,160]
[null,null,null,null,null,null,null,null,null,null,null,null,null,null,null,null,null,null,null,null,null,null,null,161]
[null,null,null,null,null,null,null,null,null,null,null,null,null,null,null,null,null,null,null,null,null,null,null,162]
[null,null,null,null,null,null,null,null,null,null,null,null,null,null,null,null,null,null,null,null,null,null,null,163]
[null,null,null,null,null,null,null,null,null,null,null,null,null,null,null,null,null,null,null,null,null,null,null,164]
[null,null,null,null,null,null,null,null,null,null,null,null,null,null,null,null,null,null,null,null,null,null,null,165]
[null,null,null,null,null,null,null,null,null,null,null,null,null,null,null,null,null,null,null,null,null,null,null,166]
[null,null,null,null,null,null,null,null,null,null,null,null,null,null,null,null,null,null,null,null,null,null,null,167]
[null,null,null,null,null,null,null,null,null,null,null,null,null,null,null,null,null,null,null,null,null,null,null,168]
[null,null,null,null,null,null,null,null,null,null,null,null,null,null,null,null,null,null,null,null,null,null,null,169]
[null,null,null,null,null,null,null,null,null,null,null,null,null,null,null,null,null,null,null,null,null,null,null,170]
[null,null,null,null,null,null,null,null,null,null,null,null,null,null,null,null,null,null,null,null,null,null,null,171]
[null,null,null,null,null,null,null,null,null,null,null,null,null,null,null,null,null,null,null,null,null,null,null,172]
[null,null,null,null,null,null,null,null,null,null,null,null,null,null,null,null,null,null,null,null,null,null,null,173]
[null,null,null,null,null,null,null,null,null,null,null,null,null,null,null,null,null,null,null,null,null,null,null,174]
[null,null,null,null,null,null,null,null,null,null,null,null,null,null,null,null,null,null,null,null,null,null,null,175]
[null,null,null,null,null,null,null,null,null,null,null,null,null,null,null,null,null,null,null,null,null,null,null,176]
[null,null,null,null,null,null,null,null,null,null,null,null,null,null,null,null,null,null,null,null,null,null,null,177]
[null,null,null,null,null,null,null,null,null,null,null,null,null,null,null,null,null,null,null,null,null,null,null,178]
[null,null,null,null,null,null,null,null,null,null,null,null,null,null,null,null,null,null,null,null,null,null,null,179]
[null,null,null,null,null,null,null,null,null,null,null,null,null,null,null,null,null,null,null,null,null,null,null,180]
[null,null,null,null,null,null,null,null,null,null,null,null,null,null,null,null,null,null,null,null,null,null,null,181]
[null,null,null,null,null,null,null,null,null,null,null,null,null,null,null,null,null,null,null,null,null,null,null,182]
[null,null,null,null,null,null,null,null,null,null,null,null,null,null,null,null,null,null,null,null,null,null,null,183]
[null,null,null,null,null,null,null,null,null,null,null,null,null,null,null,null,null,null,null,null,null,null,null,184]
[null,null,null,null,null,null,null,null,null,null,null,null,null,null,null,null,null,null,null,null,null,null,null,185]
[null,null,null,null,null,null,null,null,null,null,null,null,null,null,null,null,null,null,null,null,null,null,null,186]
[null,null,null,null,null,null,null,null,null,null,null,null,null,null,null,null,null,null,null,null,null,null,null,187]
[null,null,null,null,null,null,null,null,null,null,null,null,null,null,null,null,null,null,null,null,null,null,null,188]
[null,null,null,null,null,null,null,null,null,null,null,null,null,null,null,null,null,null,null,null,null,null,null,189]
[null,null,null,null,null,null,null,null,null,null,null,null,null,null,null,null,null,null,null,null,null,null,null,190]
[null,null,null,null,null,null,null,null,null,null,null,null,null,null,null,null,null,null,null,null,null,null,null,191]
[null,null,null,null,null,null,null,null,null,null,null,null,null,null,null,null,null,null,null,null,null,null,null,192]
[null,null,null,null,null,null,null,null,null,null,null,null,null,null,null,null,null,null,null,null,null,null,null,193]
[null,null,null,null,null,null,null,null,null,null,null,null,null,null,null,null,null,null,null,null,null,null,null,194]
[null,null,null,null,null,null,null,null,null,null,null,null,null,null,null,null,null,null,null,null,null,null,null,195]
[null,null,null,null,null,null,null,null,null,null,null,null,null,null,null,null,null,null,null,null,null,null,null,196]
[null,null,null,null,null,null,null,null,null,null,null,null,null,null,null,null,null,null,null,null,null,null,null,197]
[null,null,null,null,null,null,null,null,null,null,null,null,null,null,null,null,null,null,null,null,null,null,null,198]
[null,null,null,null,null,null,null,null,null,null,null,null,null,null,null,null,null,null,null,null,null,null,null,199]
[null,null,null,null,null,null,null,null,null,null,null,null,null,null,null,null,null,null,null,null,null,null,null,200]
[null,null,null,null,null,null,null,null,null,null,null,null,null,null,null,null,null,null,null,null,null,null,null,201]
[null,null,null,null,null,null,null,null,null,null,null,null,null,null,null,null,null,null,null,null,null,null,null,202]
[null,null,null,null,null,null,null,null,null,null,null,null,null,null,null,null,null,null,null,null,null,null,null,203]
[null,null,null,null,null,null,null,null,null,null,null,null,null,null,null,null,null,null,null,null,null,null,null,204]
[null,null,null,null,null,null,null,null,null,null,null,null,null,null,null,null,null,null,null,null,null,null,null,205]
[null,null,null,null,null,null,null,null,null,null,null,null,null,null,null,null,null,null,null,null,null,null,null,206]
[null,null,null,null,null,null,null,null,null,null,null,null,null,null,null,null,null,null,null,null,null,null,null,207]
[null,null,null,null,null,null,null,null,null,null,null,null,null,null,null,null,null,null,null,null,null,null,null,208]
[null,null,null,null,null,null,null,null,null,null,null,null,null,null,null,null,null,null,null,null,null,null,null,209]
[null,null,null,null,null,null,null,null,null,null,null,null,null,null,null,null,null,null,null,null,null,null,null,210]
[null,null,null,null,null,null,null,null,null,null,null,null,null,null,null,null,null,null,null,null,null,null,null,211]
[null,null,null,null,null,null,null,null,null,null,null,null,null,null,null,null,null,null,null,null,null,null,null,212]
[null,null,null,null,null,null,null,null,null,null,null,null,null,null,null,null,null,null,null,null,null,null,null,213]
[null,null,null,null,null,null,null,null,null,null,null,null,null,null,null,null,null,null,null,null,null,null,null,214]
[null,null,null,null,null,null,null,null,null,null,null,null,null,null,null,null,null,null,null,null,null,null,null,215]
[null,null,null,null,null,null,null,null,null,null,null,null,null,null,null,null,null,null,null,null,null,null,null,216]
[null,null,null,null,null,null,null,null,null,null,null,null,null,null,null,null,null,null,null,null,null,null,null,217]
[null,null,null,null,null,null,null,null,null,null,null,null,null,null,null,null,null,null,null,null,null,null,null,218]
[null,null,null,null,null,null,null,null,null,null,null,null,null,null,null,null,null,null,null,null,null,null,null,219]
[null,null,null,null,null,null,null,null,null,null,null,null,null,null,null,null,null,null,null,null,null,null,null,220]

{"sheet":"סטטיסיקה תאורית  מסטר (1)","index":21,"n_rows":193,"n_cols":44,"rows_kept":193,"cut":false,"hidden":false,"merged":[[5,24,5,42]]}
["סטטיסטיקה תיאורית של משתנים אינטרווליים (רציפים ) "]
["הצגת מדדים של סטטיסטקה תיאורית עבור משתנים רציפים "]
["הוראות "]
["הכנס את שמות המשתנים  (שורה 8) ואת הערכים עבור המשתנים עבורם אתה רוצה להציג סטטיסטיקה תיאורית"]
["הסטטיסטיקה התיאורית תופיע באופן אוטומטי בצד שמאל של המסך "]
["להכנסת נתונים חדשים ואיפוס הטבלה לחץ על כפתור נקה.  לחזרה לתפריט הראשי לחץ על כפתור תפריט ",null,null,null,null,null,null,null,null,null,null,null,null,null,null,null,null,null,null,null,null,null,null,null,"סטטיסטיקה תיאורית "]
[]
["הנבדק","משתנה1","משתנה2","משתנה3","משתנה4","משתנה5","משתנה6","משתנה7","משתנה8","משתנה9","משתנה10","משתנה11","משתנה12","משתנה13","משתנה14","משתנה15","משתנה16","משתנה17","משתנה18","משתנה19","משתנה20",null,null,{"$f":"B8","v":"משתנה1"},{"$f":"C8","v":"משתנה2"},"משתנה3","משתנה4","משתנה5","משתנה6","משתנה7","משתנה8","משתנה9","משתנה10","משתנה11","משתנה12","משתנה13","משתנה14","משתנה15","משתנה16","משתנה17","משתנה18","משתנה19",{"$f":"U8","v":"משתנה20"}]
[1,null,null,null,null,null,null,null,null,null,null,null,null,null,null,null,null,null,null,null,null,null,"ממוצע",{"$f":"IF(COUNT(B9:B33)>2,AVERAGE(B9:B98),\"\")","v":""},"","","","","","","","","","","","","","","","","","",""]
[2,null,null,null,null,null,null,null,null,null,null,null,null,null,null,null,null,null,null,null,null,null,"חציון",{"$f":"IF(COUNT(B9:B33)>2,MEDIAN(B9:B98),\"\")","v":""},"","","","","","","","","","","","","","","","","","",""]
[3,null,null,null,null,null,null,null,null,null,null,null,null,null,null,null,null,null,null,null,null,null,"סטיית תקן",{"$f":"IF(COUNT(B9:B33)>2,_xlfn.STDEV.S(B9:B98),\"\")","v":""},"","","","","","","","","","","","","","","","","","",""]
[4,null,null,null,null,null,null,null,null,null,null,null,null,null,null,null,null,null,null,null,null,null,"מינימום",{"$f":"IF(COUNT(B9:B33)>2,MIN(B9:B98),\"\")","v":""},"","","","","","","","","","","","","","","","","","",""]
[5,null,null,null,null,null,null,null,null,null,null,null,null,null,null,null,null,null,null,null,null,null,"מקסימום",{"$f":"IF(COUNT(B9:B33)>2,MAX(B9:B98),\"\")","v":""},"","","","","","","","","","","","","","","","","","",""]
[6,null,null,null,null,null,null,null,null,null,null,null,null,null,null,null,null,null,null,null,null,null,"n",{"$f":"IF(COUNT(B9:B33)>2,COUNT(B9:B98),\"\")","v":""},"","","","","","","","","","","","","","","","","","",""]
[7,null,null,null,null,null,null,null,null,null,null,null,null,null,null,null,null,null,null,null,null,null,"skewnis",{"$f":"IF(COUNT(B9:B33)>2,SKEW(B9:B98),\"\")","v":""},"","","","","","","","","","","","","","","","","","",""]
[8,null,null,null,null,null,null,null,null,null,null,null,null,null,null,null,null,null,null,null,null,null,"kurtosis",{"$f":"IF(COUNT(B9:B33)>2,KURT(B9:B98),\"\")","v":""},"","","","","","","","","","","","","","","","","","",""]
[9,null,null,null,null,null,null,null,null,null,null,null,null,null,null,null,null,null,null,null,null,null," רבעון תחתון Q25",{"$f":"IF(COUNT(B9:B33)>2,QUARTILE(B9:B98,1),\"\")","v":""},"","","","","","","","","","","","","","","","","","",""]
[10,null,null,null,null,null,null,null,null,null,null,null,null,null,null,null,null,null,null,null,null,null," רבעון עליון  Q75",{"$f":"IF(COUNT(B9:B33)>2,QUARTILE(B9:B98,3),\"\")","v":""},"","","","","","","","","","","","","","","","","","",""]
[11]
[12]
[13]
[14]
[15]
[16]
[17]
[18]
[19]
[20]
[21]
[22]
[23]
[24]
[25]
[26]
[27]
[28]
[29]
[30]
[31]
[32]
[33]
[34]
[35]
[36]
[37]
[38]
[39]
[40]
[41]
[42]
[43]
[44]
[45]
[46]
[47]
[48]
[49]
[50]
[51]
[52]
[53]
[54]
[55]
[56]
[57]
[58]
[59]
[60]
[61]
[62]
[63]
[64]
[65]
[66]
[67]
[68]
[69]
[70]
[71]
[72]
[73]
[74]
[75]
[76]
[77]
[78]
[79]
[80]
[81]
[82]
[83]
[84]
[85]
[86]
[87]
[88]
[89]
[90]
[]
[]
[]
[]
[null,null,null,null,null,null,null,null,null,null,null,null,null,null,null,null,null,null,null,null,null,null,null,"הנבדק","משתנה1","משתנה2","משתנה3","משתנה4","משתנה5","משתנה6","משתנה7","משתנה8","משתנה9","משתנה10","משתנה11","משתנה12","משתנה13","משתנה14","משתנה15","משתנה16","משתנה17","משתנה18","משתנה19","משתנה20"]
[null,null,null,null,null,null,null,null,null,null,null,null,null,null,null,null,null,null,null,null,null,null,null,1]
[null,null,null,null,null,null,null,null,null,null,null,null,null,null,null,null,null,null,null,null,null,null,null,2]
[null,null,null,null,null,null,null,null,null,null,null,null,null,null,null,null,null,null,null,null,null,null,null,3]
[null,null,null,null,null,null,null,null,null,null,null,null,null,null,null,null,null,null,null,null,null,null,null,4]
[null,null,null,null,null,null,null,null,null,null,null,null,null,null,null,null,null,null,null,null,null,null,null,5]
[null,null,null,null,null,null,null,null,null,null,null,null,null,null,null,null,null,null,null,null,null,null,null,6]
[null,null,null,null,null,null,null,null,null,null,null,null,null,null,null,null,null,null,null,null,null,null,null,7]
[null,null,null,null,null,null,null,null,null,null,null,null,null,null,null,null,null,null,null,null,null,null,null,8]
[null,null,null,null,null,null,null,null,null,null,null,null,null,null,null,null,null,null,null,null,null,null,null,9]
[null,null,null,null,null,null,null,null,null,null,null,null,null,null,null,null,null,null,null,null,null,null,null,10]
[null,null,null,null,null,null,null,null,null,null,null,null,null,null,null,null,null,null,null,null,null,null,null,11]
[null,null,null,null,null,null,null,null,null,null,null,null,null,null,null,null,null,null,null,null,null,null,null,12]
[null,null,null,null,null,null,null,null,null,null,null,null,null,null,null,null,null,null,null,null,null,null,null,13]
[null,null,null,null,null,null,null,null,null,null,null,null,null,null,null,null,null,null,null,null,null,null,null,14]
[null,null,null,null,null,null,null,null,null,null,null,null,null,null,null,null,null,null,null,null,null,null,null,15]
[null,null,null,null,null,null,null,null,null,null,null,null,null,null,null,null,null,null,null,null,null,null,null,16]
[null,null,null,null,null,null,null,null,null,null,null,null,null,null,null,null,null,null,null,null,null,null,null,17]
[null,null,null,null,null,null,null,null,null,null,null,null,null,null,null,null,null,null,null,null,null,null,null,18]
[null,null,null,null,null,null,null,null,null,null,null,null,null,null,null,null,null,null,null,null,null,null,null,19]
[null,null,null,null,null,null,null,null,null,null,null,null,null,null,null,null,null,null,null,null,null,null,null,20]
[null,null,null,null,null,null,null,null,null,null,null,null,null,null,null,null,null,null,null,null,null,null,null,21]
[null,null,null,null,null,null,null,null,null,null,null,null,null,null,null,null,null,null,null,null,null,null,null,22]
[null,null,null,null,null,null,null,null,null,null,null,null,null,null,null,null,null,null,null,null,null,null,null,23]
[null,null,null,null,null,null,null,null,null,null,null,null,null,null,null,null,null,null,null,null,null,null,null,24]
[null,null,null,null,null,null,null,null,null,null,null,null,null,null,null,null,null,null,null,null,null,null,null,25]
[null,null,null,null,null,null,null,null,null,null,null,null,null,null,null,null,null,null,null,null,null,null,null,26]
[null,null,null,null,null,null,null,null,null,null,null,null,null,null,null,null,null,null,null,null,null,null,null,27]
[null,null,null,null,null,null,null,null,null,null,null,null,null,null,null,null,null,null,null,null,null,null,null,28]
[null,null,null,null,null,null,null,null,null,null,null,null,null,null,null,null,null,null,null,null,null,null,null,29]
[null,null,null,null,null,null,null,null,null,null,null,null,null,null,null,null,null,null,null,null,null,null,null,30]
[null,null,null,null,null,null,null,null,null,null,null,null,null,null,null,null,null,null,null,null,null,null,null,31]
[null,null,null,null,null,null,null,null,null,null,null,null,null,null,null,null,null,null,null,null,null,null,null,32]
[null,null,null,null,null,null,null,null,null,null,null,null,null,null,null,null,null,null,null,null,null,null,null,33]
[null,null,null,null,null,null,null,null,null,null,null,null,null,null,null,null,null,null,null,null,null,null,null,34]
[null,null,null,null,null,null,null,null,null,null,null,null,null,null,null,null,null,null,null,null,null,null,null,35]
[null,null,null,null,null,null,null,null,null,null,null,null,null,null,null,null,null,null,null,null,null,null,null,36]
[null,null,null,null,null,null,null,null,null,null,null,null,null,null,null,null,null,null,null,null,null,null,null,37]
[null,null,null,null,null,null,null,null,null,null,null,null,null,null,null,null,null,null,null,null,null,null,null,38]
[null,null,null,null,null,null,null,null,null,null,null,null,null,null,null,null,null,null,null,null,null,null,null,39]
[null,null,null,null,null,null,null,null,null,null,null,null,null,null,null,null,null,null,null,null,null,null,null,40]
[null,null,null,null,null,null,null,null,null,null,null,null,null,null,null,null,null,null,null,null,null,null,null,41]
[null,null,null,null,null,null,null,null,null,null,null,null,null,null,null,null,null,null,null,null,null,null,null,42]
[null,null,null,null,null,null,null,null,null,null,null,null,null,null,null,null,null,null,null,null,null,null,null,43]
[null,null,null,null,null,null,null,null,null,null,null,null,null,null,null,null,null,null,null,null,null,null,null,44]
[null,null,null,null,null,null,null,null,null,null,null,null,null,null,null,null,null,null,null,null,null,null,null,45]
[null,null,null,null,null,null,null,null,null,null,null,null,null,null,null,null,null,null,null,null,null,null,null,46]
[null,null,null,null,null,null,null,null,null,null,null,null,null,null,null,null,null,null,null,null,null,null,null,47]
[null,null,null,null,null,null,null,null,null,null,null,null,null,null,null,null,null,null,null,null,null,null,null,48]
[null,null,null,null,null,null,null,null,null,null,null,null,null,null,null,null,null,null,null,null,null,null,null,49]
[null,null,null,null,null,null,null,null,null,null,null,null,null,null,null,null,null,null,null,null,null,null,null,50]
[null,null,null,null,null,null,null,null,null,null,null,null,null,null,null,null,null,null,null,null,null,null,null,51]
[null,null,null,null,null,null,null,null,null,null,null,null,null,null,null,null,null,null,null,null,null,null,null,52]
[null,null,null,null,null,null,null,null,null,null,null,null,null,null,null,null,null,null,null,null,null,null,null,53]
[null,null,null,null,null,null,null,null,null,null,null,null,null,null,null,null,null,null,null,null,null,null,null,54]
[null,null,null,null,null,null,null,null,null,null,null,null,null,null,null,null,null,null,null,null,null,null,null,55]
[null,null,null,null,null,null,null,null,null,null,null,null,null,null,null,null,null,null,null,null,null,null,null,56]
[null,null,null,null,null,null,null,null,null,null,null,null,null,null,null,null,null,null,null,null,null,null,null,57]
[null,null,null,null,null,null,null,null,null,null,null,null,null,null,null,null,null,null,null,null,null,null,null,58]
[null,null,null,null,null,null,null,null,null,null,null,null,null,null,null,null,null,null,null,null,null,null,null,59]
[null,null,null,null,null,null,null,null,null,null,null,null,null,null,null,null,null,null,null,null,null,null,null,60]
[null,null,null,null,null,null,null,null,null,null,null,null,null,null,null,null,null,null,null,null,null,null,null,61]
[null,null,null,null,null,null,null,null,null,null,null,null,null,null,null,null,null,null,null,null,null,null,null,62]
[null,null,null,null,null,null,null,null,null,null,null,null,null,null,null,null,null,null,null,null,null,null,null,63]
[null,null,null,null,null,null,null,null,null,null,null,null,null,null,null,null,null,null,null,null,null,null,null,64]
[null,null,null,null,null,null,null,null,null,null,null,null,null,null,null,null,null,null,null,null,null,null,null,65]
[null,null,null,null,null,null,null,null,null,null,null,null,null,null,null,null,null,null,null,null,null,null,null,66]
[null,null,null,null,null,null,null,null,null,null,null,null,null,null,null,null,null,null,null,null,null,null,null,67]
[null,null,null,null,null,null,null,null,null,null,null,null,null,null,null,null,null,null,null,null,null,null,null,68]
[null,null,null,null,null,null,null,null,null,null,null,null,null,null,null,null,null,null,null,null,null,null,null,69]
[null,null,null,null,null,null,null,null,null,null,null,null,null,null,null,null,null,null,null,null,null,null,null,70]
[null,null,null,null,null,null,null,null,null,null,null,null,null,null,null,null,null,null,null,null,null,null,null,71]
[null,null,null,null,null,null,null,null,null,null,null,null,null,null,null,null,null,null,null,null,null,null,null,72]
[null,null,null,null,null,null,null,null,null,null,null,null,null,null,null,null,null,null,null,null,null,null,null,73]
[null,null,null,null,null,null,null,null,null,null,null,null,null,null,null,null,null,null,null,null,null,null,null,74]
[null,null,null,null,null,null,null,null,null,null,null,null,null,null,null,null,null,null,null,null,null,null,null,75]
[null,null,null,null,null,null,null,null,null,null,null,null,null,null,null,null,null,null,null,null,null,null,null,76]
[null,null,null,null,null,null,null,null,null,null,null,null,null,null,null,null,null,null,null,null,null,null,null,77]
[null,null,null,null,null,null,null,null,null,null,null,null,null,null,null,null,null,null,null,null,null,null,null,78]
[null,null,null,null,null,null,null,null,null,null,null,null,null,null,null,null,null,null,null,null,null,null,null,79]
[null,null,null,null,null,null,null,null,null,null,null,null,null,null,null,null,null,null,null,null,null,null,null,80]
[null,null,null,null,null,null,null,null,null,null,null,null,null,null,null,null,null,null,null,null,null,null,null,81]
[null,null,null,null,null,null,null,null,null,null,null,null,null,null,null,null,null,null,null,null,null,null,null,82]
[null,null,null,null,null,null,null,null,null,null,null,null,null,null,null,null,null,null,null,null,null,null,null,83]
[null,null,null,null,null,null,null,null,null,null,null,null,null,null,null,null,null,null,null,null,null,null,null,84]
[null,null,null,null,null,null,null,null,null,null,null,null,null,null,null,null,null,null,null,null,null,null,null,85]
[null,null,null,null,null,null,null,null,null,null,null,null,null,null,null,null,null,null,null,null,null,null,null,86]
[null,null,null,null,null,null,null,null,null,null,null,null,null,null,null,null,null,null,null,null,null,null,null,87]
[null,null,null,null,null,null,null,null,null,null,null,null,null,null,null,null,null,null,null,null,null,null,null,88]
[null,null,null,null,null,null,null,null,null,null,null,null,null,null,null,null,null,null,null,null,null,null,null,89]
[null,null,null,null,null,null,null,null,null,null,null,null,null,null,null,null,null,null,null,null,null,null,null,90]

{"sheet":"צורת התפלגות של משתנה רציף","index":22,"n_rows":155,"n_cols":25,"rows_kept":155,"cut":false,"hidden":false,"merged":[[8,3,8,4]]}
["סטטיסטיקה תיאורית של משתנים אינטרווליים (רציפים ) ",null,null,null,null,null,null,null,null,null,null,null,null,null,null,null,null,null,null,null,null,null,null,"מס הנבדקים ","מס הקטגוריות"]
["הצגת מדדים של סטטיסטקה תיאורית עבור משתנים רציפים ",null,null,null,null,null,null,null,null,null,null,null,null,null,null,null,null,null,null,null,null,null,null,"N","K"]
["הוראות ",null,null,null,null,null,null,null,null,null,null,null,null,null,null,null,null,null,null,null,null,null,null,20,5]
["הכנס את  הערכים של המתשנה בעמודה B  ",null,null,null,null,null,null,null,null,null,null,null,null,null,null,null,null,null,null,null,null,null,null,"25-40",6]
["הסטטיסטיקה התיאורית תופיע באופן אוטומטי בצד שמאל של המסך  כולל היסטוגרם המתאר את ההתפלגות ",null,null,null,null,null,null,null,null,null,null,null,null,null,null,null,null,null,null,null,null,null,null,"50-90",7]
[null,null,null,null,null,null,null,null,null,null,null,null,null,null,null,null,null,null,null,null,null,null,null,"100-180",8]
["הנבדק","משתנה1",null,null,null,null,null,null,null,null,null,null,null,null,null,null,null,null,null,null,null,null,null,"190-300",9]
[1]
[2,null,null,"סטטיסטיקה תיאורית "]
[3,null,null,null,{"$f":"B7","v":"משתנה1"}]
[4,null,null,"ממוצע",{"$f":"IF(COUNT(B8:B32)>2,AVERAGE(B8:B155),\"\")","v":""}]
[5,null,null,"חציון",{"$f":"IF(COUNT(B8:B32)>2,MEDIAN(B8:B155),\"\")","v":""}]
[6,null,null,"סטיית תקן",{"$f":"IF(COUNT(B8:B32)>2,STDEV(B8:B155),\"\")","v":""}]
[7,null,null,"מינימום",{"$f":"IF(COUNT(B8:B32)>2,MIN(B8:B155),\"\")","v":""}]
[8,null,null,"מקסימום",{"$f":"IF(COUNT(B8:B32)>2,MAX(B8:B155),\"\")","v":""}]
[9,null,null,"טווח",{"$f":"IF(COUNT(B8:B32)>2,E15-E14,\"\")","v":""}]
[10,null,null,"n",{"$f":"IF(COUNT(B8:B32)>2,COUNT(B8:B155),\"\")","v":""}]
[11,null,null,"skewnis",{"$f":"IF(COUNT(B8:B32)>2,SKEW(B8:B155),\"\")","v":""}]
[12,null,null,"kurtosis",{"$f":"IF(COUNT(B8:B32)>2,KURT(B8:B155),\"\")","v":""}]
[13,null,null," רבעון תחתון Q25",{"$f":"IF(COUNT(B8:B32)>2,QUARTILE(B8:B155,1),\"\")","v":""}]
[14,null,null," רבעון עליון  Q75",{"$f":"IF(COUNT(B8:B32)>2,QUARTILE(B8:B155,3),\"\")","v":""}]
[15,null,null,"מספר קבוצות",{"$f":"IF(COUNT(B8:B32)>2,IF(E17<25,5,IF(E17<40,6,IF(E17<90,7,IF(E17<200,8,9)))),\"\")","v":""}]
[16,null,null,"גודל טווח ",{"$f":"IF(COUNT(B8:B32)>2,E16/E22,\"\")","v":""}]
[17,null,null,"גודל טווח ",{"$f":"IF(COUNT(B8:B32)>2,IF(E17<50,E16/5,IF(E17<80,E16/6,E16/7)),\"\")","v":""}]
[18,null,null,{"$f":"COUNT(B8:B35)","v":0},null,{"$f":"IF(COUNT(B8:B32)>2,E14,\"\")","v":""},{"$f":"IF(AND(F25<E15,COUNT(B$8:B$32)>2),F25-E23/2,\"\")","v":""},{"$f":"IF(COUNT(B8:B32)>2,0,\"\")","v":""}]
[19,null,null,null,null,{"$f":"IF(AND(F25<E$15,COUNT(B$8:B$32)>2),F25+E$23,\"\")","v":""},{"$f":"IF(COUNT(B$8:B$32)>2, IF(F25<(E$15+E$23/2),G25+E$23,\"\"),\"\")","v":""},{"$f":"COUNTIFS(B$8:B$149,\"<=\"&F26)","v":0}]
[20,null,null,null,null,{"$f":"IF(AND(F26<E$15,COUNT(B$8:B$32)>2),F26+E$23,\"\")","v":""},{"$f":"IF(COUNT(B$8:B$32)>2, IF(F26<(E$15+E$23/2),G26+E$23,\"\"),\"\")","v":""},{"$f":"IF(F27=E$15,COUNTIFS(B$8:B$149,\">\"&F26,B$8:B$149,\"<\"&E$15),COUNTIFS(B$8:B$149,\">\"&F26,B$8:B$149,\"<=\"&F27))","v":0}]
[21,null,null,null,null,"","",{"$f":"IF(F28=E$15,COUNTIFS(B$8:B$149,\">\"&F27,B$8:B$149,\"<\"&E$15),COUNTIFS(B$8:B$149,\">\"&F27,B$8:B$149,\"<=\"&F28))","v":0}]
[22,null,null,null,null,"","",{"$f":"IF(F29=E$15,COUNTIFS(B$8:B$149,\">\"&F28,B$8:B$149,\"<\"&E$15),COUNTIFS(B$8:B$149,\">\"&F28,B$8:B$149,\"<=\"&F29))","v":0}]
[23,null,null,null,null,"","",{"$f":"IF(F30=E$15,COUNTIFS(B$8:B$149,\">\"&F29,B$8:B$149,\"<\"&E$15+0.005),COUNTIFS(B$8:B$149,\">\"&F29,B$8:B$149,\"<=\"&F30))","v":0}]
[24,null,null,null,null,"","",{"$f":"IF(F31=E$15,COUNTIFS(B$8:B$149,\">=\"&F30,B$8:B$149,\"<=\"&E$15),COUNTIFS(B$8:B$149,\">=\"&F30,B$8:B$149,\"<=\"&F31))","v":0}]
[25,null,null,null,null,"","",{"$f":"IF(F32=E$15,COUNTIFS(B$8:B$149,\">\"&F31,B$8:B$149,\"<\"&E$15),COUNTIFS(B$8:B$149,\">\"&F31,B$8:B$149,\"<\"&F32))","v":0}]
[26,null,null,null,null,{"$f":"IF(AND(F32<E$15,COUNT(B$8:B$32)>2),F32+E$24,\"\")","v":""},"",{"$f":"IF(F33=E$15,COUNTIFS(B$8:B$149,\">\"&F32,B$8:B$149,\"<\"&E$15),COUNTIFS(B$8:B$149,\">\"&F32,B$8:B$149,\"<\"&F33))","v":0}]
[27,null,null,null,null,null,{"$f":"IF(AND(F33<(E$15+E$23/2),COUNT(B$8:B$32)>2),G33+E$24,\"\")","v":{"$error":"#VALUE!"}}]
[28]
[29]
[30]
[31]
[32]
[33]
[34]
[35]
[36]
[37]
[38]
[39]
[40]
[41]
[42]
[43]
[44]
[45]
[46]
[47]
[48]
[49]
[50]
[51]
[52]
[53]
[54]
[55]
[56]
[57]
[58]
[59]
[60]
[61]
[62]
[63]
[64]
[65]
[66]
[67]
[68]
[69]
[70]
[71]
[72]
[73]
[74]
[75]
[76]
[77]
[78]
[79]
[80]
[81]
[82]
[83]
[84]
[85]
[86]
[87]
[88]
[89]
[90]
[91]
[92]
[93]
[94]
[95]
[96]
[97]
[98]
[99]
[100]
[101]
[102]
[103]
[104]
[105]
[106]
[107]
[108]
[109]
[110]
[111]
[112]
[113]
[114]
[115]
[116]
[117]
[118]
[119]
[120]
[121]
[122]
[123]
[124]
[125]
[126]
[127]
[128]
[129]
[130]
[131]
[132]
[133]
[134]
[135]
[136]
[137]
[138]
[139]
[140]
[141]
[142]
[143]
[144]
[145]
[146]
[147]
[148]

{"sheet":"צורת התפלגות של משתנה רציף (1)","index":23,"n_rows":97,"n_cols":8,"rows_kept":97,"cut":false,"hidden":false,"merged":[[8,3,8,4]]}
["סטטיסטיקה תיאורית של משתנים אינטרווליים (רציפים ) "]
["הצגת מדדים של סטטיסטקה תיאורית עבור משתנים רציפים "]
["הוראות "]
["הכנס את  הערכים של המתשנה בעמודה B  "]
["הסטטיסטיקה התיאורית תופיע באופן אוטומטי בצד שמאל של המסך  כולל היסטוגרם המתאר את ההתפלגות "]
[]
["הנבדק","משתנה1"]
[1]
[2,null,null,"סטטיסטיקה תיאורית "]
[3,null,null,null,{"$f":"B7","v":"משתנה1"}]
[4,null,null,"ממוצע",{"$f":"IF(COUNT(B8:B32)>2,AVERAGE(B8:B149),\"\")","v":""}]
[5,null,null,"חציון",{"$f":"IF(COUNT(B8:B32)>2,MEDIAN(B8:B149),\"\")","v":""}]
[6,null,null,"סטיית תקן",{"$f":"IF(COUNT(B8:B32)>2,_xlfn.STDEV.S(B8:B149),\"\")","v":""}]
[7,null,null,"מינימום",{"$f":"IF(COUNT(B8:B32)>2,MIN(B8:B149),\"\")","v":""}]
[8,null,null,"מקסימום",{"$f":"IF(COUNT(B8:B32)>2,MAX(B8:B149),\"\")","v":""}]
[9,null,null,"טווח",{"$f":"IF(COUNT(B8:B32)>2,E15-E14,\"\")","v":""}]
[10,null,null,"n",{"$f":"IF(COUNT(B8:B32)>2,COUNT(B8:B149),\"\")","v":""}]
[11,null,null,"skewnis",{"$f":"IF(COUNT(B8:B32)>2,SKEW(B8:B149),\"\")","v":""}]
[12,null,null,"kurtosis",{"$f":"IF(COUNT(B8:B32)>2,KURT(B8:B149),\"\")","v":""}]
[13,null,null," רבעון תחתון Q25",{"$f":"IF(COUNT(B8:B32)>2,QUARTILE(B8:B149,1),\"\")","v":""}]
[14,null,null," רבעון עליון  Q75",{"$f":"IF(COUNT(B8:B32)>2,QUARTILE(B8:B149,3),\"\")","v":""}]
[15,null,null,"מספר קבוצות",{"$f":"IF(COUNT(B8:B32)>2,IF(E17<50,5,IF(E17<80,6,7)),\"\")","v":""}]
[16,null,null,"גודל טווח ",{"$f":"IF(COUNT(B8:B32)>2,E16/E22,\"\")","v":""}]
[17,null,null,"גודל טווח ",{"$f":"IF(COUNT(B8:B32)>2,IF(E17<50,E16/5,IF(E17<80,E16/6,E16/7)),\"\")","v":""}]
[18,null,null,null,null,{"$f":"IF(COUNT(B8:B32)>2,E14,\"\")","v":""},{"$f":"IF(AND(F25<E15,COUNT(B8:B32)>2),F25-E24/2,\"\")","v":""},{"$f":"IF(COUNT(B8:B32)>2,0,\"\")","v":""}]
[19,null,null,null,null,{"$f":"IF(AND(F25<E$15,COUNT(B$8:B$32)>2),F25+E$24,\"\")","v":""},{"$f":"IF(AND(F25<(E$15+E$23/2),COUNT(B$8:B$32)>2),G25+E$24,\"\")","v":{"$error":"#VALUE!"}},{"$f":"COUNTIFS(B$8:B$149,\"<\"&F26)","v":0}]
[20,null,null,null,null,"",{"$error":"#VALUE!"},{"$f":"IF(F27=E$15,COUNTIFS(B$8:B$149,\">\"&F26,B$8:B$149,\"<\"&E$15),COUNTIFS(B$8:B$149,\">\"&F26,B$8:B$149,\"<\"&F27))","v":0}]
[21,null,null,null,null,"",{"$error":"#VALUE!"},{"$f":"IF(F28=E$15,COUNTIFS(B$8:B$149,\">\"&F27,B$8:B$149,\"<\"&E$15),COUNTIFS(B$8:B$149,\">\"&F27,B$8:B$149,\"<\"&F28))","v":0}]
[22,null,null,null,null,"",{"$error":"#VALUE!"},{"$f":"IF(F29=E$15,COUNTIFS(B$8:B$149,\">\"&F28,B$8:B$149,\"<\"&E$15),COUNTIFS(B$8:B$149,\">\"&F28,B$8:B$149,\"<\"&F29))","v":0}]
[23,null,null,null,null,"",{"$error":"#VALUE!"},{"$f":"IF(F30=E$15,COUNTIFS(B$8:B$149,\">\"&F29,B$8:B$149,\"<\"&E$15+0.005),COUNTIFS(B$8:B$149,\">\"&F29,B$8:B$149,\"<\"&F30))","v":0}]
[24,null,null,null,null,"",{"$error":"#VALUE!"},{"$f":"IF(F31=E$15,COUNTIFS(B$8:B$149,\">\"&F30,B$8:B$149,\"<\"&E$15),COUNTIFS(B$8:B$149,\">\"&F30,B$8:B$149,\"<\"&F31))","v":0}]
[25,null,null,null,null,"",{"$f":"IF(AND(F31<(E$15+E$23/2),COUNT(B$8:B$32)>2),G31+E$24, G31+E23)","v":{"$error":"#VALUE!"}},{"$f":"IF(F32=E$15,COUNTIFS(B$8:B$149,\">\"&F31,B$8:B$149,\"<\"&E$15),COUNTIFS(B$8:B$149,\">\"&F31,B$8:B$149,\"<\"&F32))","v":0}]
[26,null,null,null,null,"",{"$f":"IF(AND(F32<(E$15+E$23/2),COUNT(B$8:B$32)>2),G32+E$24, G32+E24)","v":{"$error":"#VALUE!"}},{"$f":"IF(F33=E$15,COUNTIFS(B$8:B$149,\">\"&F32,B$8:B$149,\"<\"&E$15),COUNTIFS(B$8:B$149,\">\"&F32,B$8:B$149,\"<\"&F33))","v":0}]
[27,null,null,null,null,null,{"$f":"IF(AND(F33<(E$15+E$23/2),COUNT(B$8:B$32)>2),G33+E$24,\"\")","v":{"$error":"#VALUE!"}}]
[28]
[29]
[30]
[31]
[32]
[33]
[34]
[35]
[36]
[37]
[38]
[39]
[40]
[41]
[42]
[43]
[44]
[45]
[46]
[47]
[48]
[49]
[50]
[51]
[52]
[53]
[54]
[55]
[56]
[57]
[58]
[59]
[60]
[61]
[62]
[63]
[64]
[65]
[66]
[67]
[68]
[69]
[70]
[71]
[72]
[73]
[74]
[75]
[76]
[77]
[78]
[79]
[80]
[81]
[82]
[83]
[84]
[85]
[86]
[87]
[88]
[89]
[90]

{"sheet":"התפלגות של משתנה קטגוריילי ","index":24,"n_rows":160,"n_cols":11,"rows_kept":160,"cut":false,"hidden":false,"merged":[]}
["שכיחוית של משתנים קטגוריליים "]
["מיועד לבדוק את ההתפלגות השכיחויות  (מספר ואחוז הנבדקים ) של משתנים קטגוריילים /סידוריים "]
[]
["הוראות "]
["הכנס את שמות המשתנים  (שורה 12) ואת הערכים עבור המשתנים עבורם אתה רוצה להציג את התפלגות השכיחויות "]
["הסטטיסטיקה התיאורית והתפלגות השכיחויות יופיעו באופן אוטומטי בצד שמאל של המסך "]
["להכנסת נתונים חדשים ואיפוס הטבלאות לחץ על כפתור נקה לחזרה לתפריט הראשי לחץ על כפתור התפריט "]
[]
[null,null,null,null,null,null,{"$f":"B10","v":"משתנה1"},null,null,{"$f":"G9","v":"משתנה1"}]
["הנבדק","משתנה1",null,null,null,"ממוצע",{"$f":"IF(COUNT(B11:B32)>2,AVERAGE(B11:B160),\"\")","v":""},null,null,"שכיחויות","אחוזים"]
[1,null,null,null,null,"חציון",{"$f":"IF(COUNT(B11:B32)>2,MEDIAN(B11:B160),\"\")","v":""},null,1,{"$f":"IF(AND(COUNT(B$11:B$32)>2,COUNTIF(B$11:B$160,1)>0),COUNTIF(B$11:B$160,1),\"\")","v":""},{"$f":"IF(AND(SUM(J$11:J$15)>0,LEN(J11)>0),J11/J$16,\"\")","v":""}]
[2,null,null,null,null,"סטיית תקן",{"$f":"IF(COUNT(B11:B32)>2,STDEV(B11:B160),\"\")","v":""},null,2,{"$f":"IF(AND(COUNT(B$11:B$32)>2,COUNTIF(B$11:B$160,2)>0),COUNTIF(B$11:B$160,2),\"\")","v":""},{"$f":"IF(AND(SUM(J$11:J$15)>0,LEN(J12)>0),J12/J$16,\"\")","v":""}]
[3,null,null,null,null,"מינימום",{"$f":"IF(COUNT(B11:B32)>2,MIN(B11:B160),\"\")","v":""},null,3,{"$f":"IF(AND(COUNT(B$11:B$32)>2,COUNTIF(B$11:B$160,3)>0),COUNTIF(B$11:B$160,3),\"\")","v":""},{"$f":"IF(AND(SUM(J$11:J$15)>0,LEN(J13)>0),J13/J$16,\"\")","v":""}]
[4,null,null,null,null,"מקסימום",{"$f":"IF(COUNT(B11:B32)>2,MAX(B11:B160),\"\")","v":""},null,4,{"$f":"IF(AND(COUNT(B$11:B$32)>2,COUNTIF(B$11:B$160,4)>0),COUNTIF(B$11:B$160,4),\"\")","v":""},{"$f":"IF(AND(SUM(J$11:J$15)>0,LEN(J14)>0),J14/J$16,\"\")","v":""}]
[5,null,null,null,null,"n",{"$f":"IF(COUNT(B11:B32)>2,COUNT(B11:B160),\"\")","v":""},null,5,{"$f":"IF(AND(COUNT(B$11:B$32)>2,COUNTIF(B$11:B$160,5)>0),COUNTIF(B$11:B$160,5),\"\")","v":""},{"$f":"IF(AND(SUM(J$11:J$15)>0,LEN(J15)>0),J15/J$16,\"\")","v":""}]
[6,null,null,null,null," רבעון עליון  Q25",{"$f":"IF(COUNT(B11:B32)>2,QUARTILE(B11:B160,1),\"\")","v":""},null,"סה\"כ",{"$f":"IF(SUM(J11:J15)>0,SUM(J11:J15),\"\")","v":""},{"$f":"IF(SUM(K11:K15)>0,SUM(K11:K15),\"\")","v":""}]
[7,null,null,null,null," רבעון עליון  Q75",{"$f":"IF(COUNT(B12:B33)>2,QUARTILE(B12:B160,3),\"\")","v":""}]
[8]
[12,null,null,null,null,null,null,"שכיחוית של משתנים קטגוריליים "]
[13]
[14]
[15]
[16]
[17]
[18]
[19]
[20]
[21]
[22]
[23]
[24]
[25]
[26]
[27]
[28]
[29]
[30]
[31]
[32]
[33]
[34]
[35]
[36]
[37]
[38]
[39]
[40]
[41]
[42]
[43]
[44]
[45]
[46]
[47]
[48]
[49]
[50]
[51]
[52]
[53]
[54]
[55]
[56]
[57]
[58]
[59]
[60]
[61]
[62]
[63]
[64]
[65]
[66]
[67]
[68]
[69]
[70]
[71]
[72]
[73]
[74]
[75]
[76]
[77]
[78]
[79]
[80]
[81]
[82]
[83]
[84]
[85]
[86]
[87]
[88]
[89]
[90]
[91]
[92]
[93]
[94]
[95]
[96]
[97]
[98]
[99]
[100]
[101]
[102]
[103]
[104]
[105]
[106]
[107]
[108]
[109]
[110]
[111]
[112]
[113]
[114]
[115]
[116]
[117]
[118]
[119]
[120]
[121]
[122]
[123]
[124]
[125]
[126]
[127]
[128]
[129]
[130]
[131]
[132]
[133]
[134]
[135]
[136]
[137]
[138]
[139]
[140]
[141]
[142]
[143]
[144]
[145]
[146]
[147]
[148]
[149]
[150]
[151]
[152]
[153]

{"sheet":"התפלגות של משתנה קטגוריילי  1","index":25,"n_rows":97,"n_cols":11,"rows_kept":97,"cut":false,"hidden":false,"merged":[]}
["שכיחוית של משתנים קטגוריליים "]
["מיועד לבדוק את ההתפלגות השכיחויות  (מספר ואחוז הנבדקים ) של משתנים קטגוריילים /סידוריים "]
[]
["הוראות "]
["הכנס את שמות המשתנים  (שורה 12) ואת הערכים עבור המשתנים עבורם אתה רוצה להציג את התפלגות השכיחויות "]
["הסטטיסטיקה התיאורית והתפלגות השכיחויות יופיעו באופן אוטומטי בצד שמאל של המסך "]
["להכנסת נתונים חדשים ואיפוס הטבלאות לחץ על כפתור נקה לחזרה לתפריט הראשי לחץ על כפתור התפריט "]
[]
[null,null,null,null,null,null,{"$f":"B10","v":"משתנה1"},null,null,{"$f":"G9","v":"משתנה1"}]
["הנבדק","משתנה1",null,null,null,"ממוצע",{"$f":"IF(COUNT(B11:B32)>2,AVERAGE(B11:B97),\"\")","v":""},null,null,"שכיחויות","אחוזים"]
[1,null,null,null,null,"חציון",{"$f":"IF(COUNT(B11:B32)>2,MEDIAN(B11:B97),\"\")","v":""},null,1,{"$f":"IF(AND(COUNT(B$11:B$32)>2,COUNTIF(B$11:B$97,1)>0),COUNTIF(B$11:B$97,1),\"\")","v":""},{"$f":"IF(AND(SUM(J$11:J$15)>0,LEN(J11)>0),J11/J$16,\"\")","v":""}]
[2,null,null,null,null,"סטיית תקן",{"$f":"IF(COUNT(B11:B32)>2,_xlfn.STDEV.S(B11:B97),\"\")","v":""},null,2,{"$f":"IF(AND(COUNT(B$11:B$32)>2,COUNTIF(B$11:B$97,2)>0),COUNTIF(B$11:B$97,2),\"\")","v":""},{"$f":"IF(AND(SUM(J$11:J$15)>0,LEN(J12)>0),J12/J$16,\"\")","v":""}]
[3,null,null,null,null,"מינימום",{"$f":"IF(COUNT(B11:B32)>2,MIN(B11:B97),\"\")","v":""},null,3,{"$f":"IF(AND(COUNT(B$11:B$32)>2,COUNTIF(B$11:B$97,3)>0),COUNTIF(B$11:B$97,3),\"\")","v":""},{"$f":"IF(AND(SUM(J$11:J$15)>0,LEN(J13)>0),J13/J$16,\"\")","v":""}]
[4,null,null,null,null,"מקסימום",{"$f":"IF(COUNT(B11:B32)>2,MAX(B11:B97),\"\")","v":""},null,4,{"$f":"IF(AND(COUNT(B$11:B$32)>2,COUNTIF(B$11:B$97,4)>0),COUNTIF(B$11:B$97,4),\"\")","v":""},{"$f":"IF(AND(SUM(J$11:J$15)>0,LEN(J14)>0),J14/J$16,\"\")","v":""}]
[5,null,null,null,null,"n",{"$f":"IF(COUNT(B11:B32)>2,COUNT(B11:B97),\"\")","v":""},null,5,{"$f":"IF(AND(COUNT(B$11:B$32)>2,COUNTIF(B$11:B$97,5)>0),COUNTIF(B$11:B$97,5),\"\")","v":""},{"$f":"IF(AND(SUM(J$11:J$15)>0,LEN(J15)>0),J15/J$16,\"\")","v":""}]
[6,null,null,null,null," רבעון עליון  Q25",{"$f":"IF(COUNT(B11:B32)>2,QUARTILE(B11:B97,1),\"\")","v":""},null,"סה\"כ",{"$f":"IF(SUM(J11:J15)>0,SUM(J11:J15),\"\")","v":""},{"$f":"IF(SUM(K11:K15)>0,SUM(K11:K15),\"\")","v":""}]
[7,null,null,null,null," רבעון עליון  Q75",{"$f":"IF(COUNT(B12:B33)>2,QUARTILE(B12:B98,3),\"\")","v":""}]
[8]
[12,null,null,null,null,null,null,"שכיחוית של משתנים קטגוריליים "]
[13]
[14]
[15]
[16]
[17]
[18]
[19]
[20]
[21]
[22]
[23]
[24]
[25]
[26]
[27]
[28]
[29]
[30]
[31]
[32]
[33]
[34]
[35]
[36]
[37]
[38]
[39]
[40]
[41]
[42]
[43]
[44]
[45]
[46]
[47]
[48]
[49]
[50]
[51]
[52]
[53]
[54]
[55]
[56]
[57]
[58]
[59]
[60]
[61]
[62]
[63]
[64]
[65]
[66]
[67]
[68]
[69]
[70]
[71]
[72]
[73]
[74]
[75]
[76]
[77]
[78]
[79]
[80]
[81]
[82]
[83]
[84]
[85]
[86]
[87]
[88]
[89]
[90]

{"sheet":"freq  מסטר","index":26,"n_rows":160,"n_cols":44,"rows_kept":160,"cut":false,"hidden":false,"merged":[]}
["שכיחוית של משתנים קטגוריליים ",null,null,null,null,null,null,null,null,null,null,null,null,null,null,null,null,null,null,null,null,null,null,null,null,"סטטיסטיקה תיאורית "]
[null,null,null,null,null,null,null,null,null,null,null,null,null,null,null,null,null,null,null,null,null,null,null,null,{"$f":"B12","v":"משתנה1"},{"$f":"C12","v":"משתנה2"},"משתנה3","משתנה4","משתנה5","משתנה6","משתנה7","משתנה8","משתנה9","משתנה10","משתנה11","משתנה12","משתנה13","משתנה14","משתנה15","משתנה16","משתנה17","משתנה18","משתנה19","משתנה20"]
["מיועד לבדוק את ההתפלגות השכיחויות  (מספר ואחוז הנבדקים ) של משתנים קטגוריילים /סידוריים ",null,null,null,null,null,null,null,null,null,null,null,null,null,null,null,null,null,null,null,null,null,null,"ממוצע",{"$f":"IF(COUNT(B13:B34)>2,AVERAGE(B13:B160),\"\")","v":""},{"$f":"IF(COUNT(C13:C34)>2,AVERAGE(C13:C160),\"\")","v":""},"","","","","","","","","","","","","","","","","",""]
["הוראות ",null,null,null,null,null,null,null,null,null,null,null,null,null,null,null,null,null,null,null,null,null,null,"חציון",{"$f":"IF(COUNT(B13:B34)>2,MEDIAN(B13:B160),\"\")","v":""},{"$f":"IF(COUNT(C13:C34)>2,MEDIAN(C13:C160),\"\")","v":""},"","","","","","","","","","","","","","","","","",""]
["הכנס את שמות המשתנים  (שורה 12) ואת הערכים עבור המשתנים עבורם אתה רוצה להציג את התפלגות השכיחויות ",null,null,null,null,null,null,null,null,null,null,null,null,null,null,null,null,null,null,null,null,null,null,"סטיית תקן",{"$f":"IF(COUNT(B13:B34)>2,STDEV(B13:B160),\"\")","v":""},"","","","","","","","","","","","","","","","","","",""]
["הסטטיסטיקה התיאורית והתפלגות השכיחויות יופיעו באופן אוטומטי בצד שמאל של המסך ",null,null,null,null,null,null,null,null,null,null,null,null,null,null,null,null,null,null,null,null,null,null,"מינימום",{"$f":"IF(COUNT(B13:B34)>2,MIN(B13:B160),\"\")","v":""},{"$f":"IF(COUNT(C13:C34)>2,MIN(C13:C160),\"\")","v":""},"","","","","","","","","","","","","","","","","",""]
["להכנסת נתונים חדשים ואיפוס הטבלאות לחץ על כפתור נקה לחזרה לתפריט הראשי לחץ על כפתור התפריט ",null,null,null,null,null,null,null,null,null,null,null,null,null,null,null,null,null,null,null,null,null,null,"מקסימום",{"$f":"IF(COUNT(B13:B34)>2,MAX(B13:B160),\"\")","v":""},{"$f":"IF(COUNT(C13:C34)>2,MAX(C13:C160),\"\")","v":""},"","","","","","","","","","","","","","","","","",""]
[null,null,null,null,null,null,null,null,null,null,null,null,null,null,null,null,null,null,null,null,null,null,null,"n",{"$f":"IF(COUNT(B13:B34)>2,COUNT(B13:B160),\"\")","v":""},{"$f":"IF(COUNT(C13:C34)>2,COUNT(C13:C160),\"\")","v":""},"","","","","","","","","","","","","","","","","",""]
[null,null,null,null,null,null,null,null,null,null,null,null,null,null,null,null,null,null,null,null,null,null,null," רבעון עליון  Q25",{"$f":"IF(COUNT(B13:B34)>2,QUARTILE(B13:B160,1),\"\")","v":""},{"$f":"IF(COUNT(C13:C34)>2,QUARTILE(C13:C160,1),\"\")","v":""},"","","","","","","","","","","","","","","","","",""]
[null,null,null,null,null,null,null,null,null,null,null,null,null,null,null,null,null,null,null,null,null,null,null," רבעון עליון  Q75",{"$f":"IF(COUNT(B14:B35)>2,QUARTILE(B14:B160,3),\"\")","v":""},{"$f":"IF(COUNT(C14:C35)>2,QUARTILE(C14:C160,3),\"\")","v":""},"","","","","","","","","","","","","","","","","",""]
[]
["הנבדק","משתנה1","משתנה2","משתנה3","משתנה4","משתנה5","משתנה6","משתנה7","משתנה8","משתנה9","משתנה10","משתנה11","משתנה12","משתנה13","משתנה14","משתנה15","משתנה16","משתנה17","משתנה18","משתנה19","משתנה20",null,null,"שכיחויות",{"$f":"B12","v":"משתנה1"},{"$f":"C12","v":"משתנה2"},"משתנה3","משתנה4","משתנה5","משתנה6","משתנה7","משתנה8","משתנה9","משתנה10","משתנה11","משתנה12","משתנה13",{"$f":"O12","v":"משתנה14"},{"$f":"P12","v":"משתנה15"},{"$f":"Q12","v":"משתנה16"},{"$f":"R12","v":"משתנה17"},{"$f":"S12","v":"משתנה18"},{"$f":"T12","v":"משתנה19"},{"$f":"U12","v":"משתנה20"}]
[1,null,null,null,null,null,null,null,null,null,null,null,null,null,null,null,null,null,null,null,null,null,null,1,{"$f":"IF(AND(COUNT(B$13:B$34)>2,COUNTIF(B$13:B$160,1)>0),COUNTIF(B$13:B$160,1),\"\")","v":""},{"$f":"IF(AND(COUNT(C$13:C$34)>2,COUNTIF(C$13:C$160,1)>0),COUNTIF(C$13:C$160,1),\"\")","v":""},"","","","","","","","","","","","","","","","","",""]
[2,null,null,null,null,null,null,null,null,null,null,null,null,null,null,null,null,null,null,null,null,null,null,2,{"$f":"IF(AND(COUNT(B$13:B$34)>2,COUNTIF(B$13:B$160,2)>0),COUNTIF(B$13:B$160,2),\"\")","v":""},{"$f":"IF(AND(COUNT(C$13:C$34)>2,COUNTIF(C$13:C$160,2)>0),COUNTIF(C$13:C$160,2),\"\")","v":""},"","","","","","","","","","","","","","","","","",""]
[3,null,null,null,null,null,null,null,null,null,null,null,null,null,null,null,null,null,null,null,null,null,null,3,{"$f":"IF(AND(COUNT(B$13:B$34)>2,COUNTIF(B$13:B$160,3)>0),COUNTIF(B$13:B$160,3),\"\")","v":""},{"$f":"IF(AND(COUNT(C$13:C$34)>2,COUNTIF(C$13:C$160,3)>0),COUNTIF(C$13:C$160,3),\"\")","v":""},"","","","","","","","","","","","","","","","","",""]
[4,null,null,null,null,null,null,null,null,null,null,null,null,null,null,null,null,null,null,null,null,null,null,4,{"$f":"IF(AND(COUNT(B$13:B$34)>2,COUNTIF(B$13:B$160,4)>0),COUNTIF(B$13:B$160,4),\"\")","v":""},{"$f":"IF(AND(COUNT(C$13:C$34)>2,COUNTIF(C$13:C$160,4)>0),COUNTIF(C$13:C$160,4),\"\")","v":""},"","","","","","","","","","","","","","","","","",""]
[5,null,null,null,null,null,null,null,null,null,null,null,null,null,null,null,null,null,null,null,null,null,null,5,{"$f":"IF(AND(COUNT(B$13:B$34)>2,COUNTIF(B$13:B$160,5)>0),COUNTIF(B$13:B$160,5),\"\")","v":""},{"$f":"IF(AND(COUNT(C$13:C$34)>2,COUNTIF(C$13:C$160,5)>0),COUNTIF(C$13:C$160,5),\"\")","v":""},"","","","","","","","","","","","","","","","","",""]
[6,null,null,null,null,null,null,null,null,null,null,null,null,null,null,null,null,null,null,null,null,null,null,"סה\"כ",{"$f":"IF(SUM(Y13:Y17)>0,SUM(Y13:Y17),\"\")","v":""},{"$f":"IF(SUM(Z13:Z17)>0,SUM(Z13:Z17),\"\")","v":""},"","","","","","","","","","","","","","","","","",""]
[7]
[8,null,null,null,null,null,null,null,null,null,null,null,null,null,null,null,null,null,null,null,null,null,null,"אחוזים "]
[12,null,null,null,null,null,null,null,null,null,null,null,null,null,null,null,null,null,null,null,null,null,null,1,{"$f":"IF(AND(SUM(Y$13:Y$17)>0,LEN(Y13)>0),Y13/Y$18,\"\")","v":""},{"$f":"IF(AND(SUM(Z$13:Z$17)>0,LEN(Z13)>0),Z13/Z$18,\"\")","v":""},"","","","","","","","","","","","","","",{"$f":"IF(AND(SUM(AO$13:AO$17)>0,LEN(AO13)>0),AO13/AO$18,\"\")","v":""},"","",""]
[13,null,null,null,null,null,null,null,null,null,null,null,null,null,null,null,null,null,null,null,null,null,null,2,"","","","","","","","","","","","","","","","","","","",""]
[14,null,null,null,null,null,null,null,null,null,null,null,null,null,null,null,null,null,null,null,null,null,null,3,"","","","","","","","","","","","","","","","","","","",""]
[15,null,null,null,null,null,null,null,null,null,null,null,null,null,null,null,null,null,null,null,null,null,null,4,{"$f":"IF(AND(SUM(Y$13:Y$17)>0,LEN(Y16)>0),Y16/Y$18,\"\")","v":""},{"$f":"IF(AND(SUM(Z$13:Z$17)>0,LEN(Z16)>0),Z16/Z$18,\"\")","v":""},"","","","","","","","","","","","","","","","","",""]
[16,null,null,null,null,null,null,null,null,null,null,null,null,null,null,null,null,null,null,null,null,null,null,5,{"$f":"IF(AND(SUM(Y$13:Y$17)>0,LEN(Y17)>0),Y17/Y$18,\"\")","v":""},{"$f":"IF(AND(SUM(Z$13:Z$17)>0,LEN(Z17)>0),Z17/Z$18,\"\")","v":""},"","","","","","","","","","","","","","","","","",""]
[17,null,null,null,null,null,null,null,null,null,null,null,null,null,null,null,null,null,null,null,null,null,null,"סה\"כ",{"$f":"IF(SUM(Y21:Y25)>0,SUM(Y21:Y25),\"\")","v":""},{"$f":"IF(SUM(Z21:Z25)>0,SUM(Z21:Z25),\"\")","v":""},"","","","","","","","","","","","","","","","","",""]
[18]
[19]
[20]
[21]
[22]
[23]
[24]
[25]
[26]
[27]
[28]
[29]
[30]
[31]
[32]
[33]
[34]
[35]
[36]
[37]
[38]
[39]
[40]
[41]
[42]
[43]
[44]
[45]
[46]
[47]
[48]
[49]
[50]
[51]
[52]
[53]
[54]
[55]
[56]
[57]
[58]
[59]
[60]
[61]
[62]
[63]
[64]
[65]
[66]
[67]
[68]
[69]
[70]
[71]
[72]
[73]
[74]
[75]
[76]
[77]
[78]
[79]
[80]
[81]
[82]
[83]
[84]
[85]
[86]
[87]
[88]
[89]
[90]
[91]
[92]
[93]
[94]
[95]
[96]
[97]
[98]
[99]
[100]
[101]
[102]
[103]
[104]
[105]
[106]
[107]
[108]
[109]
[110]
[111]
[112]
[113]
[114]
[115]
[116]
[117]
[118]
[119]
[120]
[121]
[122]
[123]
[124]
[125]
[126]
[127]
[128]
[129]
[130]
[131]
[132]
[133]
[134]
[135]
[136]
[137]
[138]
[139]
[140]
[141]
[142]
[143]
[144]
[145]
[146]
[147]
[148]
[149]
[150]
[151]

{"sheet":"freq  מסטר 1","index":27,"n_rows":99,"n_cols":44,"rows_kept":99,"cut":false,"hidden":false,"merged":[]}
["שכיחוית של משתנים קטגוריליים ",null,null,null,null,null,null,null,null,null,null,null,null,null,null,null,null,null,null,null,null,null,null,null,null,"סטטיסטיקה תיאורית "]
[null,null,null,null,null,null,null,null,null,null,null,null,null,null,null,null,null,null,null,null,null,null,null,null,{"$f":"B12","v":"משתנה1"},{"$f":"C12","v":"משתנה2"},"משתנה3","משתנה4","משתנה5","משתנה6","משתנה7","משתנה8","משתנה9","משתנה10","משתנה11","משתנה12","משתנה13","משתנה14","משתנה15","משתנה16","משתנה17","משתנה18","משתנה19","משתנה20"]
["מיועד לבדוק את ההתפלגות השכיחויות  (מספר ואחוז הנבדקים ) של משתנים קטגוריילים /סידוריים ",null,null,null,null,null,null,null,null,null,null,null,null,null,null,null,null,null,null,null,null,null,null,"ממוצע",{"$f":"IF(COUNT(B13:B34)>2,AVERAGE(B13:B99),\"\")","v":""},{"$f":"IF(COUNT(C13:C34)>2,AVERAGE(C13:C99),\"\")","v":""},"","","","","","","","","","","","","","","","","",""]
["הוראות ",null,null,null,null,null,null,null,null,null,null,null,null,null,null,null,null,null,null,null,null,null,null,"חציון",{"$f":"IF(COUNT(B13:B34)>2,MEDIAN(B13:B99),\"\")","v":""},{"$f":"IF(COUNT(C13:C34)>2,MEDIAN(C13:C99),\"\")","v":""},"","","","","","","","","","","","","","","","","",""]
["הכנס את שמות המשתנים  (שורה 12) ואת הערכים עבור המשתנים עבורם אתה רוצה להציג את התפלגות השכיחויות ",null,null,null,null,null,null,null,null,null,null,null,null,null,null,null,null,null,null,null,null,null,null,"סטיית תקן",{"$f":"IF(COUNT(B13:B34)>2,_xlfn.STDEV.S(B13:B99),\"\")","v":""},{"$f":"IF(COUNT(C13:C34)>2,_xlfn.STDEV.S(C13:C99),\"\")","v":""},"","","","","","","","","","","","","","","","","",""]
["הסטטיסטיקה התיאורית והתפלגות השכיחויות יופיעו באופן אוטומטי בצד שמאל של המסך ",null,null,null,null,null,null,null,null,null,null,null,null,null,null,null,null,null,null,null,null,null,null,"מינימום",{"$f":"IF(COUNT(B13:B34)>2,MIN(B13:B99),\"\")","v":""},{"$f":"IF(COUNT(C13:C34)>2,MIN(C13:C99),\"\")","v":""},"","","","","","","","","","","","","","","","","",""]
["להכנסת נתונים חדשים ואיפוס הטבלאות לחץ על כפתור נקה לחזרה לתפריט הראשי לחץ על כפתור התפריט ",null,null,null,null,null,null,null,null,null,null,null,null,null,null,null,null,null,null,null,null,null,null,"מקסימום",{"$f":"IF(COUNT(B13:B34)>2,MAX(B13:B99),\"\")","v":""},{"$f":"IF(COUNT(C13:C34)>2,MAX(C13:C99),\"\")","v":""},"","","","","","","","","","","","","","","","","",""]
[null,null,null,null,null,null,null,null,null,null,null,null,null,null,null,null,null,null,null,null,null,null,null,"n",{"$f":"IF(COUNT(B13:B34)>2,COUNT(B13:B99),\"\")","v":""},{"$f":"IF(COUNT(C13:C34)>2,COUNT(C13:C99),\"\")","v":""},"","","","","","","","","","","","","","","","","",""]
[null,null,null,null,null,null,null,null,null,null,null,null,null,null,null,null,null,null,null,null,null,null,null," רבעון עליון  Q25",{"$f":"IF(COUNT(B13:B34)>2,QUARTILE(B13:B99,1),\"\")","v":""},{"$f":"IF(COUNT(C13:C34)>2,QUARTILE(C13:C99,1),\"\")","v":""},"","","","","","","","","","","","","","","","","",""]
[null,null,null,null,null,null,null,null,null,null,null,null,null,null,null,null,null,null,null,null,null,null,null," רבעון עליון  Q75",{"$f":"IF(COUNT(B14:B35)>2,QUARTILE(B14:B100,3),\"\")","v":""},{"$f":"IF(COUNT(C14:C35)>2,QUARTILE(C14:C100,3),\"\")","v":""},"","","","","","","","","","","","","","","","","",""]
[]
["הנבדק","משתנה1","משתנה2","משתנה3","משתנה4","משתנה5","משתנה6","משתנה7","משתנה8","משתנה9","משתנה10","משתנה11","משתנה12","משתנה13","משתנה14","משתנה15","משתנה16","משתנה17","משתנה18","משתנה19","משתנה20",null,null,"שכיחויות",{"$f":"B12","v":"משתנה1"},{"$f":"C12","v":"משתנה2"},"משתנה3","משתנה4","משתנה5","משתנה6","משתנה7","משתנה8","משתנה9","משתנה10","משתנה11","משתנה12","משתנה13","משתנה14","משתנה15","משתנה16","משתנה17","משתנה18","משתנה19","משתנה20"]
[1,null,null,null,null,null,null,null,null,null,null,null,null,null,null,null,null,null,null,null,null,null,null,1,{"$f":"IF(AND(COUNT(B$13:B$34)>2,COUNTIF(B$13:B$99,1)>0),COUNTIF(B$13:B$99,1),\"\")","v":""},{"$f":"IF(AND(COUNT(C$13:C$34)>2,COUNTIF(C$13:C$99,1)>0),COUNTIF(C$13:C$99,1),\"\")","v":""},"","","","","","","","","","","","","","","","","",""]
[2,null,null,null,null,null,null,null,null,null,null,null,null,null,null,null,null,null,null,null,null,null,null,2,{"$f":"IF(AND(COUNT(B$13:B$34)>2,COUNTIF(B$13:B$99,2)>0),COUNTIF(B$13:B$99,2),\"\")","v":""},{"$f":"IF(AND(COUNT(C$13:C$34)>2,COUNTIF(C$13:C$99,2)>0),COUNTIF(C$13:C$99,2),\"\")","v":""},"","","","","","","","","","","","","","","","","",""]
[3,null,null,null,null,null,null,null,null,null,null,null,null,null,null,null,null,null,null,null,null,null,null,3,{"$f":"IF(AND(COUNT(B$13:B$34)>2,COUNTIF(B$13:B$99,3)>0),COUNTIF(B$13:B$99,3),\"\")","v":""},{"$f":"IF(AND(COUNT(C$13:C$34)>2,COUNTIF(C$13:C$99,3)>0),COUNTIF(C$13:C$99,3),\"\")","v":""},"","","","","","","","","","","","","","","","","",""]
[4,null,null,null,null,null,null,null,null,null,null,null,null,null,null,null,null,null,null,null,null,null,null,4,{"$f":"IF(AND(COUNT(B$13:B$34)>2,COUNTIF(B$13:B$99,4)>0),COUNTIF(B$13:B$99,4),\"\")","v":""},{"$f":"IF(AND(COUNT(C$13:C$34)>2,COUNTIF(C$13:C$99,4)>0),COUNTIF(C$13:C$99,4),\"\")","v":""},"","","","","","","","","","","","","","","","","",""]
[5,null,null,null,null,null,null,null,null,null,null,null,null,null,null,null,null,null,null,null,null,null,null,5,{"$f":"IF(AND(COUNT(B$13:B$34)>2,COUNTIF(B$13:B$99,5)>0),COUNTIF(B$13:B$99,5),\"\")","v":""},{"$f":"IF(AND(COUNT(C$13:C$34)>2,COUNTIF(C$13:C$99,5)>0),COUNTIF(C$13:C$99,5),\"\")","v":""},"","","","","","","","","","","","","","","","","",""]
[6,null,null,null,null,null,null,null,null,null,null,null,null,null,null,null,null,null,null,null,null,null,null,"סה\"כ",{"$f":"IF(SUM(Y13:Y17)>0,SUM(Y13:Y17),\"\")","v":""},{"$f":"IF(SUM(Z13:Z17)>0,SUM(Z13:Z17),\"\")","v":""},"","","","","","","","","","","","","","","","","",""]
[7]
[8,null,null,null,null,null,null,null,null,null,null,null,null,null,null,null,null,null,null,null,null,null,null,"אחוזים "]
[12,null,null,null,null,null,null,null,null,null,null,null,null,null,null,null,null,null,null,null,null,null,null,1,{"$f":"IF(AND(SUM(Y$13:Y$17)>0,LEN(Y13)>0),Y13/Y$18,\"\")","v":""},"","","","","","","","","","","","","","","","","","",""]
[13,null,null,null,null,null,null,null,null,null,null,null,null,null,null,null,null,null,null,null,null,null,null,2,"","","","","","","","","","","","","","","","","","","",""]
[14,null,null,null,null,null,null,null,null,null,null,null,null,null,null,null,null,null,null,null,null,null,null,3,"","","","","","","","","","","","","","","","","","","",""]
[15,null,null,null,null,null,null,null,null,null,null,null,null,null,null,null,null,null,null,null,null,null,null,4,{"$f":"IF(AND(SUM(Y$13:Y$17)>0,LEN(Y16)>0),Y16/Y$18,\"\")","v":""},"","","","","","","","","","","","","","","","","","",""]
[16,null,null,null,null,null,null,null,null,null,null,null,null,null,null,null,null,null,null,null,null,null,null,5,{"$f":"IF(AND(SUM(Y$13:Y$17)>0,LEN(Y17)>0),Y17/Y$18,\"\")","v":""},"","","","","","","","","","","","","","","","","","",""]
[17,null,null,null,null,null,null,null,null,null,null,null,null,null,null,null,null,null,null,null,null,null,null,"סה\"כ",{"$f":"IF(SUM(Y21:Y25)>0,SUM(Y21:Y25),\"\")","v":""},{"$f":"IF(SUM(Z21:Z25)>0,SUM(Z21:Z25),\"\")","v":""},"","","","","","","","","","","","","","","","","",""]
[18]
[19]
[20]
[21]
[22]
[23]
[24]
[25]
[26]
[27]
[28]
[29]
[30]
[31]
[32]
[33]
[34]
[35]
[36]
[37]
[38]
[39]
[40]
[41]
[42]
[43]
[44]
[45]
[46]
[47]
[48]
[49]
[50]
[51]
[52]
[53]
[54]
[55]
[56]
[57]
[58]
[59]
[60]
[61]
[62]
[63]
[64]
[65]
[66]
[67]
[68]
[69]
[70]
[71]
[72]
[73]
[74]
[75]
[76]
[77]
[78]
[79]
[80]
[81]
[82]
[83]
[84]
[85]
[86]
[87]
[88]
[89]
[90]

{"sheet":"freq GRP  מסטר ","index":28,"n_rows":99,"n_cols":45,"rows_kept":99,"cut":false,"hidden":false,"merged":[]}
[null,"שכיחוית של משתנים קטגוריליים עבור שתי קבוצות",null,null,null,null,null,null,null,null,null,null,null,null,null,null,null,null,null,null,null,null,null,null,null,null,"סטטיסטיקה תיאורית "]
[null,"מיועד לבדוק את ההתפלגות השכיחויות  (מספר ואחוז הנבדקים ) של משתנים קטגוריילים /סידוריים ",null,null,null,null,null,null,null,null,null,null,null,null,null,null,null,null,null,null,null,null,null,null,"קבוצה 1",{"$f":"C9","v":"משתנה1"},{"$f":"D9","v":"משתנה2"},"משתנה3","משתנה4","משתנה5","משתנה6","משתנה7","משתנה8","משתנה9","משתנה10","משתנה11","משתנה12","משתנה13","משתנה14","משתנה15","משתנה16","משתנה17","משתנה18","משתנה19","משתנה20"]
[null,"הוראות ",null,null,null,null,null,null,null,null,null,null,null,null,null,null,null,null,null,null,null,null,null,null,"ממוצע",{"$f":"IF(COUNT(C10:C31)>2,AVERAGE(C10:C41),\"\")","v":""},{"$f":"IF(COUNT(D10:D31)>2,AVERAGE(D10:D41),\"\")","v":""},"","","","","","","","","","","","","","","","","",""]
[null,"הכנס את שמות המשתנים  (שורה 9) בעמודות B עד V ",null,null,null,null,null,null,null,null,null,null,null,null,null,null,null,null,null,null,null,null,null,null,"חציון",{"$f":"IF(COUNT(C10:C31)>2,MEDIAN(C10:C41),\"\")","v":""},{"$f":"IF(COUNT(D10:D31)>2,MEDIAN(D10:D41),\"\")","v":""},"","","","","","","","","","","","","","","","","",""]
[null,"הכנס את הערכים של קבוצה 1 בשורות 1-35 ואת הערכים של הקבוצה השנייה בשורות 36 והלאה ",null,null,null,null,null,null,null,null,null,null,null,null,null,null,null,null,null,null,null,null,null,null,"מינימום",{"$f":"IF(COUNT(C10:C31)>2,MIN(C10:C41),\"\")","v":""},{"$f":"IF(COUNT(D10:D31)>2,MIN(D10:D41),\"\")","v":""},"","","","","","","","","","","","","","","","","",""]
[null,"הסטטיסטיקה התיאורית והתפלגות השכיחויות יופיעו באופן אוטומטי בצד שמאל של המסך ",null,null,null,null,null,null,null,null,null,null,null,null,null,null,null,null,null,null,null,null,null,null,"מקסימום",{"$f":"IF(COUNT(C10:C31)>2,MAX(C10:C41),\"\")","v":""},{"$f":"IF(COUNT(D10:D31)>2,MAX(D10:D41),\"\")","v":""},"","","","","","","","","","","","","","","","","",""]
[null,"להכנסת נתונים חדשים ואיפוס הטבלאות לחץ על כפתור נקה לחזרה לתפריט הראשי לחץ על כפתור התפריט ",null,null,null,null,null,null,null,null,null,null,null,null,null,null,null,null,null,null,null,null,null,null,"n",{"$f":"IF(COUNT(C10:C31)>2,COUNT(C10:C41),\"\")","v":""},{"$f":"IF(COUNT(D10:D31)>2,COUNT(D10:D41),\"\")","v":""},"","","","","","","","","","","","","","","","","",""]
["קבוצה 1"]
["הנבדק","קבוצה","משתנה1","משתנה2","משתנה3","משתנה4","משתנה5","משתנה6","משתנה7","משתנה8","משתנה9","משתנה10","משתנה11","משתנה12","משתנה13","משתנה14","משתנה15","משתנה16","משתנה17","משתנה18","משתנה19","משתנה20",null,null,"שכיחויות",{"$f":"C9","v":"משתנה1"},"משתנה2","משתנה3","משתנה4","משתנה5","משתנה6","משתנה7","משתנה8","משתנה9","משתנה10","משתנה11","משתנה12","משתנה13","משתנה14","משתנה15","משתנה16","משתנה17","משתנה18","משתנה19","משתנה20"]
[1,1,null,null,null,null,null,null,null,null,null,null,null,null,null,null,null,null,null,null,null,null,null,null,1,{"$f":"IF(AND(COUNT(C$10:C$31)>2,COUNTIF(C$10:C$41,1)>0),COUNTIF(C$10:C$41,1),\"\")","v":""},{"$f":"IF(AND(COUNT(D$10:D$31)>2,COUNTIF(D$10:D$41,1)>0),COUNTIF(D$10:D$41,1),\"\")","v":""},"","","","","","","","","","","","","","","","","",""]
[2,1,null,null,null,null,null,null,null,null,null,null,null,null,null,null,null,null,null,null,null,null,null,null,2,{"$f":"IF(AND(COUNT(C$10:C$31)>2,COUNTIF(C$10:C$41,2)>0),COUNTIF(C$10:C$41,2),\"\")","v":""},{"$f":"IF(AND(COUNT(D$10:D$31)>2,COUNTIF(D$10:D$41,2)>0),COUNTIF(D$10:D$41,2),\"\")","v":""},"","","","","","","","","","","","","","","","","",""]
[3,1,null,null,null,null,null,null,null,null,null,null,null,null,null,null,null,null,null,null,null,null,null,null,3,{"$f":"IF(AND(COUNT(C$10:C$31)>2,COUNTIF(C$10:C$41,3)>0),COUNTIF(C$10:C$41,3),\"\")","v":""},{"$f":"IF(AND(COUNT(D$10:D$31)>2,COUNTIF(D$10:D$41,3)>0),COUNTIF(D$10:D$41,3),\"\")","v":""},"","","","","","","","","","","","","","","","","",""]
[4,1,null,null,null,null,null,null,null,null,null,null,null,null,null,null,null,null,null,null,null,null,null,null,4,{"$f":"IF(AND(COUNT(C$10:C$31)>2,COUNTIF(C$10:C$41,4)>0),COUNTIF(C$10:C$41,4),\"\")","v":""},{"$f":"IF(AND(COUNT(D$10:D$31)>2,COUNTIF(D$10:D$41,4)>0),COUNTIF(D$10:D$41,4),\"\")","v":""},"","","","","","","","","","","","","","","","","",""]
[5,1,null,null,null,null,null,null,null,null,null,null,null,null,null,null,null,null,null,null,null,null,null,null,5,{"$f":"IF(AND(COUNT(C$10:C$31)>2,COUNTIF(C$10:C$41,5)>0),COUNTIF(C$10:C$41,5),\"\")","v":""},{"$f":"IF(AND(COUNT(D$10:D$31)>2,COUNTIF(D$10:D$41,5)>0),COUNTIF(D$10:D$41,5),\"\")","v":""},"","","","","","","","","","","","","","","","","",""]
[6,1,null,null,null,null,null,null,null,null,null,null,null,null,null,null,null,null,null,null,null,null,null,null,"סה\"כ",{"$f":"IF(SUM(Z10:Z14)>0,SUM(Z10:Z14),\"\")","v":""},{"$f":"IF(SUM(AA10:AA14)>0,SUM(AA10:AA14),\"\")","v":""},"","","","","","","","","","","","","","","","","",""]
[7,1]
[8,1,null,null,null,null,null,null,null,null,null,null,null,null,null,null,null,null,null,null,null,null,null,null,"אחוזים "]
[12,1,null,null,null,null,null,null,null,null,null,null,null,null,null,null,null,null,null,null,null,null,null,null,1,{"$f":"IF(AND(SUM(Z$10:Z$14)>0,LEN(Z10)>0),Z10/Z$15,\"\")","v":""},"","","","","","","","","","","","","","","","","","",""]
[13,1,null,null,null,null,null,null,null,null,null,null,null,null,null,null,null,null,null,null,null,null,null,null,2,{"$f":"IF(AND(SUM(Z$10:Z$14)>0,LEN(Z11)>0),Z11/Z$15,\"\")","v":""},"","","","","","","","","","","","","","","","","","",""]
[14,1,null,null,null,null,null,null,null,null,null,null,null,null,null,null,null,null,null,null,null,null,null,null,3,{"$f":"IF(AND(SUM(Z$10:Z$14)>0,LEN(Z12)>0),Z12/Z$15,\"\")","v":""},"","","","","","","","","","","","","","","","","","",""]
[15,1,null,null,null,null,null,null,null,null,null,null,null,null,null,null,null,null,null,null,null,null,null,null,4,{"$f":"IF(AND(SUM(Z$10:Z$14)>0,LEN(Z13)>0),Z13/Z$15,\"\")","v":""},"","","","","","","","","","","","","","","","","","",""]
[16,1,null,null,null,null,null,null,null,null,null,null,null,null,null,null,null,null,null,null,null,null,null,null,5,{"$f":"IF(AND(SUM(Z$10:Z$14)>0,LEN(Z14)>0),Z14/Z$15,\"\")","v":""},"","","","","","","","","","","","","","","","","","",""]
[17,1,null,null,null,null,null,null,null,null,null,null,null,null,null,null,null,null,null,null,null,null,null,null,"סה\"כ",{"$f":"IF(SUM(Z18:Z22)>0,SUM(Z18:Z22),\"\")","v":""},{"$f":"IF(SUM(AA18:AA22)>0,SUM(AA18:AA22),\"\")","v":""},"","","","","","","","","","","","","","","","","",""]
[18,1]
[19,1]
[20,1]
[21,1,null,null,null,null,null,null,null,null,null,null,null,null,null,null,null,null,null,null,null,null,null,null,null,null,"סטטיסטיקה תיאורית "]
[22,1,null,null,null,null,null,null,null,null,null,null,null,null,null,null,null,null,null,null,null,null,null,null,"קבוצה 2",{"$f":"Z9","v":"משתנה1"},{"$f":"AA9","v":"משתנה2"},"משתנה3","משתנה4","משתנה5","משתנה6","משתנה7","משתנה8","משתנה9","משתנה10","משתנה11","משתנה12","משתנה13","משתנה14","משתנה15","משתנה16","משתנה17","משתנה18","משתנה19","משתנה20"]
[23,1,null,null,null,null,null,null,null,null,null,null,null,null,null,null,null,null,null,null,null,null,null,null,"ממוצע",{"$f":"IF(COUNT(C45:C60)>2,AVERAGE(C45:C99),\"\")","v":""},{"$f":"IF(COUNT(D45:D60)>2,AVERAGE(D45:D99),\"\")","v":""},"","","","","","","","","","","","","","","","","",""]
[24,1,null,null,null,null,null,null,null,null,null,null,null,null,null,null,null,null,null,null,null,null,null,null,"חציון",{"$f":"IF(COUNT(C45:C60)>2,MEDIAN(C45:C99),\"\")","v":""},{"$f":"IF(COUNT(D45:D60)>2,MEDIAN(D45:D99),\"\")","v":""},"","","","","","","","","","","","","","","","","",""]
[25,1,null,null,null,null,null,null,null,null,null,null,null,null,null,null,null,null,null,null,null,null,null,null,"מינימום",{"$f":"IF(COUNT(C45:C60)>2,MIN(C45:C99),\"\")","v":""},{"$f":"IF(COUNT(D45:D60)>2,MIN(D45:D99),\"\")","v":""},"","","","","","","","","","","","","","","","","",""]
[26,1,null,null,null,null,null,null,null,null,null,null,null,null,null,null,null,null,null,null,null,null,null,null,"מקסימום",{"$f":"IF(COUNT(C45:C60)>2,MAX(C45:C99),\"\")","v":""},{"$f":"IF(COUNT(D45:D60)>2,MAX(D45:D99),\"\")","v":""},"","","","","","","","","","","","","","","","","",""]
[27,1,null,null,null,null,null,null,null,null,null,null,null,null,null,null,null,null,null,null,null,null,null,null,"n",{"$f":"IF(COUNT(C45:C60)>2,COUNT(C45:C99),\"\")","v":""},{"$f":"IF(COUNT(D45:D60)>2,COUNT(D45:D99),\"\")","v":""},"","","","","","","","","","","","","","","","","",""]
[28,1]
[29,1,null,null,null,null,null,null,null,null,null,null,null,null,null,null,null,null,null,null,null,null,null,null,"שכיחויות",{"$f":"Z28","v":"משתנה1"},{"$f":"AA28","v":"משתנה2"},"משתנה3","משתנה4","משתנה5","משתנה6","משתנה7","משתנה8","משתנה9","משתנה10","משתנה11","משתנה12","משתנה13","משתנה14","משתנה15","משתנה16","משתנה17","משתנה18","משתנה19","משתנה20"]
[30,1,null,null,null,null,null,null,null,null,null,null,null,null,null,null,null,null,null,null,null,null,null,null,1,{"$f":"IF(AND(COUNT(C$45:C$55)>2,COUNTIF(C$45:C$99,1)>0),COUNTIF(C$45:C$99,1),\"\")","v":""},{"$f":"IF(AND(COUNT(D$45:D$55)>2,COUNTIF(D$45:D$99,1)>0),COUNTIF(D$45:D$99,1),\"\")","v":""},"","","","","","","","","","","","","","","","","",""]
[31,1,null,null,null,null,null,null,null,null,null,null,null,null,null,null,null,null,null,null,null,null,null,null,2,{"$f":"IF(AND(COUNT(C$45:C$55)>2,COUNTIF(C$45:C$99,2)>0),COUNTIF(C$45:C$99,2),\"\")","v":""},{"$f":"IF(AND(COUNT(D$45:D$55)>2,COUNTIF(D$45:D$99,2)>0),COUNTIF(D$45:D$99,2),\"\")","v":""},"","","","","","","","","","","","","","","","","",""]
[32,1,null,null,null,null,null,null,null,null,null,null,null,null,null,null,null,null,null,null,null,null,null,null,3,{"$f":"IF(AND(COUNT(C$45:C$55)>2,COUNTIF(C$45:C$99,3)>0),COUNTIF(C$45:C$99,3),\"\")","v":""},{"$f":"IF(AND(COUNT(D$45:D$55)>2,COUNTIF(D$45:D$99,3)>0),COUNTIF(D$45:D$99,3),\"\")","v":""},"","","","","","","","","","","","","","","","","",""]
[33,1,null,null,null,null,null,null,null,null,null,null,null,null,null,null,null,null,null,null,null,null,null,null,4,{"$f":"IF(AND(COUNT(C$45:C$55)>2,COUNTIF(C$45:C$99,4)>0),COUNTIF(C$45:C$99,4),\"\")","v":""},{"$f":"IF(AND(COUNT(D$45:D$55)>2,COUNTIF(D$45:D$99,4)>0),COUNTIF(D$45:D$99,4),\"\")","v":""},"","","","","","","","","","","","","","","","","",""]
[34,1,null,null,null,null,null,null,null,null,null,null,null,null,null,null,null,null,null,null,null,null,null,null,5,{"$f":"IF(AND(COUNT(C$45:C$55)>2,COUNTIF(C$45:C$99,5)>0),COUNTIF(C$45:C$99,5),\"\")","v":""},{"$f":"IF(AND(COUNT(D$45:D$55)>2,COUNTIF(D$45:D$99,5)>0),COUNTIF(D$45:D$99,5),\"\")","v":""},"","","","","","","","","","","","","","","","","",""]
[35,1,null,null,null,null,null,null,null,null,null,null,null,null,null,null,null,null,null,null,null,null,null,null,"סה\"כ",{"$f":"IF(SUM(Z36:Z40)>0,SUM(Z36:Z40),\"\")","v":""},{"$f":"IF(SUM(AA36:AA40)>0,SUM(AA36:AA40),\"\")","v":""},{"$f":"IF(SUM(AB36:AB40)>0,SUM(AB36:AB40),\"\")","v":""},{"$f":"IF(SUM(AC36:AC40)>0,SUM(AC36:AC40),\"\")","v":""},{"$f":"IF(SUM(AD36:AD40)>0,SUM(AD36:AD40),\"\")","v":""},{"$f":"IF(SUM(AE36:AE40)>0,SUM(AE36:AE40),\"\")","v":""},{"$f":"IF(SUM(AF36:AF40)>0,SUM(AF36:AF40),\"\")","v":""},{"$f":"IF(SUM(AG36:AG40)>0,SUM(AG36:AG40),\"\")","v":""},{"$f":"IF(SUM(AH36:AH40)>0,SUM(AH36:AH40),\"\")","v":""},{"$f":"IF(SUM(AI36:AI40)>0,SUM(AI36:AI40),\"\")","v":""},{"$f":"IF(SUM(AJ36:AJ40)>0,SUM(AJ36:AJ40),\"\")","v":""},{"$f":"IF(SUM(AK36:AK40)>0,SUM(AK36:AK40),\"\")","v":""},{"$f":"IF(SUM(AL36:AL40)>0,SUM(AL36:AL40),\"\")","v":""},{"$f":"IF(SUM(AM36:AM40)>0,SUM(AM36:AM40),\"\")","v":""},{"$f":"IF(SUM(AN36:AN40)>0,SUM(AN36:AN40),\"\")","v":""},{"$f":"IF(SUM(AO36:AO40)>0,SUM(AO36:AO40),\"\")","v":""},{"$f":"IF(SUM(AP36:AP40)>0,SUM(AP36:AP40),\"\")","v":""},{"$f":"IF(SUM(AQ36:AQ40)>0,SUM(AQ36:AQ40),\"\")","v":""},{"$f":"IF(SUM(AR36:AR40)>0,SUM(AR36:AR40),\"\")","v":""},{"$f":"IF(SUM(AS36:AS40)>0,SUM(AS36:AS40),\"\")","v":""}]
[]
["קבוצה 2",null,null,null,null,null,null,null,null,null,null,null,null,null,null,null,null,null,null,null,null,null,null,null,"אחוזים "]
[{"$f":"A9","v":"הנבדק"},{"$f":"B9","v":"קבוצה"},"משתנה1","משתנה2","משתנה3","משתנה4","משתנה5","משתנה6","משתנה7","משתנה8","משתנה9","משתנה10","משתנה11","משתנה12","משתנה13","משתנה14","משתנה15","משתנה16","משתנה17","משתנה18","משתנה19","משתנה20",null,null,1,{"$f":"IF(AND(SUM(Z$36:Z$40)>0,LEN(Z36)>0),Z36/Z$41,\"\")","v":""},{"$f":"IF(AND(SUM(AA$36:AA$40)>0,LEN(AA36)>0),AA36/AA$41,\"\")","v":""},"","","","","","","","","","","","","","","","","",""]
[36,2,null,null,null,null,null,null,null,null,null,null,null,null,null,null,null,null,null,null,null,null,null,null,2,{"$f":"IF(AND(SUM(Z$36:Z$40)>0,LEN(Z37)>0),Z37/Z$41,\"\")","v":""},"","","","","","","","","","","","","","","","","","",""]
[37,2,null,null,null,null,null,null,null,null,null,null,null,null,null,null,null,null,null,null,null,null,null,null,3,"","","","","","","","","","","","","","","","","","","",""]
[38,2,null,null,null,null,null,null,null,null,null,null,null,null,null,null,null,null,null,null,null,null,null,null,4,"","","","","","","","","","","","","","","","","","","",""]
[39,2,null,null,null,null,null,null,null,null,null,null,null,null,null,null,null,null,null,null,null,null,null,null,5,"","","","","","","","","","","","","","","","","","","",""]
[40,2,null,null,null,null,null,null,null,null,null,null,null,null,null,null,null,null,null,null,null,null,null,null,"סה\"כ",{"$f":"IF(SUM(Z44:Z48)>0,SUM(Z44:Z48),\"\")","v":""},{"$f":"IF(SUM(AA44:AA48)>0,SUM(AA44:AA48),\"\")","v":""},{"$f":"IF(SUM(AB44:AB48)>0,SUM(AB44:AB48),\"\")","v":""},{"$f":"IF(SUM(AC44:AC48)>0,SUM(AC44:AC48),\"\")","v":""},{"$f":"IF(SUM(AD44:AD48)>0,SUM(AD44:AD48),\"\")","v":""},{"$f":"IF(SUM(AE44:AE48)>0,SUM(AE44:AE48),\"\")","v":""},{"$f":"IF(SUM(AF44:AF48)>0,SUM(AF44:AF48),\"\")","v":""},{"$f":"IF(SUM(AG44:AG48)>0,SUM(AG44:AG48),\"\")","v":""},{"$f":"IF(SUM(AH44:AH48)>0,SUM(AH44:AH48),\"\")","v":""},{"$f":"IF(SUM(AI44:AI48)>0,SUM(AI44:AI48),\"\")","v":""},{"$f":"IF(SUM(AJ44:AJ48)>0,SUM(AJ44:AJ48),\"\")","v":""},{"$f":"IF(SUM(AK44:AK48)>0,SUM(AK44:AK48),\"\")","v":""},{"$f":"IF(SUM(AL44:AL48)>0,SUM(AL44:AL48),\"\")","v":""},{"$f":"IF(SUM(AM44:AM48)>0,SUM(AM44:AM48),\"\")","v":""},{"$f":"IF(SUM(AN44:AN48)>0,SUM(AN44:AN48),\"\")","v":""},{"$f":"IF(SUM(AO44:AO48)>0,SUM(AO44:AO48),\"\")","v":""},{"$f":"IF(SUM(AP44:AP48)>0,SUM(AP44:AP48),\"\")","v":""},{"$f":"IF(SUM(AQ44:AQ48)>0,SUM(AQ44:AQ48),\"\")","v":""},{"$f":"IF(SUM(AR44:AR48)>0,SUM(AR44:AR48),\"\")","v":""},{"$f":"IF(SUM(AS44:AS48)>0,SUM(AS44:AS48),\"\")","v":""}]
[41,2]
[42,2]
[43,2]
[44,2]
[45,2]
[46,2]
[47,2]
[48,2]
[49,2]
[50,2]
[51,2]
[52,2]
[53,2]
[54,2]
[55,2]
[56,2]
[57,2]
[58,2]
[59,2]
[60,2]
[61,2]
[62,2]
[63,2]
[64,2]
[65,2]
[66,2]
[67,2]
[68,2]
[69,2]
[70,2]
[71,2]
[72,2]
[73,2]
[74,2]
[75,2]
[76,2]
[77,2]
[78,2]
[79,2]
[80,2]
[81,2]
[82,2]
[83,2]
[84,2]
[85,2]
[86,2]
[87,2]
[88,2]
[89,2]
[90,2]

{"sheet":"freq GRP  מסטר  (1)","index":29,"n_rows":99,"n_cols":45,"rows_kept":99,"cut":false,"hidden":false,"merged":[]}
[null,"שכיחוית של משתנים קטגוריליים עבור שתי קבוצות",null,null,null,null,null,null,null,null,null,null,null,null,null,null,null,null,null,null,null,null,null,null,null,null,"סטטיסטיקה תיאורית "]
[null,"מיועד לבדוק את ההתפלגות השכיחויות  (מספר ואחוז הנבדקים ) של משתנים קטגוריילים /סידוריים ",null,null,null,null,null,null,null,null,null,null,null,null,null,null,null,null,null,null,null,null,null,null,"קבוצה 1",{"$f":"C9","v":"משתנה1"},{"$f":"D9","v":"משתנה2"},"משתנה3","משתנה4","משתנה5","משתנה6","משתנה7","משתנה8","משתנה9","משתנה10","משתנה11","משתנה12","משתנה13","משתנה14","משתנה15","משתנה16","משתנה17","משתנה18","משתנה19","משתנה20"]
[null,"הוראות ",null,null,null,null,null,null,null,null,null,null,null,null,null,null,null,null,null,null,null,null,null,null,"ממוצע",{"$f":"IF(COUNT(C10:C31)>2,AVERAGE(C10:C41),\"\")","v":""},{"$f":"IF(COUNT(D10:D31)>2,AVERAGE(D10:D41),\"\")","v":""},"","","","","","","","","","","","","","","","","",""]
[null,"הכנס את שמות המשתנים  (שורה 9) בעמודות B עד V ",null,null,null,null,null,null,null,null,null,null,null,null,null,null,null,null,null,null,null,null,null,null,"חציון",{"$f":"IF(COUNT(C10:C31)>2,MEDIAN(C10:C41),\"\")","v":""},{"$f":"IF(COUNT(D10:D31)>2,MEDIAN(D10:D41),\"\")","v":""},"","","","","","","","","","","","","","","","","",""]
[null,"הכנס את הערכים של קבוצה 1 בשורות 1-35 ואת הערכים של הקבוצה השנייה בשורות 36 והלאה ",null,null,null,null,null,null,null,null,null,null,null,null,null,null,null,null,null,null,null,null,null,null,"מינימום",{"$f":"IF(COUNT(C10:C31)>2,MIN(C10:C41),\"\")","v":""},{"$f":"IF(COUNT(D10:D31)>2,MIN(D10:D41),\"\")","v":""},"","","","","","","","","","","","","","","","","",""]
[null,"הסטטיסטיקה התיאורית והתפלגות השכיחויות יופיעו באופן אוטומטי בצד שמאל של המסך ",null,null,null,null,null,null,null,null,null,null,null,null,null,null,null,null,null,null,null,null,null,null,"מקסימום",{"$f":"IF(COUNT(C10:C31)>2,MAX(C10:C41),\"\")","v":""},{"$f":"IF(COUNT(D10:D31)>2,MAX(D10:D41),\"\")","v":""},"","","","","","","","","","","","","","","","","",""]
[null,"להכנסת נתונים חדשים ואיפוס הטבלאות לחץ על כפתור נקה לחזרה לתפריט הראשי לחץ על כפתור התפריט ",null,null,null,null,null,null,null,null,null,null,null,null,null,null,null,null,null,null,null,null,null,null,"n",{"$f":"IF(COUNT(C10:C31)>2,COUNT(C10:C41),\"\")","v":""},{"$f":"IF(COUNT(D10:D31)>2,COUNT(D10:D41),\"\")","v":""},"","","","","","","","","","","","","","","","","",""]
["קבוצה 1"]
["הנבדק","קבוצה","משתנה1","משתנה2","משתנה3","משתנה4","משתנה5","משתנה6","משתנה7","משתנה8","משתנה9","משתנה10","משתנה11","משתנה12","משתנה13","משתנה14","משתנה15","משתנה16","משתנה17","משתנה18","משתנה19","משתנה20",null,null,"שכיחויות",{"$f":"C9","v":"משתנה1"},"משתנה2","משתנה3","משתנה4","משתנה5","משתנה6","משתנה7","משתנה8","משתנה9","משתנה10","משתנה11","משתנה12","משתנה13","משתנה14","משתנה15","משתנה16","משתנה17","משתנה18","משתנה19","משתנה20"]
[1,1,null,null,null,null,null,null,null,null,null,null,null,null,null,null,null,null,null,null,null,null,null,null,1,{"$f":"IF(AND(COUNT(C$10:C$31)>2,COUNTIF(C$10:C$41,1)>0),COUNTIF(C$10:C$41,1),\"\")","v":""},{"$f":"IF(AND(COUNT(D$10:D$31)>2,COUNTIF(D$10:D$41,1)>0),COUNTIF(D$10:D$41,1),\"\")","v":""},"","","","","","","","","","","","","","","","","",""]
[2,1,null,null,null,null,null,null,null,null,null,null,null,null,null,null,null,null,null,null,null,null,null,null,2,{"$f":"IF(AND(COUNT(C$10:C$31)>2,COUNTIF(C$10:C$41,2)>0),COUNTIF(C$10:C$41,2),\"\")","v":""},{"$f":"IF(AND(COUNT(D$10:D$31)>2,COUNTIF(D$10:D$41,2)>0),COUNTIF(D$10:D$41,2),\"\")","v":""},"","","","","","","","","","","","","","","","","",""]
[3,1,null,null,null,null,null,null,null,null,null,null,null,null,null,null,null,null,null,null,null,null,null,null,3,{"$f":"IF(AND(COUNT(C$10:C$31)>2,COUNTIF(C$10:C$41,3)>0),COUNTIF(C$10:C$41,3),\"\")","v":""},{"$f":"IF(AND(COUNT(D$10:D$31)>2,COUNTIF(D$10:D$41,3)>0),COUNTIF(D$10:D$41,3),\"\")","v":""},"","","","","","","","","","","","","","","","","",""]
[4,1,null,null,null,null,null,null,null,null,null,null,null,null,null,null,null,null,null,null,null,null,null,null,4,{"$f":"IF(AND(COUNT(C$10:C$31)>2,COUNTIF(C$10:C$41,4)>0),COUNTIF(C$10:C$41,4),\"\")","v":""},{"$f":"IF(AND(COUNT(D$10:D$31)>2,COUNTIF(D$10:D$41,4)>0),COUNTIF(D$10:D$41,4),\"\")","v":""},"","","","","","","","","","","","","","","","","",""]
[5,1,null,null,null,null,null,null,null,null,null,null,null,null,null,null,null,null,null,null,null,null,null,null,5,{"$f":"IF(AND(COUNT(C$10:C$31)>2,COUNTIF(C$10:C$41,5)>0),COUNTIF(C$10:C$41,5),\"\")","v":""},{"$f":"IF(AND(COUNT(D$10:D$31)>2,COUNTIF(D$10:D$41,5)>0),COUNTIF(D$10:D$41,5),\"\")","v":""},"","","","","","","","","","","","","","","","","",""]
[6,1,null,null,null,null,null,null,null,null,null,null,null,null,null,null,null,null,null,null,null,null,null,null,"סה\"כ",{"$f":"IF(SUM(Z10:Z14)>0,SUM(Z10:Z14),\"\")","v":""},{"$f":"IF(SUM(AA10:AA14)>0,SUM(AA10:AA14),\"\")","v":""},"","","","","","","","","","","","","","","","","",""]
[7,1]
[8,1,null,null,null,null,null,null,null,null,null,null,null,null,null,null,null,null,null,null,null,null,null,null,"אחוזים "]
[12,1,null,null,null,null,null,null,null,null,null,null,null,null,null,null,null,null,null,null,null,null,null,null,1,{"$f":"IF(AND(SUM(Z$10:Z$14)>0,LEN(Z10)>0),Z10/Z$15,\"\")","v":""},"","","","","","","","","","","","","","","","","","",""]
[13,1,null,null,null,null,null,null,null,null,null,null,null,null,null,null,null,null,null,null,null,null,null,null,2,"","","","","","","","","","","","","","","","","","","",""]
[14,1,null,null,null,null,null,null,null,null,null,null,null,null,null,null,null,null,null,null,null,null,null,null,3,"","","","","","","","","","","","","","","","","","","",""]
[15,1,null,null,null,null,null,null,null,null,null,null,null,null,null,null,null,null,null,null,null,null,null,null,4,"","","","","","","","","","","","","","","","","","","",""]
[16,1,null,null,null,null,null,null,null,null,null,null,null,null,null,null,null,null,null,null,null,null,null,null,5,"","","","","","","","","","","","","","","","","","","",""]
[17,1,null,null,null,null,null,null,null,null,null,null,null,null,null,null,null,null,null,null,null,null,null,null,"סה\"כ",{"$f":"IF(SUM(Z18:Z22)>0,SUM(Z18:Z22),\"\")","v":""},{"$f":"IF(SUM(AA18:AA22)>0,SUM(AA18:AA22),\"\")","v":""},"","","","","","","","","","","","","","","","","",""]
[18,1]
[19,1]
[20,1]
[21,1,null,null,null,null,null,null,null,null,null,null,null,null,null,null,null,null,null,null,null,null,null,null,null,null,"סטטיסטיקה תיאורית "]
[22,1,null,null,null,null,null,null,null,null,null,null,null,null,null,null,null,null,null,null,null,null,null,null,"קבוצה 2",{"$f":"Z9","v":"משתנה1"},{"$f":"AA9","v":"משתנה2"},"משתנה3","משתנה4","משתנה5","משתנה6","משתנה7","משתנה8","משתנה9","משתנה10","משתנה11","משתנה12","משתנה13","משתנה14","משתנה15","משתנה16","משתנה17","משתנה18","משתנה19","משתנה20"]
[23,1,null,null,null,null,null,null,null,null,null,null,null,null,null,null,null,null,null,null,null,null,null,null,"ממוצע",{"$f":"IF(COUNT(C45:C60)>2,AVERAGE(C45:C99),\"\")","v":""},{"$f":"IF(COUNT(D45:D60)>2,AVERAGE(D45:D99),\"\")","v":""},"","","","","","","","","","","","","","","","","",""]
[24,1,null,null,null,null,null,null,null,null,null,null,null,null,null,null,null,null,null,null,null,null,null,null,"חציון",{"$f":"IF(COUNT(C45:C60)>2,MEDIAN(C45:C99),\"\")","v":""},{"$f":"IF(COUNT(D45:D60)>2,MEDIAN(D45:D99),\"\")","v":""},"","","","","","","","","","","","","","","","","",""]
[25,1,null,null,null,null,null,null,null,null,null,null,null,null,null,null,null,null,null,null,null,null,null,null,"מינימום",{"$f":"IF(COUNT(C45:C60)>2,MIN(C45:C99),\"\")","v":""},{"$f":"IF(COUNT(D45:D60)>2,MIN(D45:D99),\"\")","v":""},"","","","","","","","","","","","","","","","","",""]
[26,1,null,null,null,null,null,null,null,null,null,null,null,null,null,null,null,null,null,null,null,null,null,null,"מקסימום",{"$f":"IF(COUNT(C45:C60)>2,MAX(C45:C99),\"\")","v":""},{"$f":"IF(COUNT(D45:D60)>2,MAX(D45:D99),\"\")","v":""},"","","","","","","","","","","","","","","","","",""]
[27,1,null,null,null,null,null,null,null,null,null,null,null,null,null,null,null,null,null,null,null,null,null,null,"n",{"$f":"IF(COUNT(C45:C60)>2,COUNT(C45:C99),\"\")","v":""},{"$f":"IF(COUNT(D45:D60)>2,COUNT(D45:D99),\"\")","v":""},"","","","","","","","","","","","","","","","","",""]
[28,1]
[29,1,null,null,null,null,null,null,null,null,null,null,null,null,null,null,null,null,null,null,null,null,null,null,"שכיחויות",{"$f":"Z28","v":"משתנה1"},{"$f":"AA28","v":"משתנה2"},"משתנה3","משתנה4","משתנה5","משתנה6","משתנה7","משתנה8","משתנה9","משתנה10","משתנה11","משתנה12","משתנה13","משתנה14","משתנה15","משתנה16","משתנה17","משתנה18","משתנה19","משתנה20"]
[30,1,null,null,null,null,null,null,null,null,null,null,null,null,null,null,null,null,null,null,null,null,null,null,1,{"$f":"IF(AND(COUNT(C$45:C$55)>2,COUNTIF(C$45:C$99,1)>0),COUNTIF(C$45:C$99,1),\"\")","v":""},{"$f":"IF(AND(COUNT(D$45:D$55)>2,COUNTIF(D$45:D$99,1)>0),COUNTIF(D$45:D$99,1),\"\")","v":""},"","","","","","","","","","","","","","","","","",""]
[31,1,null,null,null,null,null,null,null,null,null,null,null,null,null,null,null,null,null,null,null,null,null,null,2,{"$f":"IF(AND(COUNT(C$45:C$55)>2,COUNTIF(C$45:C$99,2)>0),COUNTIF(C$45:C$99,2),\"\")","v":""},{"$f":"IF(AND(COUNT(D$45:D$55)>2,COUNTIF(D$45:D$99,2)>0),COUNTIF(D$45:D$99,2),\"\")","v":""},"","","","","","","","","","","","","","","","","",""]
[32,1,null,null,null,null,null,null,null,null,null,null,null,null,null,null,null,null,null,null,null,null,null,null,3,{"$f":"IF(AND(COUNT(C$45:C$55)>2,COUNTIF(C$45:C$99,3)>0),COUNTIF(C$45:C$99,3),\"\")","v":""},{"$f":"IF(AND(COUNT(D$45:D$55)>2,COUNTIF(D$45:D$99,3)>0),COUNTIF(D$45:D$99,3),\"\")","v":""},"","","","","","","","","","","","","","","","","",""]
[33,1,null,null,null,null,null,null,null,null,null,null,null,null,null,null,null,null,null,null,null,null,null,null,4,{"$f":"IF(AND(COUNT(C$45:C$55)>2,COUNTIF(C$45:C$99,4)>0),COUNTIF(C$45:C$99,4),\"\")","v":""},{"$f":"IF(AND(COUNT(D$45:D$55)>2,COUNTIF(D$45:D$99,4)>0),COUNTIF(D$45:D$99,4),\"\")","v":""},"","","","","","","","","","","","","","","","","",""]
[34,1,null,null,null,null,null,null,null,null,null,null,null,null,null,null,null,null,null,null,null,null,null,null,5,{"$f":"IF(AND(COUNT(C$45:C$55)>2,COUNTIF(C$45:C$99,5)>0),COUNTIF(C$45:C$99,5),\"\")","v":""},{"$f":"IF(AND(COUNT(D$45:D$55)>2,COUNTIF(D$45:D$99,5)>0),COUNTIF(D$45:D$99,5),\"\")","v":""},"","","","","","","","","","","","","","","","","",""]
[35,1,null,null,null,null,null,null,null,null,null,null,null,null,null,null,null,null,null,null,null,null,null,null,"סה\"כ",{"$f":"IF(SUM(Z36:Z40)>0,SUM(Z36:Z40),\"\")","v":""},{"$f":"IF(SUM(AA36:AA40)>0,SUM(AA36:AA40),\"\")","v":""},"","","","","","","","","","","","","","","","","",""]
[]
["קבוצה 2",null,null,null,null,null,null,null,null,null,null,null,null,null,null,null,null,null,null,null,null,null,null,null,"אחוזים "]
[{"$f":"A9","v":"הנבדק"},{"$f":"B9","v":"קבוצה"},"משתנה1","משתנה2","משתנה3","משתנה4","משתנה5","משתנה6","משתנה7","משתנה8","משתנה9","משתנה10","משתנה11","משתנה12","משתנה13","משתנה14","משתנה15","משתנה16","משתנה17","משתנה18","משתנה19","משתנה20",null,null,1,{"$f":"IF(AND(SUM(Z$36:Z$40)>0,LEN(Z36)>0),Z36/Z$41,\"\")","v":""},{"$f":"IF(AND(SUM(AA$36:AA$40)>0,LEN(AA36)>0),AA36/AA$41,\"\")","v":""},"","","","","","","","","","","","","","","","","",""]
[36,2,null,null,null,null,null,null,null,null,null,null,null,null,null,null,null,null,null,null,null,null,null,null,2,{"$f":"IF(AND(SUM(Z$36:Z$40)>0,LEN(Z37)>0),Z37/Z$41,\"\")","v":""},"","","","","","","","","","","","","","","","","","",""]
[37,2,null,null,null,null,null,null,null,null,null,null,null,null,null,null,null,null,null,null,null,null,null,null,3,"","","","","","","","","","","","","","","","","","","",""]
[38,2,null,null,null,null,null,null,null,null,null,null,null,null,null,null,null,null,null,null,null,null,null,null,4,"","","","","","","","","","","","","","","","","","","",""]
[39,2,null,null,null,null,null,null,null,null,null,null,null,null,null,null,null,null,null,null,null,null,null,null,5,"","","","","","","","","","","","","","","","","","","",""]
[40,2,null,null,null,null,null,null,null,null,null,null,null,null,null,null,null,null,null,null,null,null,null,null,"סה\"כ",{"$f":"IF(SUM(Z44:Z48)>0,SUM(Z44:Z48),\"\")","v":""},{"$f":"IF(SUM(AA44:AA48)>0,SUM(AA44:AA48),\"\")","v":""},"","","","","","","","","","","","","","","","","",""]
[41,2]
[42,2]
[43,2]
[44,2]
[45,2]
[46,2]
[47,2]
[48,2]
[49,2]
[50,2]
[51,2]
[52,2]
[53,2]
[54,2]
[55,2]
[56,2]
[57,2]
[58,2]
[59,2]
[60,2]
[61,2]
[62,2]
[63,2]
[64,2]
[65,2]
[66,2]
[67,2]
[68,2]
[69,2]
[70,2]
[71,2]
[72,2]
[73,2]
[74,2]
[75,2]
[76,2]
[77,2]
[78,2]
[79,2]
[80,2]
[81,2]
[82,2]
[83,2]
[84,2]
[85,2]
[86,2]
[87,2]
[88,2]
[89,2]
[90,2]

{"sheet":"corr פירסון ","index":30,"n_rows":372,"n_cols":26,"rows_kept":372,"cut":false,"hidden":false,"merged":[[4,6,4,7]]}
["מקדם המתאם ע\"ש פירסון"]
[]
["מיועד לחישוב מקדם מתאם בין  שני משתנים אינטרוולים"]
["הוראות : "]
["הכנס ערכים עבור המשתנים ",null,null,null,null,null,"סטטיסיקה תאורית"]
[null,null,null,null,null,null,"משתנה בלתי תלוי","משתנה תלוי"]
[null,"הכנס      שם משתנה הבלתי תלוי","הכנס שם משתנה תלוי",null,null,null,{"$f":"B7","v":"הכנס      שם משתנה הבלתי תלוי"},{"$f":"C7","v":"הכנס שם משתנה תלוי"}]
[1,null,null,null,null,"ממוצע",{"$f":"IF(COUNT(B8:B91)>1,AVERAGE(V8:V300),\"\")","v":""},{"$f":"IF(COUNT(C8:C91)>1,AVERAGE(W8:W300),\"\")","v":""},null,null,null,null,null,null,null,null,null,null,null,null,null,{"$f":"IF(COUNT($B8:$C8)=2,B8,\"\")","v":""},{"$f":"IF(COUNT($B8:$C8)=2,C8,\"\")","v":""},null,null,"IF(COUNT(B8:B91)>1,AVERAGE(V8:V200),IF(COUNT(B8:B205)>0,aveageg(B8:B205),\"\"))"]
[2,null,null,null,null,"סטיית תקן",{"$f":"IF(COUNT(B8:B91)>2,STDEV(V8:V300),\"\")","v":""},{"$f":"IF(COUNT(C8:C91)>2,STDEV(W8:W300),\"\")","v":""},null,"משמעות של קשר בין משתנים ",null,null,null,null,null,null,null,null,null,null,null,{"$f":"IF(COUNT($B9:$C9)=2,B9,\"\")","v":""},{"$f":"IF(COUNT($B9:$C9)=2,C9,\"\")","v":""}]
[3,null,null,null,null,"מספר נבדקים",{"$f":"IF(COUNT(B8:B91)>2,COUNT(V8:V300),\"\")","v":""},{"$f":"IF(COUNT(C8:C91)>2,COUNT(W8:W300),\"\")","v":""},null,"קשר חיובי ","עלייה במשתנה אחד גוררת גם עלייה במשתנה שני - למי שיש ערך גובה במשתנה אחד יש גם ערך גובה במשתנה השני",null,null,null,null,null,null,null,null,null,null,"",""]
[4,null,null,null,null,"cov(x,y)",{"$f":"IF(COUNT(B8:C9)>3,_xlfn.COVARIANCE.P(V8:V300,W8:W300),\"\")","v":""},null,null,"קשר שלילי ","עלייה במשתנה אחד גוררת  ירידה  במשתנה שני - למי שיש ערך גובה במשתנה אחד יש  ערך נמוך  במשתנה השני",null,null,null,null,null,null,null,null,null,null,"",""]
[5,null,null,null,null,null,{"$f":"IF(LEN(G11)>0,CORREL(V8:V300,W8:W300),\"\")","v":""},"r =",null,null,null,null,null,null,null,null,null,null,null,null,null,"",""]
[6,null,null,null,null,null,{"$f":"IF(COUNT(B8:B91)>2,_xlfn.STDEV.P(V8:V200),\"\")","v":""},{"$f":"IF(COUNT(C8:C91)>2,_xlfn.STDEV.P(W8:W200),\"\")","v":""},null,null,null,null,null,null,null,null,null,null,null,null,null,"",""]
[7,null,null,null,null,null,null,null,null,null,null,null,null,null,null,null,null,null,null,null,null,"",""]
[8,null,null,null,null,null,{"$f":"IF(COUNT(B8:B91)>2,\"משמעות סטטיסטית: נמצא  \",\"\")","v":""},{"$f":"IF(COUNT(B8:B91)>2,IF(G12<0,\"קשר שלילי \",\"קשר חיובי\"),\"\")","v":""},{"$f":"IF(COUNT(B8:B91)>2,IF(ABS(G12)>2,\" חלש מאוד \",IF(ABS(G12)<0.4,\" בינוני - חלש  \",IF(ABS(G12)<0.6,\"קשר בינוני\",  IF(ABS(G12)<0.8,\"בינוני חזק\",\" חזק\")))),\"\")","v":""},{"$f":"IF(COUNT(B8:B91)>2,\"בין המשתנים \",\"\")","v":""},null,null,null,null,null,null,null,null,null,null,null,"",""]
[9,null,null,null,null,null,null,null,null,null,null,null,null,null,null,null,null,null,null,null,null,"",""]
[10,null,null,null," = r2",{"$f":"IF(COUNT(B8:B91)>2,\"אחוז  השונות  המסוברת:\",\"\")","v":""},null,{"$f":"IF(COUNT(B8:B91)>2,G12^2,\"\")","v":""},{"$f":"IF(COUNT(B8:B91)>2,\"מההבדלים במשתנה התלוי ניתנים להסבר באמצעות ההבדלים במשתנה הבלתי תלוי \",\"\")","v":""},null,null,null,null,null,null,null,null,null,null,null,null,"",""]
[11,null,null,null,null,null,null,{"$f":"IF(COUNT(B8:B91)>2,1-H17,\"\")","v":""},{"$f":"IF(COUNT(B8:B91)>2,\"מההבדלים מוסברים באמצעות גורמים אחרים \",\"\")","v":""},null,null,null,null,null,null,null,null,null,null,null,null,"",""]
[12,null,null,null,null,null,null,null,null,null,null,null,null,null,null,null,null,null,null,null,null,"",""]
[13,null,null,null,null,null,null,null,null,null,null,null,null,null,null,null,null,null,null,null,null,"",""]
[14,null,null,null,null,null,null,null,null,null,null,null,null,null,null,null,null,null,null,null,null,"",""]
[15,null,null,null,null,null,null,null,null,null,null,null,null,null,null,null,null,null,null,null,null,"",""]
[16,null,null,null,null,null,null,null,null,null,null,null,null,null,null,null,null,null,null,null,null,"",""]
[17,null,null,null,null,null,null,null,null,null,null,null,null,null,null,null,null,null,null,null,null,{"$f":"IF(COUNT($B24:$C24)=2,B24,\"\")","v":""},{"$f":"IF(COUNT($B24:$C24)=2,C24,\"\")","v":""}]
[18,null,null,null,null,null,null,null,null,null,null,null,null,null,null,null,null,null,null,null,null,"",""]
[19,null,null,null,null,null,null,null,null,null,null,null,null,null,null,null,null,null,null,null,null,"",""]
[20,null,null,null,null,null,null,null,null,null,null,null,null,null,null,null,null,null,null,null,null,"",""]
[21,null,null,null,null,null,null,null,null,null,null,null,null,null,null,null,null,null,null,null,null,"",""]
[22,null,null,null,null,null,null,null,null,null,null,null,null,null,null,null,null,null,null,null,null,"",""]
[23,null,null,null,null,null,null,null,null,null,null,null,null,null,null,null,null,null,null,null,null,"",""]
[24,null,null,null,null,null,null,null,null,null,null,null,null,null,null,null,null,null,null,null,null,"",""]
[25,null,null,null,null,null,null,null,null,null,null,null,null,null,null,null,null,null,null,null,null,"",""]
[26,null,null,null,null,null,null,null,null,null,null,null,null,null,null,null,null,null,null,null,null,"",""]
[27,null,null,null,null,null,null,null,null,null,null,null,null,null,null,null,null,null,null,null,null,"",""]
[28,null,null,null,"כדי לקבל גרף משמעותי סדר את הערכים בצירים שיתאימו לערכים של המשתנים שנמדדו ",null,null,null,null,null,null,null,null,null,null,null,null,null,null,null,null,"",""]
[29,null,null,null,null,null,null,null,null,null,null,null,null,null,null,null,null,null,null,null,null,"",""]
[30,null,null,null,null,null,null,null,null,null,null,null,null,null,null,null,null,null,null,null,null,"",""]
[31,null,null,null,null,null,null,null,null,null,null,null,null,null,null,null,null,null,null,null,null,"",""]
[32,null,null,null,null,null,null,null,null,null,null,null,null,null,null,null,null,null,null,null,null,"",""]
[33,null,null,null,null,null,null,null,null,null,null,null,null,null,null,null,null,null,null,null,null,"",""]
[34,null,null,null,null,null,null,null,null,null,null,null,null,null,null,null,null,null,null,null,null,"",""]
[35,null,null,null,null,null,null,null,null,null,null,null,null,null,null,null,null,null,null,null,null,"",""]
[36,null,null,null,null,null,null,null,null,null,null,null,null,null,null,null,null,null,null,null,null,"",""]
[37,null,null,null,null,null,null,null,null,null,null,null,null,null,null,null,null,null,null,null,null,"",""]
[38,null,null,null,null,null,null,null,null,null,null,null,null,null,null,null,null,null,null,null,null,"",""]
[39,null,null,null,null,null,null,null,null,null,null,null,null,null,null,null,null,null,null,null,null,"",""]
[40,null,null,null,null,null,null,null,null,null,null,null,null,null,null,null,null,null,null,null,null,"",""]
[41,null,null,null,null,null,null,null,null,null,null,null,null,null,null,null,null,null,null,null,null,"",""]
[42,null,null,null,null,null,null,null,null,null,null,null,null,null,null,null,null,null,null,null,null,"",""]
[43,null,null,null,null,null,null,null,null,null,null,null,null,null,null,null,null,null,null,null,null,"",""]
[44,null,null,null,null,null,null,null,null,null,null,null,null,null,null,null,null,null,null,null,null,"",""]
[45,null,null,null,null,null,null,null,null,null,null,null,null,null,null,null,null,null,null,null,null,"",""]
[46,null,null,null,null,null,null,null,null,null,null,null,null,null,null,null,null,null,null,null,null,"",""]
[47,null,null,null,null,null,null,null,null,null,null,null,null,null,null,null,null,null,null,null,null,"",""]
[48,null,null,null,null,null,null,null,null,null,null,null,null,null,null,null,null,null,null,null,null,"",""]
[49,null,null,null,null,null,null,null,null,null,null,null,null,null,null,null,null,null,null,null,null,"",""]
[50,null,null,null,null,null,null,null,null,null,null,null,null,null,null,null,null,null,null,null,null,"",""]
[51,null,null,null,null,null,null,null,null,null,null,null,null,null,null,null,null,null,null,null,null,"",""]
[52,null,null,null,null,null,null,null,null,null,null,null,null,null,null,null,null,null,null,null,null,"",""]
[53,null,null,null,null,null,null,null,null,null,null,null,null,null,null,null,null,null,null,null,null,"",""]
[54,null,null,null,null,null,null,null,null,null,null,null,null,null,null,null,null,null,null,null,null,"",""]
[55,null,null,null,null,null,null,null,null,null,null,null,null,null,null,null,null,null,null,null,null,"",""]
[56,null,null,null,null,null,null,null,null,null,null,null,null,null,null,null,null,null,null,null,null,"",""]
[57,null,null,null,null,null,null,null,null,null,null,null,null,null,null,null,null,null,null,null,null,"",""]
[58,null,null,null,null,null,null,null,null,null,null,null,null,null,null,null,null,null,null,null,null,"",""]
[59,null,null,null,null,null,null,null,null,null,null,null,null,null,null,null,null,null,null,null,null,"",""]
[60,null,null,null,null,null,null,null,null,null,null,null,null,null,null,null,null,null,null,null,null,"",""]
[61,null,null,null,null,null,null,null,null,null,null,null,null,null,null,null,null,null,null,null,null,"",""]
[62,null,null,null,null,null,null,null,null,null,null,null,null,null,null,null,null,null,null,null,null,"",""]
[63,null,null,null,null,null,null,null,null,null,null,null,null,null,null,null,null,null,null,null,null,"",""]
[64,null,null,null,null,null,null,null,null,null,null,null,null,null,null,null,null,null,null,null,null,"",""]
[65,null,null,null,null,null,null,null,null,null,null,null,null,null,null,null,null,null,null,null,null,"",""]
[66,null,null,null,null,null,null,null,null,null,null,null,null,null,null,null,null,null,null,null,null,"",""]
[67,null,null,null,null,null,null,null,null,null,null,null,null,null,null,null,null,null,null,null,null,"",""]
[68,null,null,null,null,null,null,null,null,null,null,null,null,null,null,null,null,null,null,null,null,"",""]
[69,null,null,null,null,null,null,null,null,null,null,null,null,null,null,null,null,null,null,null,null,"",""]
[70,null,null,null,null,null,null,null,null,null,null,null,null,null,null,null,null,null,null,null,null,"",""]
[71,null,null,null,null,null,null,null,null,null,null,null,null,null,null,null,null,null,null,null,null,"",""]
[72,null,null,null,null,null,null,null,null,null,null,null,null,null,null,null,null,null,null,null,null,"",""]
[73,null,null,null,null,null,null,null,null,null,null,null,null,null,null,null,null,null,null,null,null,"",""]
[74,null,null,null,null,null,null,null,null,null,null,null,null,null,null,null,null,null,null,null,null,"",""]
[75,null,null,null,null,null,null,null,null,null,null,null,null,null,null,null,null,null,null,null,null,"",""]
[76,null,null,null,null,null,null,null,null,null,null,null,null,null,null,null,null,null,null,null,null,"",""]
[77,null,null,null,null,null,null,null,null,null,null,null,null,null,null,null,null,null,null,null,null,"",""]
[78,null,null,null,null,null,null,null,null,null,null,null,null,null,null,null,null,null,null,null,null,"",""]
[79,null,null,null,null,null,null,null,null,null,null,null,null,null,null,null,null,null,null,null,null,"",""]
[80,null,null,null,null,null,null,null,null,null,null,null,null,null,null,null,null,null,null,null,null,"",""]
[81,null,null,null,null,null,null,null,null,null,null,null,null,null,null,null,null,null,null,null,null,{"$f":"IF(COUNT($B88:$C88)=2,B88,\"\")","v":""},{"$f":"IF(COUNT($B88:$C88)=2,C88,\"\")","v":""}]
[82,null,null,null,null,null,null,null,null,null,null,null,null,null,null,null,null,null,null,null,null,"",""]
[83,null,null,null,null,null,null,null,null,null,null,null,null,null,null,null,null,null,null,null,null,"",""]
[84,null,null,null,null,null,null,null,null,null,null,null,null,null,null,null,null,null,null,null,null,"",""]
[85,null,null,null,null,null,null,null,null,null,null,null,null,null,null,null,null,null,null,null,null,"",""]
[86,null,null,null,null,null,null,null,null,null,null,null,null,null,null,null,null,null,null,null,null,"",""]
[87,null,null,null,null,null,null,null,null,null,null,null,null,null,null,null,null,null,null,null,null,"",""]
[88,null,null,null,null,null,null,null,null,null,null,null,null,null,null,null,null,null,null,null,null,"",""]
[89,null,null,null,null,null,null,null,null,null,null,null,null,null,null,null,null,null,null,null,null,"",""]
[90,null,null,null,null,null,null,null,null,null,null,null,null,null,null,null,null,null,null,null,null,"",""]
[91,null,null,null,null,null,null,null,null,null,null,null,null,null,null,null,null,null,null,null,null,"",""]
[92,null,null,null,null,null,null,null,null,null,null,null,null,null,null,null,null,null,null,null,null,"",""]
[93,null,null,null,null,null,null,null,null,null,null,null,null,null,null,null,null,null,null,null,null,"",""]
[94,null,null,null,null,null,null,null,null,null,null,null,null,null,null,null,null,null,null,null,null,"",""]
[95,null,null,null,null,null,null,null,null,null,null,null,null,null,null,null,null,null,null,null,null,"",""]
[96,null,null,null,null,null,null,null,null,null,null,null,null,null,null,null,null,null,null,null,null,"",""]
[97,null,null,null,null,null,null,null,null,null,null,null,null,null,null,null,null,null,null,null,null,"",""]
[98,null,null,null,null,null,null,null,null,null,null,null,null,null,null,null,null,null,null,null,null,"",""]
[99,null,null,null,null,null,null,null,null,null,null,null,null,null,null,null,null,null,null,null,null,"",""]
[100,null,null,null,null,null,null,null,null,null,null,null,null,null,null,null,null,null,null,null,null,"",""]
[101,null,null,null,null,null,null,null,null,null,null,null,null,null,null,null,null,null,null,null,null,"",""]
[102,null,null,null,null,null,null,null,null,null,null,null,null,null,null,null,null,null,null,null,null,"",""]
[103,null,null,null,null,null,null,null,null,null,null,null,null,null,null,null,null,null,null,null,null,"",""]
[104,null,null,null,null,null,null,null,null,null,null,null,null,null,null,null,null,null,null,null,null,"",""]
[105,null,null,null,null,null,null,null,null,null,null,null,null,null,null,null,null,null,null,null,null,"",""]
[106,null,null,null,null,null,null,null,null,null,null,null,null,null,null,null,null,null,null,null,null,"",""]
[107,null,null,null,null,null,null,null,null,null,null,null,null,null,null,null,null,null,null,null,null,"",""]
[108,null,null,null,null,null,null,null,null,null,null,null,null,null,null,null,null,null,null,null,null,"",""]
[109,null,null,null,null,null,null,null,null,null,null,null,null,null,null,null,null,null,null,null,null,"",""]
[110,null,null,null,null,null,null,null,null,null,null,null,null,null,null,null,null,null,null,null,null,"",""]
[111,null,null,null,null,null,null,null,null,null,null,null,null,null,null,null,null,null,null,null,null,"",""]
[112,null,null,null,null,null,null,null,null,null,null,null,null,null,null,null,null,null,null,null,null,"",""]
[113,null,null,null,null,null,null,null,null,null,null,null,null,null,null,null,null,null,null,null,null,"",""]
[114,null,null,null,null,null,null,null,null,null,null,null,null,null,null,null,null,null,null,null,null,"",""]
[115,null,null,null,null,null,null,null,null,null,null,null,null,null,null,null,null,null,null,null,null,"",""]
[116,null,null,null,null,null,null,null,null,null,null,null,null,null,null,null,null,null,null,null,null,"",""]
[117,null,null,null,null,null,null,null,null,null,null,null,null,null,null,null,null,null,null,null,null,"",""]
[118,null,null,null,null,null,null,null,null,null,null,null,null,null,null,null,null,null,null,null,null,"",""]
[119,null,null,null,null,null,null,null,null,null,null,null,null,null,null,null,null,null,null,null,null,"",""]
[120,null,null,null,null,null,null,null,null,null,null,null,null,null,null,null,null,null,null,null,null,"",""]
[121,null,null,null,null,null,null,null,null,null,null,null,null,null,null,null,null,null,null,null,null,"",""]
[122,null,null,null,null,null,null,null,null,null,null,null,null,null,null,null,null,null,null,null,null,"",""]
[123,null,null,null,null,null,null,null,null,null,null,null,null,null,null,null,null,null,null,null,null,"",""]
[124,null,null,null,null,null,null,null,null,null,null,null,null,null,null,null,null,null,null,null,null,"",""]
[125,null,null,null,null,null,null,null,null,null,null,null,null,null,null,null,null,null,null,null,null,"",""]
[126,null,null,null,null,null,null,null,null,null,null,null,null,null,null,null,null,null,null,null,null,"",""]
[127,null,null,null,null,null,null,null,null,null,null,null,null,null,null,null,null,null,null,null,null,"",""]
[128,null,null,null,null,null,null,null,null,null,null,null,null,null,null,null,null,null,null,null,null,"",""]
[129,null,null,null,null,null,null,null,null,null,null,null,null,null,null,null,null,null,null,null,null,"",""]
[130,null,null,null,null,null,null,null,null,null,null,null,null,null,null,null,null,null,null,null,null,"",""]
[131,null,null,null,null,null,null,null,null,null,null,null,null,null,null,null,null,null,null,null,null,"",""]
[132,null,null,null,null,null,null,null,null,null,null,null,null,null,null,null,null,null,null,null,null,"",""]
[133,null,null,null,null,null,null,null,null,null,null,null,null,null,null,null,null,null,null,null,null,"",""]
[134,null,null,null,null,null,null,null,null,null,null,null,null,null,null,null,null,null,null,null,null,"",""]
[135,null,null,null,null,null,null,null,null,null,null,null,null,null,null,null,null,null,null,null,null,"",""]
[136,null,null,null,null,null,null,null,null,null,null,null,null,null,null,null,null,null,null,null,null,"",""]
[137,null,null,null,null,null,null,null,null,null,null,null,null,null,null,null,null,null,null,null,null,"",""]
[138,null,null,null,null,null,null,null,null,null,null,null,null,null,null,null,null,null,null,null,null,"",""]
[139,null,null,null,null,null,null,null,null,null,null,null,null,null,null,null,null,null,null,null,null,"",""]
[140,null,null,null,null,null,null,null,null,null,null,null,null,null,null,null,null,null,null,null,null,"",""]
[141,null,null,null,null,null,null,null,null,null,null,null,null,null,null,null,null,null,null,null,null,"",""]
[142,null,null,null,null,null,null,null,null,null,null,null,null,null,null,null,null,null,null,null,null,"",""]
[143,null,null,null,null,null,null,null,null,null,null,null,null,null,null,null,null,null,null,null,null,"",""]
[144,null,null,null,null,null,null,null,null,null,null,null,null,null,null,null,null,null,null,null,null,"",""]
[145,null,null,null,null,null,null,null,null,null,null,null,null,null,null,null,null,null,null,null,null,{"$f":"IF(COUNT($B152:$C152)=2,B152,\"\")","v":""},{"$f":"IF(COUNT($B152:$C152)=2,C152,\"\")","v":""}]
[146,null,null,null,null,null,null,null,null,null,null,null,null,null,null,null,null,null,null,null,null,"",""]
[147,null,null,null,null,null,null,null,null,null,null,null,null,null,null,null,null,null,null,null,null,"",""]
[148,null,null,null,null,null,null,null,null,null,null,null,null,null,null,null,null,null,null,null,null,"",""]
[149,null,null,null,null,null,null,null,null,null,null,null,null,null,null,null,null,null,null,null,null,"",""]
[150,null,null,null,null,null,null,null,null,null,null,null,null,null,null,null,null,null,null,null,null,"",""]
[151,null,null,null,null,null,null,null,null,null,null,null,null,null,null,null,null,null,null,null,null,"",""]
[152,null,null,null,null,null,null,null,null,null,null,null,null,null,null,null,null,null,null,null,null,"",""]
[153,null,null,null,null,null,null,null,null,null,null,null,null,null,null,null,null,null,null,null,null,"",""]
[154,null,null,null,null,null,null,null,null,null,null,null,null,null,null,null,null,null,null,null,null,"",""]
[155,null,null,null,null,null,null,null,null,null,null,null,null,null,null,null,null,null,null,null,null,"",""]
[156,null,null,null,null,null,null,null,null,null,null,null,null,null,null,null,null,null,null,null,null,"",""]
[157,null,null,null,null,null,null,null,null,null,null,null,null,null,null,null,null,null,null,null,null,"",""]
[158,null,null,null,null,null,null,null,null,null,null,null,null,null,null,null,null,null,null,null,null,"",""]
[159,null,null,null,null,null,null,null,null,null,null,null,null,null,null,null,null,null,null,null,null,"",""]
[160,null,null,null,null,null,null,null,null,null,null,null,null,null,null,null,null,null,null,null,null,"",""]
[161,null,null,null,null,null,null,null,null,null,null,null,null,null,null,null,null,null,null,null,null,"",""]
[162,null,null,null,null,null,null,null,null,null,null,null,null,null,null,null,null,null,null,null,null,"",""]
[163,null,null,null,null,null,null,null,null,null,null,null,null,null,null,null,null,null,null,null,null,"",""]
[164,null,null,null,null,null,null,null,null,null,null,null,null,null,null,null,null,null,null,null,null,"",""]
[165,null,null,null,null,null,null,null,null,null,null,null,null,null,null,null,null,null,null,null,null,"",""]
[166,null,null,null,null,null,null,null,null,null,null,null,null,null,null,null,null,null,null,null,null,"",""]
[167,null,null,null,null,null,null,null,null,null,null,null,null,null,null,null,null,null,null,null,null,"",""]
[168,null,null,null,null,null,null,null,null,null,null,null,null,null,null,null,null,null,null,null,null,"",""]
[169,null,null,null,null,null,null,null,null,null,null,null,null,null,null,null,null,null,null,null,null,"",""]
[170,null,null,null,null,null,null,null,null,null,null,null,null,null,null,null,null,null,null,null,null,"",""]
[171,null,null,null,null,null,null,null,null,null,null,null,null,null,null,null,null,null,null,null,null,"",""]
[172,null,null,null,null,null,null,null,null,null,null,null,null,null,null,null,null,null,null,null,null,"",""]
[173,null,null,null,null,null,null,null,null,null,null,null,null,null,null,null,null,null,null,null,null,"",""]
[174,null,null,null,null,null,null,null,null,null,null,null,null,null,null,null,null,null,null,null,null,"",""]
[175,null,null,null,null,null,null,null,null,null,null,null,null,null,null,null,null,null,null,null,null,"",""]
[176,null,null,null,null,null,null,null,null,null,null,null,null,null,null,null,null,null,null,null,null,"",""]
[177,null,null,null,null,null,null,null,null,null,null,null,null,null,null,null,null,null,null,null,null,"",""]
[178,null,null,null,null,null,null,null,null,null,null,null,null,null,null,null,null,null,null,null,null,"",""]
[179,null,null,null,null,null,null,null,null,null,null,null,null,null,null,null,null,null,null,null,null,"",""]
[180,null,null,null,null,null,null,null,null,null,null,null,null,null,null,null,null,null,null,null,null,"",""]
[181,null,null,null,null,null,null,null,null,null,null,null,null,null,null,null,null,null,null,null,null,"",""]
[182,null,null,null,null,null,null,null,null,null,null,null,null,null,null,null,null,null,null,null,null,"",""]
[183,null,null,null,null,null,null,null,null,null,null,null,null,null,null,null,null,null,null,null,null,"",""]
[184,null,null,null,null,null,null,null,null,null,null,null,null,null,null,null,null,null,null,null,null,"",""]
[185,null,null,null,null,null,null,null,null,null,null,null,null,null,null,null,null,null,null,null,null,"",""]
[186,null,null,null,null,null,null,null,null,null,null,null,null,null,null,null,null,null,null,null,null,"",""]
[187,null,null,null,null,null,null,null,null,null,null,null,null,null,null,null,null,null,null,null,null,"",""]
[188,null,null,null,null,null,null,null,null,null,null,null,null,null,null,null,null,null,null,null,null,"",""]
[189,null,null,null,null,null,null,null,null,null,null,null,null,null,null,null,null,null,null,null,null,"",""]
[190,null,null,null,null,null,null,null,null,null,null,null,null,null,null,null,null,null,null,null,null,"",""]
[191,null,null,null,null,null,null,null,null,null,null,null,null,null,null,null,null,null,null,null,null,"",""]
[192,null,null,null,null,null,null,null,null,null,null,null,null,null,null,null,null,null,null,null,null,"",""]
[193,null,null,null,null,null,null,null,null,null,null,null,null,null,null,null,null,null,null,null,null,"",""]
[194,null,null,null,null,null,null,null,null,null,null,null,null,null,null,null,null,null,null,null,null,"",""]
[195,null,null,null,null,null,null,null,null,null,null,null,null,null,null,null,null,null,null,null,null,"",""]
[196,null,null,null,null,null,null,null,null,null,null,null,null,null,null,null,null,null,null,null,null,"",""]
[197,null,null,null,null,null,null,null,null,null,null,null,null,null,null,null,null,null,null,null,null,"",""]
[198,null,null,null,null,null,null,null,null,null,null,null,null,null,null,null,null,null,null,null,null,"",""]
[199,null,null,null,null,null,null,null,null,null,null,null,null,null,null,null,null,null,null,null,null,"",""]
[200,null,null,null,null,null,null,null,null,null,null,null,null,null,null,null,null,null,null,null,null,"",""]
[201,null,null,null,null,null,null,null,null,null,null,null,null,null,null,null,null,null,null,null,null,"",""]
[202,null,null,null,null,null,null,null,null,null,null,null,null,null,null,null,null,null,null,null,null,"",""]
[203,null,null,null,null,null,null,null,null,null,null,null,null,null,null,null,null,null,null,null,null,"",""]
[204,null,null,null,null,null,null,null,null,null,null,null,null,null,null,null,null,null,null,null,null,"",""]
[205,null,null,null,null,null,null,null,null,null,null,null,null,null,null,null,null,null,null,null,null,"",""]
[206,null,null,null,null,null,null,null,null,null,null,null,null,null,null,null,null,null,null,null,null,"",""]
[207,null,null,null,null,null,null,null,null,null,null,null,null,null,null,null,null,null,null,null,null,"",""]
[208,null,null,null,null,null,null,null,null,null,null,null,null,null,null,null,null,null,null,null,null,"",""]
[209,null,null,null,null,null,null,null,null,null,null,null,null,null,null,null,null,null,null,null,null,{"$f":"IF(COUNT($B216:$C216)=2,B216,\"\")","v":""},{"$f":"IF(COUNT($B216:$C216)=2,C216,\"\")","v":""}]
[210,null,null,null,null,null,null,null,null,null,null,null,null,null,null,null,null,null,null,null,null,{"$f":"IF(COUNT($B217:$C217)=2,B217,\"\")","v":""},{"$f":"IF(COUNT($B217:$C217)=2,C217,\"\")","v":""}]
[211,null,null,null,null,null,null,null,null,null,null,null,null,null,null,null,null,null,null,null,null,"",""]
[212,null,null,null,null,null,null,null,null,null,null,null,null,null,null,null,null,null,null,null,null,"",""]
[213,null,null,null,null,null,null,null,null,null,null,null,null,null,null,null,null,null,null,null,null,"",""]
[214,null,null,null,null,null,null,null,null,null,null,null,null,null,null,null,null,null,null,null,null,"",""]
[215,null,null,null,null,null,null,null,null,null,null,null,null,null,null,null,null,null,null,null,null,"",""]
[216,null,null,null,null,null,null,null,null,null,null,null,null,null,null,null,null,null,null,null,null,"",""]
[217,null,null,null,null,null,null,null,null,null,null,null,null,null,null,null,null,null,null,null,null,"",""]
[218,null,null,null,null,null,null,null,null,null,null,null,null,null,null,null,null,null,null,null,null,"",""]
[219,null,null,null,null,null,null,null,null,null,null,null,null,null,null,null,null,null,null,null,null,"",""]
[220,null,null,null,null,null,null,null,null,null,null,null,null,null,null,null,null,null,null,null,null,"",""]
[221,null,null,null,null,null,null,null,null,null,null,null,null,null,null,null,null,null,null,null,null,"",""]
[222,null,null,null,null,null,null,null,null,null,null,null,null,null,null,null,null,null,null,null,null,"",""]
[223,null,null,null,null,null,null,null,null,null,null,null,null,null,null,null,null,null,null,null,null,"",""]
[224,null,null,null,null,null,null,null,null,null,null,null,null,null,null,null,null,null,null,null,null,"",""]
[225,null,null,null,null,null,null,null,null,null,null,null,null,null,null,null,null,null,null,null,null,"",""]
[226,null,null,null,null,null,null,null,null,null,null,null,null,null,null,null,null,null,null,null,null,"",""]
[227,null,null,null,null,null,null,null,null,null,null,null,null,null,null,null,null,null,null,null,null,"",""]
[228,null,null,null,null,null,null,null,null,null,null,null,null,null,null,null,null,null,null,null,null,"",""]
[229,null,null,null,null,null,null,null,null,null,null,null,null,null,null,null,null,null,null,null,null,"",""]
[230,null,null,null,null,null,null,null,null,null,null,null,null,null,null,null,null,null,null,null,null,"",""]
[231,null,null,null,null,null,null,null,null,null,null,null,null,null,null,null,null,null,null,null,null,"",""]
[232,null,null,null,null,null,null,null,null,null,null,null,null,null,null,null,null,null,null,null,null,"",""]
[233,null,null,null,null,null,null,null,null,null,null,null,null,null,null,null,null,null,null,null,null,"",""]
[234,null,null,null,null,null,null,null,null,null,null,null,null,null,null,null,null,null,null,null,null,"",""]
[235,null,null,null,null,null,null,null,null,null,null,null,null,null,null,null,null,null,null,null,null,"",""]
[236,null,null,null,null,null,null,null,null,null,null,null,null,null,null,null,null,null,null,null,null,"",""]
[237,null,null,null,null,null,null,null,null,null,null,null,null,null,null,null,null,null,null,null,null,"",""]
[238,null,null,null,null,null,null,null,null,null,null,null,null,null,null,null,null,null,null,null,null,"",""]
[239,null,null,null,null,null,null,null,null,null,null,null,null,null,null,null,null,null,null,null,null,"",""]
[240,null,null,null,null,null,null,null,null,null,null,null,null,null,null,null,null,null,null,null,null,"",""]
[241,null,null,null,null,null,null,null,null,null,null,null,null,null,null,null,null,null,null,null,null,"",""]
[242,null,null,null,null,null,null,null,null,null,null,null,null,null,null,null,null,null,null,null,null,"",""]
[243,null,null,null,null,null,null,null,null,null,null,null,null,null,null,null,null,null,null,null,null,"",""]
[244,null,null,null,null,null,null,null,null,null,null,null,null,null,null,null,null,null,null,null,null,"",""]
[245,null,null,null,null,null,null,null,null,null,null,null,null,null,null,null,null,null,null,null,null,"",""]
[246,null,null,null,null,null,null,null,null,null,null,null,null,null,null,null,null,null,null,null,null,"",""]
[247,null,null,null,null,null,null,null,null,null,null,null,null,null,null,null,null,null,null,null,null,"",""]
[248,null,null,null,null,null,null,null,null,null,null,null,null,null,null,null,null,null,null,null,null,"",""]
[249,null,null,null,null,null,null,null,null,null,null,null,null,null,null,null,null,null,null,null,null,"",""]
[250,null,null,null,null,null,null,null,null,null,null,null,null,null,null,null,null,null,null,null,null,"",""]
[251,null,null,null,null,null,null,null,null,null,null,null,null,null,null,null,null,null,null,null,null,"",""]
[252,null,null,null,null,null,null,null,null,null,null,null,null,null,null,null,null,null,null,null,null,"",""]
[253,null,null,null,null,null,null,null,null,null,null,null,null,null,null,null,null,null,null,null,null,"",""]
[254,null,null,null,null,null,null,null,null,null,null,null,null,null,null,null,null,null,null,null,null,"",""]
[255,null,null,null,null,null,null,null,null,null,null,null,null,null,null,null,null,null,null,null,null,"",""]
[256,null,null,null,null,null,null,null,null,null,null,null,null,null,null,null,null,null,null,null,null,"",""]
[257,null,null,null,null,null,null,null,null,null,null,null,null,null,null,null,null,null,null,null,null,"",""]
[258,null,null,null,null,null,null,null,null,null,null,null,null,null,null,null,null,null,null,null,null,"",""]
[259,null,null,null,null,null,null,null,null,null,null,null,null,null,null,null,null,null,null,null,null,"",""]
[260,null,null,null,null,null,null,null,null,null,null,null,null,null,null,null,null,null,null,null,null,"",""]
[261,null,null,null,null,null,null,null,null,null,null,null,null,null,null,null,null,null,null,null,null,"",""]
[262,null,null,null,null,null,null,null,null,null,null,null,null,null,null,null,null,null,null,null,null,"",""]
[263,null,null,null,null,null,null,null,null,null,null,null,null,null,null,null,null,null,null,null,null,"",""]
[264,null,null,null,null,null,null,null,null,null,null,null,null,null,null,null,null,null,null,null,null,"",""]
[265,null,null,null,null,null,null,null,null,null,null,null,null,null,null,null,null,null,null,null,null,"",""]
[266,null,null,null,null,null,null,null,null,null,null,null,null,null,null,null,null,null,null,null,null,"",""]
[267,null,null,null,null,null,null,null,null,null,null,null,null,null,null,null,null,null,null,null,null,"",""]
[268,null,null,null,null,null,null,null,null,null,null,null,null,null,null,null,null,null,null,null,null,"",""]
[269,null,null,null,null,null,null,null,null,null,null,null,null,null,null,null,null,null,null,null,null,"",""]
[270,null,null,null,null,null,null,null,null,null,null,null,null,null,null,null,null,null,null,null,null,"",""]
[271,null,null,null,null,null,null,null,null,null,null,null,null,null,null,null,null,null,null,null,null,"",""]
[272,null,null,null,null,null,null,null,null,null,null,null,null,null,null,null,null,null,null,null,null,"",""]
[273,null,null,null,null,null,null,null,null,null,null,null,null,null,null,null,null,null,null,null,null,"",""]
[274,null,null,null,null,null,null,null,null,null,null,null,null,null,null,null,null,null,null,null,null,{"$f":"IF(COUNT($B281:$C281)=2,B281,\"\")","v":""},{"$f":"IF(COUNT($B281:$C281)=2,C281,\"\")","v":""}]
[275,null,null,null,null,null,null,null,null,null,null,null,null,null,null,null,null,null,null,null,null,"",""]
[276,null,null,null,null,null,null,null,null,null,null,null,null,null,null,null,null,null,null,null,null,"",""]
[277,null,null,null,null,null,null,null,null,null,null,null,null,null,null,null,null,null,null,null,null,"",""]
[278,null,null,null,null,null,null,null,null,null,null,null,null,null,null,null,null,null,null,null,null,"",""]
[279,null,null,null,null,null,null,null,null,null,null,null,null,null,null,null,null,null,null,null,null,"",""]
[280,null,null,null,null,null,null,null,null,null,null,null,null,null,null,null,null,null,null,null,null,"",""]
[281,null,null,null,null,null,null,null,null,null,null,null,null,null,null,null,null,null,null,null,null,"",""]
[282,null,null,null,null,null,null,null,null,null,null,null,null,null,null,null,null,null,null,null,null,"",""]
[283,null,null,null,null,null,null,null,null,null,null,null,null,null,null,null,null,null,null,null,null,"",""]
[284,null,null,null,null,null,null,null,null,null,null,null,null,null,null,null,null,null,null,null,null,"",""]
[285,null,null,null,null,null,null,null,null,null,null,null,null,null,null,null,null,null,null,null,null,"",""]
[286,null,null,null,null,null,null,null,null,null,null,null,null,null,null,null,null,null,null,null,null,"",""]
[287,null,null,null,null,null,null,null,null,null,null,null,null,null,null,null,null,null,null,null,null,"",""]
[288,null,null,null,null,null,null,null,null,null,null,null,null,null,null,null,null,null,null,null,null,"",""]
[289,null,null,null,null,null,null,null,null,null,null,null,null,null,null,null,null,null,null,null,null,"",""]
[290,null,null,null,null,null,null,null,null,null,null,null,null,null,null,null,null,null,null,null,null,"",""]
[291,null,null,null,null,null,null,null,null,null,null,null,null,null,null,null,null,null,null,null,null,"",""]
[292,null,null,null,null,null,null,null,null,null,null,null,null,null,null,null,null,null,null,null,null,"",""]
[293,null,null,null,null,null,null,null,null,null,null,null,null,null,null,null,null,null,null,null,null,"",""]
[294,null,null,null,null,null,null,null,null,null,null,null,null,null,null,null,null,null,null,null,null,"",""]
[295,null,null,null,null,null,null,null,null,null,null,null,null,null,null,null,null,null,null,null,null,"",""]
[296,null,null,null,null,null,null,null,null,null,null,null,null,null,null,null,null,null,null,null,null,"",""]
[297,null,null,null,null,null,null,null,null,null,null,null,null,null,null,null,null,null,null,null,null,"",""]
[298,null,null,null,null,null,null,null,null,null,null,null,null,null,null,null,null,null,null,null,null,"",""]
[299,null,null,null,null,null,null,null,null,null,null,null,null,null,null,null,null,null,null,null,null,"",""]
[300,null,null,null,null,null,null,null,null,null,null,null,null,null,null,null,null,null,null,null,null,"",""]
[301,null,null,null,null,null,null,null,null,null,null,null,null,null,null,null,null,null,null,null,null,"",""]
[302,null,null,null,null,null,null,null,null,null,null,null,null,null,null,null,null,null,null,null,null,"",""]
[303,null,null,null,null,null,null,null,null,null,null,null,null,null,null,null,null,null,null,null,null,"",""]
[304,null,null,null,null,null,null,null,null,null,null,null,null,null,null,null,null,null,null,null,null,"",""]
[305,null,null,null,null,null,null,null,null,null,null,null,null,null,null,null,null,null,null,null,null,"",""]
[306,null,null,null,null,null,null,null,null,null,null,null,null,null,null,null,null,null,null,null,null,"",""]
[307,null,null,null,null,null,null,null,null,null,null,null,null,null,null,null,null,null,null,null,null,"",""]
[308,null,null,null,null,null,null,null,null,null,null,null,null,null,null,null,null,null,null,null,null,"",""]
[309,null,null,null,null,null,null,null,null,null,null,null,null,null,null,null,null,null,null,null,null,"",""]
[310,null,null,null,null,null,null,null,null,null,null,null,null,null,null,null,null,null,null,null,null,"",""]
[311,null,null,null,null,null,null,null,null,null,null,null,null,null,null,null,null,null,null,null,null,"",""]
[312,null,null,null,null,null,null,null,null,null,null,null,null,null,null,null,null,null,null,null,null,"",""]
[313,null,null,null,null,null,null,null,null,null,null,null,null,null,null,null,null,null,null,null,null,"",""]
[314,null,null,null,null,null,null,null,null,null,null,null,null,null,null,null,null,null,null,null,null,"",""]
[315,null,null,null,null,null,null,null,null,null,null,null,null,null,null,null,null,null,null,null,null,"",""]
[316,null,null,null,null,null,null,null,null,null,null,null,null,null,null,null,null,null,null,null,null,"",""]
[317,null,null,null,null,null,null,null,null,null,null,null,null,null,null,null,null,null,null,null,null,"",""]
[318,null,null,null,null,null,null,null,null,null,null,null,null,null,null,null,null,null,null,null,null,"",""]
[319,null,null,null,null,null,null,null,null,null,null,null,null,null,null,null,null,null,null,null,null,"",""]
[320,null,null,null,null,null,null,null,null,null,null,null,null,null,null,null,null,null,null,null,null,"",""]
[321,null,null,null,null,null,null,null,null,null,null,null,null,null,null,null,null,null,null,null,null,"",""]
[322,null,null,null,null,null,null,null,null,null,null,null,null,null,null,null,null,null,null,null,null,"",""]
[323,null,null,null,null,null,null,null,null,null,null,null,null,null,null,null,null,null,null,null,null,"",""]
[324,null,null,null,null,null,null,null,null,null,null,null,null,null,null,null,null,null,null,null,null,"",""]
[325,null,null,null,null,null,null,null,null,null,null,null,null,null,null,null,null,null,null,null,null,"",""]
[326,null,null,null,null,null,null,null,null,null,null,null,null,null,null,null,null,null,null,null,null,"",""]
[327,null,null,null,null,null,null,null,null,null,null,null,null,null,null,null,null,null,null,null,null,"",""]
[328,null,null,null,null,null,null,null,null,null,null,null,null,null,null,null,null,null,null,null,null,"",""]
[329,null,null,null,null,null,null,null,null,null,null,null,null,null,null,null,null,null,null,null,null,"",""]
[330,null,null,null,null,null,null,null,null,null,null,null,null,null,null,null,null,null,null,null,null,"",""]
[331,null,null,null,null,null,null,null,null,null,null,null,null,null,null,null,null,null,null,null,null,"",""]
[332,null,null,null,null,null,null,null,null,null,null,null,null,null,null,null,null,null,null,null,null,"",""]
[333,null,null,null,null,null,null,null,null,null,null,null,null,null,null,null,null,null,null,null,null,"",""]
[334,null,null,null,null,null,null,null,null,null,null,null,null,null,null,null,null,null,null,null,null,"",""]
[335,null,null,null,null,null,null,null,null,null,null,null,null,null,null,null,null,null,null,null,null,"",""]
[336,null,null,null,null,null,null,null,null,null,null,null,null,null,null,null,null,null,null,null,null,"",""]
[337,null,null,null,null,null,null,null,null,null,null,null,null,null,null,null,null,null,null,null,null,"",""]
[338,null,null,null,null,null,null,null,null,null,null,null,null,null,null,null,null,null,null,null,null,{"$f":"IF(COUNT($B345:$C345)=2,B345,\"\")","v":""},{"$f":"IF(COUNT($B345:$C345)=2,C345,\"\")","v":""}]
[339,null,null,null,null,null,null,null,null,null,null,null,null,null,null,null,null,null,null,null,null,"",""]
[340,null,null,null,null,null,null,null,null,null,null,null,null,null,null,null,null,null,null,null,null,"",""]
[341,null,null,null,null,null,null,null,null,null,null,null,null,null,null,null,null,null,null,null,null,"",""]
[342,null,null,null,null,null,null,null,null,null,null,null,null,null,null,null,null,null,null,null,null,"",""]
[343,null,null,null,null,null,null,null,null,null,null,null,null,null,null,null,null,null,null,null,null,"",""]
[344,null,null,null,null,null,null,null,null,null,null,null,null,null,null,null,null,null,null,null,null,"",""]
[345,null,null,null,null,null,null,null,null,null,null,null,null,null,null,null,null,null,null,null,null,"",""]
[346,null,null,null,null,null,null,null,null,null,null,null,null,null,null,null,null,null,null,null,null,"",""]
[347,null,null,null,null,null,null,null,null,null,null,null,null,null,null,null,null,null,null,null,null,"",""]
[348,null,null,null,null,null,null,null,null,null,null,null,null,null,null,null,null,null,null,null,null,"",""]
[349,null,null,null,null,null,null,null,null,null,null,null,null,null,null,null,null,null,null,null,null,"",""]
[350,null,null,null,null,null,null,null,null,null,null,null,null,null,null,null,null,null,null,null,null,"",""]
[351,null,null,null,null,null,null,null,null,null,null,null,null,null,null,null,null,null,null,null,null,"",""]
[352,null,null,null,null,null,null,null,null,null,null,null,null,null,null,null,null,null,null,null,null,"",""]
[353,null,null,null,null,null,null,null,null,null,null,null,null,null,null,null,null,null,null,null,null,"",""]
[354,null,null,null,null,null,null,null,null,null,null,null,null,null,null,null,null,null,null,null,null,"",""]
[355,null,null,null,null,null,null,null,null,null,null,null,null,null,null,null,null,null,null,null,null,"",""]
[356,null,null,null,null,null,null,null,null,null,null,null,null,null,null,null,null,null,null,null,null,"",""]
[357,null,null,null,null,null,null,null,null,null,null,null,null,null,null,null,null,null,null,null,null,"",""]
[358,null,null,null,null,null,null,null,null,null,null,null,null,null,null,null,null,null,null,null,null,"",""]
[359,null,null,null,null,null,null,null,null,null,null,null,null,null,null,null,null,null,null,null,null,"",""]
[360,null,null,null,null,null,null,null,null,null,null,null,null,null,null,null,null,null,null,null,null,"",""]
[null,null,null,null,null,null,null,null,null,null,null,null,null,null,null,null,null,null,null,null,null,"",""]
[null,null,null,null,null,null,null,null,null,null,null,null,null,null,null,null,null,null,null,null,null,"",""]
[null,null,null,null,null,null,null,null,null,null,null,null,null,null,null,null,null,null,null,null,null,"",""]
[null,null,null,null,null,null,null,null,null,null,null,null,null,null,null,null,null,null,null,null,null,"",""]
[null,null,null,null,null,null,null,null,null,null,null,null,null,null,null,null,null,null,null,null,null,"",""]

{"sheet":"corr פירסון  (1)","index":31,"n_rows":205,"n_cols":11,"rows_kept":205,"cut":false,"hidden":false,"merged":[[4,6,4,7]]}
["מקדם המתאם ע\"ש פירסון"]
[]
["מיועד לחישוב מקדם מתאם בין  שני משתנים אינטרוולים"]
["הוראות : "]
["הכנס ערכים עבור המשתנים ",null,null,null,null,null,"סטטיסיקה תאורית"]
[null,null,null,null,null,null,"משתנה בלתי תלוי","משתנה תלוי"]
[null,"הכנס      שם משתנה הבלתי תלוי","הכנס שם משתנה תלוי",null,null,null,{"$f":"B7","v":"הכנס      שם משתנה הבלתי תלוי"},{"$f":"C7","v":"הכנס שם משתנה תלוי"}]
[1,null,null,null,null,"ממוצע",{"$f":"IF(COUNT(B8:B91)>2,AVERAGE(B8:B91),\"\")","v":""},{"$f":"IF(COUNT(C8:C91)>2,AVERAGE(C8:C91),\"\")","v":""}]
[2,null,null,null,null,"סטיית תקן",{"$f":"IF(COUNT(B8:B91)>2,STDEV(B8:B91),\"\")","v":""},{"$f":"IF(COUNT(C8:C91)>2,STDEV(C8:C91),\"\")","v":""},null,"משמעות של קשר בין משתנים "]
[3,null,null,null,null,"מספר נבדקים",{"$f":"IF(COUNT(B8:B91)>2,COUNT(B8:B91),\"\")","v":""},{"$f":"IF(COUNT(C8:C91)>2,COUNT(C8:C91),\"\")","v":""},null,"קשר חיובי ","עלייה במשתנה אחד גוררת גם עלייה במשתנה שני - למי שיש ערך גובה במשתנה אחד יש גם ערך גובה במשתנה השני"]
[4,null,null,null,null,"cov(x,y)",{"$f":"IF(COUNT(B8:B13)>0,G12*G13*H13*G10,\"\")","v":""},null,null,"קשר חיובי ","עלייה במשתנה אחד גוררת גם ירידה  במשתנה שני - למי שיש ערך גובה במשתנה אחד יש  ערך נמוך  במשתנה השני"]
[5,null,null,null,null,null,{"$f":"IF(COUNT(B8:B91),CORREL(B8:B91,C8:C91),\"\")","v":""},"r ="]
[6,null,null,null,null,null,{"$f":"IF(COUNT(B8:B91)>2,_xlfn.STDEV.P(B8:B91),\"\")","v":""},{"$f":"IF(COUNT(C8:C91)>2,_xlfn.STDEV.P(C8:C91),\"\")","v":""}]
[7]
[8,null,null,null,null,null,{"$f":"IF(COUNT(B8:B91)>2,\"משמעות סטטיסטית: נמצא  \",\"\")","v":""},{"$f":"IF(COUNT(B8:B91)>2,IF(G12<0,\"קשר שלילי \",\"קשר חיובי\"),\"\")","v":""},{"$f":"IF(COUNT(B8:B91)>2,IF(ABS(G12)>2,\" חלש מאוד \",IF(ABS(G12)<0.4,\" בינוני - חלש  \",IF(ABS(G12)<0.6,\"קשר בינוני\",  IF(ABS(G12)<0.8,\"בינוני חזק\",\" חזק\")))),\"\")","v":""},{"$f":"IF(COUNT(B8:B91)>2,\"בין המשתנים \",\"\")","v":""}]
[9]
[10,null,null,null," = r2",{"$f":"IF(COUNT(B8:B91)>2,\"אחוז  השונות  המסוברת:\",\"\")","v":""},null,{"$f":"IF(COUNT(B8:B91)>2,G12^2,\"\")","v":""},{"$f":"IF(COUNT(B8:B91)>2,\"מההבדלים במשתנה התלוי ניתנים להסבר באמצעות ההבדלים במשתנה הבלתי תלוי \",\"\")","v":""}]
[11,null,null,null,null,null,null,{"$f":"IF(COUNT(B8:B91)>2,1-H17,\"\")","v":""},{"$f":"IF(COUNT(B8:B91)>2,\"מההבדלים מוסברים באמצעות גורמים אחרים \",\"\")","v":""}]
[12]
[13]
[14]
[15]
[16]
[17]
[18]
[19]
[20]
[21]
[22]
[23]
[24]
[25]
[26]
[27]
[28,null,null,null,"כדי לקבל גרף משמעותי סדר את הערכים בצירים שיתאימו לערכים של המשתנים שנמדדו "]
[29]
[30]
[31]
[32]
[33]
[34]
[35]
[36]
[37]
[38]
[39]
[40]
[41]
[42]
[43]
[44]
[45]
[46]
[47]
[48]
[49]
[50]
[51]
[52]
[53]
[54]
[55]
[56]
[57]
[58]
[59]
[60]
[61]
[62]
[63]
[64]
[65]
[66]
[67]
[68]
[69]
[70]
[71]
[72]
[73]
[74]
[75]
[76]
[77]
[78]
[79]
[80]
[81]
[82]
[83]
[84]
[85]
[86]
[87]
[88]
[89]
[90]
[91]
[92]
[93]
[94]
[95]
[96]
[97]
[98]
[99]
[100]
[101]
[102]
[103]
[104]
[105]
[106]
[107]
[108]
[109]
[110]
[111]
[112]
[113]
[114]
[115]
[116]
[117]
[118]
[119]
[120]
[121]
[122]
[123]
[124]
[125]
[126]
[127]
[128]
[129]
[130]
[131]
[132]
[133]
[134]
[135]
[136]
[137]
[138]
[139]
[140]
[141]
[142]
[143]
[144]
[145]
[146]
[147]
[148]
[149]
[150]
[151]
[152]
[153]
[154]
[155]
[156]
[157]
[158]
[159]
[160]
[161]
[162]
[163]
[164]
[165]
[166]
[167]
[168]
[169]
[170]
[171]
[172]
[173]
[174]
[175]
[176]
[177]
[178]
[179]
[180]
[181]
[182]
[183]
[184]
[185]
[186]
[187]
[188]
[189]
[190]
[191]
[192]
[193]
[194]
[195]
[196]
[197]
[198]

{"sheet":"טבלת מתאמים מסטר","index":32,"n_rows":210,"n_cols":22,"rows_kept":210,"cut":false,"hidden":false,"merged":[[6,13,6,21]]}
["חישוב מטריצת  מתאמים  למשתנים אינטרוולים - (מתאם ע\"ש פירסון ) "]
["על טבלת נתונים (חישוב המתאם עבור כל זוגות המשתנים )"]
[]
[]
["הכנס את הכותרות  (שורה 8) ואת הערכים עבור המשתנים עבורם אתה רוצה ליצור מטריצת מתאמים"]
[]
[null,null,null,null,null,null,null,null,null,null,null,null,null,"מטריצת המתאמים בין המשתנים "]
["הנבדק","משתנה1","משתנה2","משתנה3","משתנה4","משתנה5","משתנה6","משתנה7","משתנה8","משתנה9",null,null,null,{"$f":"B8","v":"משתנה1"},"משתנה2","משתנה3","משתנה4","משתנה5","משתנה6","משתנה7","משתנה8","משתנה9"]
[1,null,null,null,null,null,null,null,null,null,null,null,{"$f":"B8","v":"משתנה1"},{"$f":"IF(COUNT(B9:B33)>2,1,\"\")","v":""}]
[2,null,null,null,null,null,null,null,null,null,null,null,{"$f":"C8","v":"משתנה2"},{"$f":"IF(AND(COUNT(B$9:B$33)>2,COUNT(C$9:C$33)>2),CORREL(B$9:B$200,C$9:C$200),\"\")","v":""},{"$f":"IF(AND(COUNT(C$9:C$33)>2,COUNT(D$9:D$100)>2),CORREL(C$9:C$200,C$9:C$200),\"\")","v":""}]
[3,null,null,null,null,null,null,null,null,null,null,null,{"$f":"D8","v":"משתנה3"},{"$f":"IF(AND(COUNT(B$9:B$33)>2,COUNT($D$9:$D$33)>2),CORREL(B$9:B$200,$D$9:$D$200),\"\")","v":""},{"$f":"IF(AND(COUNT(C$9:C$33)>2,COUNT($D$9:$D$33)>2),CORREL(C$9:C$200,$D$9:$D$200),\"\")","v":""},{"$f":"IF(AND(COUNT(D$9:D$33)>2,COUNT($D$9:$D$33)>2),CORREL(D$9:D$200,$D$9:$D$200),\"\")","v":""}]
[4,null,null,null,null,null,null,null,null,null,null,null,{"$f":"E8","v":"משתנה4"},{"$f":"IF(AND(COUNT(B$9:B$33)>2,COUNT($E$9:$E$33)>2),CORREL(B$9:B$200,$E$9:$E$200),\"\")","v":""},{"$f":"IF(AND(COUNT(C$9:C$33)>2,COUNT($E$9:$E$33)>2),CORREL(C$9:C$200,$E$9:$E$200),\"\")","v":""},{"$f":"IF(AND(COUNT(D$9:D$33)>2,COUNT($E$9:$E$200)>2),CORREL(D$9:D$100,$E$9:$E$200),\"\")","v":""},{"$f":"IF(AND(COUNT(E$9:E$100)>2,COUNT($E$9:$E$100)>2),CORREL(E$9:E$200,$E$9:$E$200),\"\")","v":""}]
[5,null,null,null,null,null,null,null,null,null,null,null,{"$f":"F8","v":"משתנה5"},{"$f":"IF(AND(COUNT(B$9:B$33)>2,COUNT($F$9:$F$33)>2),CORREL(B$9:B$200,$F$9:$F$200),\"\")","v":""},{"$f":"IF(AND(COUNT(C$9:C$100)>2,COUNT($F$9:$F$100)>2),CORREL(C$9:C$200,$F$9:$F$200),\"\")","v":""},{"$f":"IF(AND(COUNT(D$9:D$100)>2,COUNT($F$9:$F$100)>2),CORREL(D$9:D$200,$F$9:$F$200),\"\")","v":""},{"$f":"IF(AND(COUNT(E$9:E$100)>2,COUNT($F$9:$F$100)>2),CORREL(E$9:E$200,$F$9:$F$200),\"\")","v":""},{"$f":"IF(AND(COUNT(F$9:F$100)>2,COUNT($F$9:$F$100)>2),CORREL(F$9:F$200,$F$9:$F$200),\"\")","v":""}]
[6,null,null,null,null,null,null,null,null,null,null,null,{"$f":"G8","v":"משתנה6"},{"$f":"IF(AND(COUNT(B$9:B$33)>2,COUNT($G$9:$G$200)>2),CORREL(B$9:B$33,$G$9:$G$200),\"\")","v":""},{"$f":"IF(AND(COUNT(C$9:C$33)>2,COUNT($G$9:$G$33)>2),CORREL(C$9:C$200,$G$9:$G$200),\"\")","v":""},{"$f":"IF(AND(COUNT(D$9:D$33)>2,COUNT($G$9:$G$200)>2),CORREL(D$9:D$33,$G$9:$G$200),\"\")","v":""},{"$f":"IF(AND(COUNT(E$9:E$33)>2,COUNT($G$9:$G$33)>2),CORREL(E$9:E$200,$G$9:$G$200),\"\")","v":""},{"$f":"IF(AND(COUNT(F$9:F$33)>2,COUNT($G$9:$G$33)>2),CORREL(F$9:F$200,$G$9:$G$200),\"\")","v":""},{"$f":"IF(AND(COUNT(G$9:G$33)>2,COUNT($G$9:$G$33)>2),CORREL(G$9:G$200,$G$9:$G$200),\"\")","v":""}]
[7,null,null,null,null,null,null,null,null,null,null,null,{"$f":"H8","v":"משתנה7"},{"$f":"IF(AND(COUNT(B$9:B$33)>2,COUNT($H$9:$H$200)>2),CORREL(B$9:B$33,$H$9:$H$200),\"\")","v":""},{"$f":"IF(AND(COUNT(C$9:C$33)>2,COUNT($H$9:$H$33)>2),CORREL(C$9:C$200,$H$9:$H$200),\"\")","v":""},{"$f":"IF(AND(COUNT(D$9:D$33)>2,COUNT($H$9:$H$200)>2),CORREL(D$9:D$33,$H$9:$H$200),\"\")","v":""},{"$f":"IF(AND(COUNT(E$9:E$33)>2,COUNT($H$9:$H$33)>2),CORREL(E$9:E$200,$H$9:$H$200),\"\")","v":""},{"$f":"IF(AND(COUNT(F$9:F$33)>2,COUNT($H$9:$H$33)>2),CORREL(F$9:F$200,$H$9:$H$200),\"\")","v":""},{"$f":"IF(AND(COUNT(G$9:G$33)>2,COUNT($H$9:$H$33)>2),CORREL(G$9:G$200,$H$9:$H$200),\"\")","v":""},{"$f":"IF(AND(COUNT(H$9:H$33)>2,COUNT($H$9:$H$33)>2),CORREL(H$9:H$200,$H$9:$H$200),\"\")","v":""}]
[8,null,null,null,null,null,null,null,null,null,null,null,{"$f":"I8","v":"משתנה8"},{"$f":"IF(AND(COUNT(B$9:B$33)>2,COUNT($I$9:$I$200)>2),CORREL(B$9:B$33,$I$9:$I$200),\"\")","v":""},{"$f":"IF(AND(COUNT(C$9:C$33)>2,COUNT($I$9:$I$33)>2),CORREL(C$9:C$200,$I$9:$I$200),\"\")","v":""},{"$f":"IF(AND(COUNT(D$9:D$33)>2,COUNT($I$9:$I$200)>2),CORREL(D$9:D$33,$I$9:$I$200),\"\")","v":""},{"$f":"IF(AND(COUNT(E$9:E$33)>2,COUNT($I$9:$I$33)>2),CORREL(E$9:E$200,$I$9:$I$200),\"\")","v":""},{"$f":"IF(AND(COUNT(F$9:F$33)>2,COUNT($I$9:$I$33)>2),CORREL(F$9:F$200,$I$9:$I$200),\"\")","v":""},{"$f":"IF(AND(COUNT(G$9:G$33)>2,COUNT($I$9:$I$33)>2),CORREL(G$9:G$200,$I$9:$I$200),\"\")","v":""},{"$f":"IF(AND(COUNT(H$9:H$33)>2,COUNT($I$9:$I$33)>2),CORREL(H$9:H$200,$I$9:$I$200),\"\")","v":""},{"$f":"IF(AND(COUNT(I$9:I$33)>2,COUNT($I$9:$I$33)>2),CORREL(I$9:I$200,$I$9:$I$200),\"\")","v":""}]
[9,null,null,null,null,null,null,null,null,null,null,null,{"$f":"J8","v":"משתנה9"},{"$f":"IF(AND(COUNT(B$9:B$33)>2,COUNT($J$9:$J$200)>2),CORREL(B$9:B$33,$J$9:$J$200),\"\")","v":""},{"$f":"IF(AND(COUNT(C$9:C$33)>2,COUNT($J$9:$J$33)>2),CORREL(C$9:C$200,$J$9:$J$200),\"\")","v":""},"","","","","","",""]
[10]
[11,null,null,null,null,null,null,null,null,null,null,null,null,null,"סטטיסטיקה תיאורית "]
[12]
[13,null,null,null,null,null,null,null,null,null,null,null,null,{"$f":"B8","v":"משתנה1"},{"$f":"C8","v":"משתנה2"},"משתנה3","משתנה4","משתנה5","משתנה6","משתנה7","משתנה8","משתנה9"]
[14,null,null,null,null,null,null,null,null,null,null,null,"ממוצע",{"$f":"IF(COUNT(B9:B33)>2,AVERAGE(B9:B200),\"\")","v":""},{"$f":"IF(COUNT(C9:C33)>2,AVERAGE(C9:C200),\"\")","v":""},"","","","","","",""]
[15,null,null,null,null,null,null,null,null,null,null,null,"חציון",{"$f":"IF(COUNT(B9:B33)>2,MEDIAN(B9:B200),\"\")","v":""},{"$f":"IF(COUNT(C9:C33)>2,MEDIAN(C9:C200),\"\")","v":""},"","","","","","",""]
[16,null,null,null,null,null,null,null,null,null,null,null,"סטיית תקן",{"$f":"IF(COUNT(B9:B33)>2,STDEV(B9:B200),\"\")","v":""},{"$f":"IF(COUNT(C9:C33)>2,STDEV(C9:C200),\"\")","v":""},"","","","","","",""]
[17,null,null,null,null,null,null,null,null,null,null,null,"מינימום",{"$f":"IF(COUNT(B9:B33)>2,MIN(B9:B200),\"\")","v":""},{"$f":"IF(COUNT(C9:C33)>2,MIN(C9:C200),\"\")","v":""},"","","","","","",""]
[18,null,null,null,null,null,null,null,null,null,null,null,"מקסימום",{"$f":"IF(COUNT(B9:B33)>2,MAX(B9:B200),\"\")","v":""},{"$f":"IF(COUNT(C9:C33)>2,MAX(C9:C200),\"\")","v":""},"","","","","","",""]
[19,null,null,null,null,null,null,null,null,null,null,null,"n",{"$f":"IF(COUNT(B9:B33)>2,COUNT(B9:B200),\"\")","v":""},{"$f":"IF(COUNT(C9:C33)>2,COUNT(C9:C200),\"\")","v":""},"","","","","","",""]
[20]
[21]
[22]
[23]
[24]
[25]
[26]
[27]
[28]
[29]
[30]
[31]
[32]
[33]
[34]
[35]
[36]
[37]
[38]
[39]
[40]
[41]
[42]
[43]
[44]
[45]
[46]
[47]
[48]
[49]
[50]
[51]
[52]
[53]
[54]
[55]
[56]
[57]
[58]
[59]
[60]
[61]
[62]
[63]
[64]
[65]
[66]
[67]
[68]
[69]
[70]
[71]
[72]
[73]
[74]
[75]
[76]
[77]
[78]
[79]
[80]
[81]
[82]
[83]
[84]
[85]
[86]
[87]
[88]
[89]
[90]
[91]
[92]
[93]
[94]
[95]
[96]
[97]
[98]
[99]
[100]
[101]
[102]
[103]
[104]
[105]
[106]
[107]
[108]
[109]
[110]
[111]
[112]
[113]
[114]
[115]
[116]
[117]
[118]
[119]
[120]
[121]
[122]
[123]
[124]
[125]
[126]
[127]
[128]
[129]
[130]
[131]
[132]
[133]
[134]
[135]
[136]
[137]
[138]
[139]
[140]
[141]
[142]
[143]
[144]
[145]
[146]
[147]
[148]
[149]
[150]
[151]
[152]
[153]
[154]
[155]
[156]
[157]
[158]
[159]
[160]
[161]
[162]
[163]
[164]
[165]
[166]
[167]
[168]
[169]
[170]
[171]
[172]
[173]
[174]
[175]
[176]
[177]
[178]
[179]
[180]
[181]
[182]
[183]
[184]
[185]
[186]
[187]
[188]
[189]
[190]
[191]
[192]
[193]
[194]
[195]
[196]
[197]
[198]
[199]
[200]
[201]
[202]

{"sheet":"טבלת מתאמים מסטר (1)","index":33,"n_rows":98,"n_cols":22,"rows_kept":98,"cut":false,"hidden":false,"merged":[[6,13,6,21]]}
["חישוב מטריצת  מתאמים  למשתנים אינטרוולים - (מתאם ע\"ש פירסון ) "]
["על טבלת נתונים (חישוב המתאם עבור כל זוגות המשתנים )"]
[]
[]
["הכנס את הכותרות  (שורה 8) ואת הערכים עבור המשתנים עבורם אתה רוצה ליצור מטריצת מתאמים"]
[]
[null,null,null,null,null,null,null,null,null,null,null,null,null,"מטריצת המתאמים בין המשתנים "]
["הנבדק","משתנה1","משתנה2","משתנה3","משתנה4","משתנה5","משתנה6","משתנה7","משתנה8","משתנה9",null,null,null,{"$f":"B8","v":"משתנה1"},"משתנה2","משתנה3","משתנה4","משתנה5","משתנה6","משתנה7","משתנה8","משתנה9"]
[1,null,null,null,null,null,null,null,null,null,null,null,{"$f":"B8","v":"משתנה1"},{"$f":"IF(COUNT(B9:B33)>2,1,\"\")","v":""}]
[2,null,null,null,null,null,null,null,null,null,null,null,{"$f":"C8","v":"משתנה2"},{"$f":"IF(AND(COUNT(B$9:B$33)>2,COUNT(C$9:C$33)>2),CORREL(B$9:B$33,C$9:C$33),\"\")","v":""},{"$f":"IF(AND(COUNT(C$9:C$33)>2,COUNT(D$9:D$33)>2),CORREL(C$9:C$33,D$9:D$33),\"\")","v":""}]
[3,null,null,null,null,null,null,null,null,null,null,null,{"$f":"D8","v":"משתנה3"},{"$f":"IF(AND(COUNT(B$9:B$33)>2,COUNT($D$9:$D$33)>2),CORREL(B$9:B$33,$D$9:$D$33),\"\")","v":""},{"$f":"IF(AND(COUNT(C$9:C$33)>2,COUNT($D$9:$D$33)>2),CORREL(C$9:C$33,$D$9:$D$33),\"\")","v":""},""]
[4,null,null,null,null,null,null,null,null,null,null,null,{"$f":"E8","v":"משתנה4"},{"$f":"IF(AND(COUNT(B$9:B$33)>2,COUNT($E$9:$E$33)>2),CORREL(B$9:B$33,$E$9:$E$33),\"\")","v":""},{"$f":"IF(AND(COUNT(C$9:C$33)>2,COUNT($E$9:$E$33)>2),CORREL(C$9:C$33,$E$9:$E$33),\"\")","v":""},"",""]
[5,null,null,null,null,null,null,null,null,null,null,null,{"$f":"F8","v":"משתנה5"},{"$f":"IF(AND(COUNT(B$9:B$33)>2,COUNT($F$9:$F$33)>2),CORREL(B$9:B$33,$F$9:$F$33),\"\")","v":""},{"$f":"IF(AND(COUNT(C$9:C$33)>2,COUNT($F$9:$F$33)>2),CORREL(C$9:C$33,$F$9:$F$33),\"\")","v":""},"","",""]
[6,null,null,null,null,null,null,null,null,null,null,null,{"$f":"G8","v":"משתנה6"},{"$f":"IF(AND(COUNT(B$9:B$33)>2,COUNT($G$9:$G$33)>2),CORREL(B$9:B$33,$G$9:$G$33),\"\")","v":""},{"$f":"IF(AND(COUNT(C$9:C$33)>2,COUNT($G$9:$G$33)>2),CORREL(C$9:C$33,$G$9:$G$33),\"\")","v":""},"","","",""]
[7,null,null,null,null,null,null,null,null,null,null,null,{"$f":"H8","v":"משתנה7"},{"$f":"IF(AND(COUNT(B$9:B$33)>2,COUNT($H$9:$H$33)>2),CORREL(B$9:B$33,$H$9:$H$33),\"\")","v":""},{"$f":"IF(AND(COUNT(C$9:C$33)>2,COUNT($H$9:$H$33)>2),CORREL(C$9:C$33,$H$9:$H$33),\"\")","v":""},"","","","",""]
[8,null,null,null,null,null,null,null,null,null,null,null,{"$f":"I8","v":"משתנה8"},{"$f":"IF(AND(COUNT(B$9:B$33)>2,COUNT($I$9:$I$33)>2),CORREL(B$9:B$33,$I$9:$I$33),\"\")","v":""},{"$f":"IF(AND(COUNT(C$9:C$33)>2,COUNT($I$9:$I$33)>2),CORREL(C$9:C$33,$I$9:$I$33),\"\")","v":""},"","","","","",""]
[9,null,null,null,null,null,null,null,null,null,null,null,{"$f":"J8","v":"משתנה9"},{"$f":"IF(AND(COUNT(B$9:B$33)>2,COUNT($J$9:$J$33)>2),CORREL(B$9:B$33,$J$9:$J$33),\"\")","v":""},{"$f":"IF(AND(COUNT(C$9:C$33)>2,COUNT($J$9:$J$33)>2),CORREL(C$9:C$33,$J$9:$J$33),\"\")","v":""},"","","","","","",""]
[10]
[11,null,null,null,null,null,null,null,null,null,null,null,null,null,"סטטיסטיקה תיאורית "]
[12]
[13,null,null,null,null,null,null,null,null,null,null,null,null,{"$f":"B8","v":"משתנה1"},{"$f":"C8","v":"משתנה2"},"משתנה3","משתנה4","משתנה5","משתנה6","משתנה7","משתנה8","משתנה9"]
[14,null,null,null,null,null,null,null,null,null,null,null,"ממוצע",{"$f":"IF(COUNT(B9:B33)>2,AVERAGE(B9:B98),\"\")","v":""},{"$f":"IF(COUNT(C9:C33)>2,AVERAGE(C9:C98),\"\")","v":""},"","","","","","",""]
[15,null,null,null,null,null,null,null,null,null,null,null,"חציון",{"$f":"IF(COUNT(B9:B33)>2,MEDIAN(B9:B98),\"\")","v":""},{"$f":"IF(COUNT(C9:C33)>2,MEDIAN(C9:C98),\"\")","v":""},"","","","","","",""]
[16,null,null,null,null,null,null,null,null,null,null,null,"סטיית תקן",{"$f":"IF(COUNT(B9:B33)>2,STDEV(B9:B98),\"\")","v":""},"","","","","","","",""]
[17,null,null,null,null,null,null,null,null,null,null,null,"מינימום",{"$f":"IF(COUNT(B9:B33)>2,MIN(B9:B98),\"\")","v":""},{"$f":"IF(COUNT(C9:C33)>2,MIN(C9:C98),\"\")","v":""},"","","","","","",""]
[18,null,null,null,null,null,null,null,null,null,null,null,"מקסימום",{"$f":"IF(COUNT(B9:B33)>2,MAX(B9:B98),\"\")","v":""},{"$f":"IF(COUNT(C9:C33)>2,MAX(C9:C98),\"\")","v":""},"","","","","","",""]
[19,null,null,null,null,null,null,null,null,null,null,null,"n",{"$f":"IF(COUNT(B9:B33)>2,COUNT(B9:B98),\"\")","v":""},{"$f":"IF(COUNT(C9:C33)>2,COUNT(C9:C98),\"\")","v":""},"","","","","","",""]
[20]
[21]
[22]
[23]
[24]
[25]
[26]
[27]
[28]
[29]
[30]
[31]
[32]
[33]
[34]
[35]
[36]
[37]
[38]
[39]
[40]
[41]
[42]
[43]
[44]
[45]
[46]
[47]
[48]
[49]
[50]
[51]
[52]
[53]
[54]
[55]
[56]
[57]
[58]
[59]
[60]
[61]
[62]
[63]
[64]
[65]
[66]
[67]
[68]
[69]
[70]
[71]
[72]
[73]
[74]
[75]
[76]
[77]
[78]
[79]
[80]
[81]
[82]
[83]
[84]
[85]
[86]
[87]
[88]
[89]
[90]

{"sheet":"corr ספירמן ","index":34,"n_rows":205,"n_cols":15,"rows_kept":205,"cut":false,"hidden":false,"merged":[[4,10,4,11],[5,5,5,6]]}
["מקדם המתאם ע\"ש ספירמן"]
["מיועד לחישוב מקדם מתאם בין  משתנים בסולם סידורי/אורדינלי "]
[]
["הוראות : "]
["הכנס ערכים עבור המשתנים ",null,null,null,null,null,null,null,null,null,"סטטיסיקה תאורית"]
[null,null,null,null,null,"מדורג",null,null,null,null,"משתנה בלתי תלוי","משתנה תלוי"]
[null,"הכנס      שם משתנה הבלתי תלוי","הכנס שם משתנה תלוי",null,null,{"$f":"B7","v":"הכנס      שם משתנה הבלתי תלוי"},{"$f":"C7","v":"הכנס שם משתנה תלוי"},null,null,null,{"$f":"F7","v":"הכנס      שם משתנה הבלתי תלוי"},{"$f":"G7","v":"הכנס שם משתנה תלוי"}]
[1,null,null,null,1,{"$f":"IF((B8)>0,_xlfn.RANK.AVG(B8,B$8:B$91,1),\"\")","v":""},{"$f":"IF((C8)>0,_xlfn.RANK.AVG(C8,C$8:C$91,1),\"\")","v":""},null,null,"ממוצע",{"$f":"IF(COUNT(B8:B91)>2,AVERAGE(B8:B91),\"\")","v":""},{"$f":"IF(COUNT(C8:C91)>2,AVERAGE(C8:C91),\"\")","v":""}]
[2,null,null,null,2,"","",null,null,"סטיית תקן",{"$f":"IF(COUNT(B8:B91)>2,STDEV(B8:B91),\"\")","v":""},{"$f":"IF(COUNT(C8:C91)>2,STDEV(C8:C91),\"\")","v":""},null,"משמעות של קשר בין משתנים "]
[3,null,null,null,3,"","",null,null,"מספר נבדקים",{"$f":"IF(COUNT(B8:B91)>2,COUNT(B8:B91),\"\")","v":""},{"$f":"IF(COUNT(C8:C91)>2,COUNT(C8:C91),\"\")","v":""},null,"קשר חיובי ","עלייה במשתנה אחד גוררת גם עלייה במשתנה שני - למי שיש ערך גובה במשתנה אחד יש גם ערך גובה במשתנה השני"]
[4,null,null,null,4,"","",null,null,null,null,null,null,"קשר חיובי ","עלייה במשתנה אחד גוררת גם ירידה  במשתנה שני - למי שיש ערך גובה במשתנה אחד יש  ערך נמוך  במשתנה השני"]
[5,null,null,null,5,"","",null,null,null,{"$f":"IF(COUNT(F8:F91),CORREL(F8:F91,G8:G91),\"\")","v":""},"r ="]
[6,null,null,null,6,"",""]
[7,null,null,null,7,"",""]
[8,null,null,null,8,{"$f":"IF((B15)>0,_xlfn.RANK.AVG(B15,B$8:B$91,1),\"\")","v":""},"",null,null,{"$f":"IF(COUNT(F8:F91)>2,\"משמעות סטטיסטית: נמצא  \",\"\")","v":""},{"$f":"IF(COUNT(F8:F91)>2,IF(K12<0,\"קשר שלילי \",\"קשר חיובי\"),\"\")","v":""},{"$f":"IF(COUNT(F8:F91)>2,IF(ABS(K12)>2,\" חלש מאוד \",IF(ABS(K12)<0.4,\" בינוני - חלש  \",IF(ABS(K12)<0.6,\"קשר בינוני\",  IF(ABS(K12)<0.8,\"בינוני חזק\",\" חזק\")))),\"\")","v":""},{"$f":"IF(COUNT(F8:F91)>2,\"בין המשתנים \",\"\")","v":""}]
[9,null,null,null,9,{"$f":"IF((B16)>0,_xlfn.RANK.AVG(B16,B$8:B$91,1),\"\")","v":""},""]
[10,null,null,null,10,"",""," = r2",{"$f":"IF(COUNT(F8:F91)>2,\"אחוז  השונות  המסוברת:\",\"\")","v":""},null,{"$f":"IF(COUNT(F8:F91)>2,K12^2,\"\")","v":""},{"$f":"IF(COUNT(F8:F91)>2,\"מההבדלים במשתנה התלוי ניתנים להסבר באמצעות ההבדלים במשתנה הבלתי תלוי \",\"\")","v":""}]
[11,null,null,null,11,"","",null,null,null,{"$f":"IF(COUNT(F8:F91)>2,1-K17,\"\")","v":""},{"$f":"IF(COUNT(F8:F91)>2,\"מההבדלים מוסברים באמצעות גורמים אחרים \",\"\")","v":""}]
[12,null,null,null,12,"",""]
[13,null,null,null,13,"",""]
[14,null,null,null,14,"",""]
[15,null,null,null,15,"",""]
[16,null,null,null,16,"",""]
[17,null,null,null,17,"",""]
[18,null,null,null,18,"",""]
[19,null,null,null,19,"",""]
[20,null,null,null,20,"",""]
[21,null,null,null,21,"",""]
[22,null,null,null,22,"",""]
[23,null,null,null,23,"",""]
[24,null,null,null,24,"",""]
[25,null,null,null,25,"",""]
[26,null,null,null,26,"",""]
[27,null,null,null,27,"",""]
[28,null,null,null,28,"","",null,"כדי לקבל גרף משמעותי סדר את הערכים בצירים שיתאימו לערכים של המשתנים שנמדדו "]
[29,null,null,null,29,"",""]
[30,null,null,null,30,"",""]
[31,null,null,null,31,"",""]
[32,null,null,null,32,"",""]
[33,null,null,null,33,"",""]
[34,null,null,null,34,"",""]
[35,null,null,null,35,"",""]
[36,null,null,null,36,"",""]
[37,null,null,null,37,"",""]
[38,null,null,null,38,"",""]
[39,null,null,null,39,"",""]
[40,null,null,null,40,"",""]
[41,null,null,null,41,"",""]
[42,null,null,null,42,"",""]
[43,null,null,null,43,"",""]
[44,null,null,null,44,"",""]
[45,null,null,null,45,"",""]
[46,null,null,null,46,"",""]
[47,null,null,null,47,"",""]
[48,null,null,null,48,"",""]
[49,null,null,null,49,"",""]
[50,null,null,null,50,"",""]
[51,null,null,null,51,"",""]
[52,null,null,null,52,"",""]
[53,null,null,null,53,"",""]
[54,null,null,null,54,"",""]
[55,null,null,null,55,"",""]
[56,null,null,null,56,"",""]
[57,null,null,null,57,"",""]
[58,null,null,null,58,"",""]
[59,null,null,null,59,"",""]
[60,null,null,null,60,"",""]
[61,null,null,null,61,"",""]
[62,null,null,null,62,"",""]
[63,null,null,null,63,"",""]
[64,null,null,null,64,"",""]
[65,null,null,null,65,"",""]
[66,null,null,null,66,"",""]
[67,null,null,null,67,"",""]
[68,null,null,null,68,"",""]
[69,null,null,null,69,"",""]
[70,null,null,null,70,"",""]
[71,null,null,null,71,"",""]
[72,null,null,null,72,"",""]
[73,null,null,null,73,{"$f":"IF((B80)>0,_xlfn.RANK.AVG(B80,B$8:B$91,1),\"\")","v":""},""]
[74,null,null,null,74,"",""]
[75,null,null,null,75,"",""]
[76,null,null,null,76,"",""]
[77,null,null,null,77,"",""]
[78,null,null,null,78,"",""]
[79,null,null,null,79,"",""]
[80,null,null,null,80,"",""]
[81,null,null,null,81,"",""]
[82,null,null,null,82,"",""]
[83,null,null,null,83,"",""]
[84,null,null,null,84,"",""]
[85,null,null,null,85,"",""]
[86,null,null,null,86,"",""]
[87,null,null,null,87,"",""]
[88,null,null,null,88,"",""]
[89,null,null,null,89,""]
[90,null,null,null,90,""]
[91,null,null,null,91,""]
[92,null,null,null,92,""]
[93,null,null,null,93,""]
[94,null,null,null,94,""]
[95,null,null,null,95,""]
[96,null,null,null,96,""]
[97,null,null,null,97,""]
[98,null,null,null,98,""]
[99,null,null,null,99,""]
[100,null,null,null,100,""]
[101,null,null,null,101,""]
[102,null,null,null,102,""]
[103,null,null,null,103,""]
[104,null,null,null,104,""]
[105,null,null,null,105,""]
[106,null,null,null,106,""]
[107,null,null,null,107,""]
[108,null,null,null,108,""]
[109,null,null,null,109,""]
[110,null,null,null,110,""]
[111,null,null,null,111,""]
[112,null,null,null,112]
[113,null,null,null,113]
[114,null,null,null,114]
[115,null,null,null,115]
[116,null,null,null,116]
[117,null,null,null,117]
[118,null,null,null,118]
[119,null,null,null,119]
[120,null,null,null,120]
[121,null,null,null,121]
[122,null,null,null,122]
[123,null,null,null,123]
[124,null,null,null,124]
[125,null,null,null,125]
[126,null,null,null,126]
[127,null,null,null,127]
[128,null,null,null,128]
[129,null,null,null,129]
[130,null,null,null,130]
[131,null,null,null,131]
[null,null,null,null,132]
[null,null,null,null,133]
[null,null,null,null,134]
[null,null,null,null,135]
[null,null,null,null,136]
[null,null,null,null,137]
[null,null,null,null,138]
[null,null,null,null,139]
[null,null,null,null,140]
[null,null,null,null,141]
[null,null,null,null,142]
[null,null,null,null,143]
[null,null,null,null,144]
[null,null,null,null,145]
[null,null,null,null,146]
[null,null,null,null,147]
[null,null,null,null,148]
[null,null,null,null,149]
[null,null,null,null,150]
[null,null,null,null,151]
[null,null,null,null,152]
[null,null,null,null,153]
[null,null,null,null,154]
[null,null,null,null,155]
[null,null,null,null,156]
[null,null,null,null,157]
[null,null,null,null,158]
[null,null,null,null,159]
[null,null,null,null,160]
[null,null,null,null,161]
[null,null,null,null,162]
[null,null,null,null,163]
[null,null,null,null,164]
[null,null,null,null,165]
[null,null,null,null,166]
[null,null,null,null,167]
[null,null,null,null,168]
[null,null,null,null,169]
[null,null,null,null,170]
[null,null,null,null,171]
[null,null,null,null,172]
[null,null,null,null,173]
[null,null,null,null,174]
[null,null,null,null,175]
[null,null,null,null,176]
[null,null,null,null,177]
[null,null,null,null,178]
[null,null,null,null,179]
[null,null,null,null,180]
[null,null,null,null,181]
[null,null,null,null,182]
[null,null,null,null,183]
[null,null,null,null,184]
[null,null,null,null,185]
[null,null,null,null,186]
[null,null,null,null,187]
[null,null,null,null,188]
[null,null,null,null,189]
[null,null,null,null,190]
[null,null,null,null,191]
[null,null,null,null,192]
[null,null,null,null,193]
[null,null,null,null,194]
[null,null,null,null,195]
[null,null,null,null,196,{"$f":"IF(COUNT(B203:B286)>2,_xlfn.RANK.AVG(B203,B$8:B$91,1),\"\")","v":""}]
[null,null,null,null,197,""]
[null,null,null,null,198]

{"sheet":"corr ספירמן  (1)","index":35,"n_rows":205,"n_cols":15,"rows_kept":205,"cut":false,"hidden":false,"merged":[[4,10,4,11],[5,5,5,6]]}
["מקדם המתאם ע\"ש ספירמן"]
["מיועד לחישוב מקדם מתאם בין  משתנים בסולם סידורי/אורדינלי "]
[]
["הוראות : "]
["הכנס ערכים עבור המשתנים ",null,null,null,null,null,null,null,null,null,"סטטיסיקה תאורית"]
[null,null,null,null,null,"מדורג",null,null,null,null,"משתנה בלתי תלוי","משתנה תלוי"]
[null,"הכנס      שם משתנה הבלתי תלוי","הכנס שם משתנה תלוי",null,null,"הכנס      שם משתנה הבלתי תלוי","הכנס שם משתנה תלוי",null,null,null,{"$f":"F7","v":"הכנס      שם משתנה הבלתי תלוי"},{"$f":"G7","v":"הכנס שם משתנה תלוי"}]
[1,null,null,null,1,{"$f":"IF((B8)>0,_xlfn.RANK.AVG(B8,B$8:B$91,1),\"\")","v":""},{"$f":"IF((C8)>0,_xlfn.RANK.AVG(C8,C$8:C$91,1),\"\")","v":""},null,null,"ממוצע",{"$f":"IF(COUNT(B8:B91)>2,AVERAGE(B8:B91),\"\")","v":""},{"$f":"IF(COUNT(C8:C91)>2,AVERAGE(C8:C91),\"\")","v":""}]
[2,null,null,null,2,"","",null,null,"סטיית תקן",{"$f":"IF(COUNT(B8:B91)>2,_xlfn.STDEV.S(B8:B91),\"\")","v":""},{"$f":"IF(COUNT(C8:C91)>2,_xlfn.STDEV.S(C8:C91),\"\")","v":""},null,"משמעות של קשר בין משתנים "]
[3,null,null,null,3,"","",null,null,"מספר נבדקים",{"$f":"IF(COUNT(B8:B91)>2,COUNT(B8:B91),\"\")","v":""},{"$f":"IF(COUNT(C8:C91)>2,COUNT(C8:C91),\"\")","v":""},null,"קשר חיובי ","עלייה במשתנה אחד גוררת גם עלייה במשתנה שני - למי שיש ערך גובה במשתנה אחד יש גם ערך גובה במשתנה השני"]
[4,null,null,null,4,"","",null,null,null,null,null,null,"קשר חיובי ","עלייה במשתנה אחד גוררת גם ירידה  במשתנה שני - למי שיש ערך גובה במשתנה אחד יש  ערך נמוך  במשתנה השני"]
[5,null,null,null,5,"","",null,null,null,{"$f":"IF(COUNT(F8:F91),CORREL(F8:F91,G8:G91),\"\")","v":""},"r ="]
[6,null,null,null,6,"",""]
[7,null,null,null,7,"",""]
[8,null,null,null,8,{"$f":"IF((B15)>0,_xlfn.RANK.AVG(B15,B$8:B$91,1),\"\")","v":""},"",null,null,{"$f":"IF(COUNT(F8:F91)>2,\"משמעות סטטיסטית: נמצא  \",\"\")","v":""},{"$f":"IF(COUNT(F8:F91)>2,IF(K12<0,\"קשר שלילי \",\"קשר חיובי\"),\"\")","v":""},{"$f":"IF(COUNT(F8:F91)>2,IF(ABS(K12)>2,\" חלש מאוד \",IF(ABS(K12)<0.4,\" בינוני - חלש  \",IF(ABS(K12)<0.6,\"קשר בינוני\",  IF(ABS(K12)<0.8,\"בינוני חזק\",\" חזק\")))),\"\")","v":""},{"$f":"IF(COUNT(F8:F91)>2,\"בין המשתנים \",\"\")","v":""}]
[9,null,null,null,9,{"$f":"IF((B16)>0,_xlfn.RANK.AVG(B16,B$8:B$91,1),\"\")","v":""},""]
[10,null,null,null,10,"",""," = r2",{"$f":"IF(COUNT(F8:F91)>2,\"אחוז  השונות  המסוברת:\",\"\")","v":""},null,{"$f":"IF(COUNT(F8:F91)>2,K12^2,\"\")","v":""},{"$f":"IF(COUNT(F8:F91)>2,\"מההבדלים במשתנה התלוי ניתנים להסבר באמצעות ההבדלים במשתנה הבלתי תלוי \",\"\")","v":""}]
[11,null,null,null,11,"","",null,null,null,{"$f":"IF(COUNT(F8:F91)>2,1-K17,\"\")","v":""},{"$f":"IF(COUNT(F8:F91)>2,\"מההבדלים מוסברים באמצעות גורמים אחרים \",\"\")","v":""}]
[12,null,null,null,12,"",""]
[13,null,null,null,13,"",""]
[14,null,null,null,14,"",""]
[15,null,null,null,15,"",""]
[16,null,null,null,16,"",""]
[17,null,null,null,17,"",""]
[18,null,null,null,18,"",""]
[19,null,null,null,19,"",""]
[20,null,null,null,20,"",""]
[21,null,null,null,21,"",""]
[22,null,null,null,22,"",""]
[23,null,null,null,23,"",""]
[24,null,null,null,24,"",""]
[25,null,null,null,25,"",""]
[26,null,null,null,26,"",""]
[27,null,null,null,27,"",""]
[28,null,null,null,28,"","",null,"כדי לקבל גרף משמעותי סדר את הערכים בצירים שיתאימו לערכים של המשתנים שנמדדו "]
[29,null,null,null,29,"",""]
[30,null,null,null,30,"",""]
[31,null,null,null,31,"",""]
[32,null,null,null,32,"",""]
[33,null,null,null,33,"",""]
[34,null,null,null,34,"",""]
[35,null,null,null,35,"",""]
[36,null,null,null,36,"",""]
[37,null,null,null,37,"",""]
[38,null,null,null,38,"",""]
[39,null,null,null,39,"",""]
[40,null,null,null,40,"",""]
[41,null,null,null,41,"",""]
[42,null,null,null,42,"",""]
[43,null,null,null,43,"",""]
[44,null,null,null,44,"",""]
[45,null,null,null,45,"",""]
[46,null,null,null,46,"",""]
[47,null,null,null,47,"",""]
[48,null,null,null,48,"",""]
[49,null,null,null,49,"",""]
[50,null,null,null,50,"",""]
[51,null,null,null,51,"",""]
[52,null,null,null,52,"",""]
[53,null,null,null,53,"",""]
[54,null,null,null,54,"",""]
[55,null,null,null,55,"",""]
[56,null,null,null,56,"",""]
[57,null,null,null,57,"",""]
[58,null,null,null,58,"",""]
[59,null,null,null,59,"",""]
[60,null,null,null,60,"",""]
[61,null,null,null,61,"",""]
[62,null,null,null,62,"",""]
[63,null,null,null,63,"",""]
[64,null,null,null,64,"",""]
[65,null,null,null,65,"",""]
[66,null,null,null,66,"",""]
[67,null,null,null,67,"",""]
[68,null,null,null,68,"",""]
[69,null,null,null,69,"",""]
[70,null,null,null,70,"",""]
[71,null,null,null,71,"",""]
[72,null,null,null,72,"",""]
[73,null,null,null,73,{"$f":"IF((B80)>0,_xlfn.RANK.AVG(B80,B$8:B$91,1),\"\")","v":""},""]
[74,null,null,null,74,"",""]
[75,null,null,null,75,"",""]
[76,null,null,null,76,"",""]
[77,null,null,null,77,"",""]
[78,null,null,null,78,"",""]
[79,null,null,null,79,"",""]
[80,null,null,null,80,"",""]
[81,null,null,null,81,"",""]
[82,null,null,null,82,"",""]
[83,null,null,null,83,"",""]
[84,null,null,null,84,"",""]
[85,null,null,null,85,"",""]
[86,null,null,null,86,"",""]
[87,null,null,null,87,"",""]
[88,null,null,null,88,"",""]
[89,null,null,null,89,""]
[90,null,null,null,90,""]
[91,null,null,null,91,""]
[92,null,null,null,92,""]
[93,null,null,null,93,""]
[94,null,null,null,94,""]
[95,null,null,null,95,""]
[96,null,null,null,96,""]
[97,null,null,null,97,""]
[98,null,null,null,98,""]
[99,null,null,null,99,""]
[100,null,null,null,100,""]
[101,null,null,null,101,""]
[102,null,null,null,102,""]
[103,null,null,null,103,""]
[104,null,null,null,104,""]
[105,null,null,null,105,""]
[106,null,null,null,106,""]
[107,null,null,null,107,""]
[108,null,null,null,108,""]
[109,null,null,null,109,""]
[110,null,null,null,110,""]
[111,null,null,null,111,""]
[112,null,null,null,112]
[113,null,null,null,113]
[114,null,null,null,114]
[115,null,null,null,115]
[116,null,null,null,116]
[117,null,null,null,117]
[118,null,null,null,118]
[119,null,null,null,119]
[120,null,null,null,120]
[121,null,null,null,121]
[122,null,null,null,122]
[123,null,null,null,123]
[124,null,null,null,124]
[125,null,null,null,125]
[126,null,null,null,126]
[127,null,null,null,127]
[128,null,null,null,128]
[129,null,null,null,129]
[130,null,null,null,130]
[131,null,null,null,131]
[null,null,null,null,132]
[null,null,null,null,133]
[null,null,null,null,134]
[null,null,null,null,135]
[null,null,null,null,136]
[null,null,null,null,137]
[null,null,null,null,138]
[null,null,null,null,139]
[null,null,null,null,140]
[null,null,null,null,141]
[null,null,null,null,142]
[null,null,null,null,143]
[null,null,null,null,144]
[null,null,null,null,145]
[null,null,null,null,146]
[null,null,null,null,147]
[null,null,null,null,148]
[null,null,null,null,149]
[null,null,null,null,150]
[null,null,null,null,151]
[null,null,null,null,152]
[null,null,null,null,153]
[null,null,null,null,154]
[null,null,null,null,155]
[null,null,null,null,156]
[null,null,null,null,157]
[null,null,null,null,158]
[null,null,null,null,159]
[null,null,null,null,160]
[null,null,null,null,161]
[null,null,null,null,162]
[null,null,null,null,163]
[null,null,null,null,164]
[null,null,null,null,165]
[null,null,null,null,166]
[null,null,null,null,167]
[null,null,null,null,168]
[null,null,null,null,169]
[null,null,null,null,170]
[null,null,null,null,171]
[null,null,null,null,172]
[null,null,null,null,173]
[null,null,null,null,174]
[null,null,null,null,175]
[null,null,null,null,176]
[null,null,null,null,177]
[null,null,null,null,178]
[null,null,null,null,179]
[null,null,null,null,180]
[null,null,null,null,181]
[null,null,null,null,182]
[null,null,null,null,183]
[null,null,null,null,184]
[null,null,null,null,185]
[null,null,null,null,186]
[null,null,null,null,187]
[null,null,null,null,188]
[null,null,null,null,189]
[null,null,null,null,190]
[null,null,null,null,191]
[null,null,null,null,192]
[null,null,null,null,193]
[null,null,null,null,194]
[null,null,null,null,195]
[null,null,null,null,196,{"$f":"IF(COUNT(B203:B286)>2,_xlfn.RANK.AVG(B203,B$8:B$91,1),\"\")","v":""}]
[null,null,null,null,197,""]
[null,null,null,null,198]

{"sheet":"Z אוכלוסייה ומדגם  ","index":36,"n_rows":78,"n_cols":13,"rows_kept":78,"cut":false,"hidden":false,"merged":[[16,4,16,6],[23,3,24,3],[23,4,24,4],[23,8,24,8]]}
[" מבחן Z  - אוכלוסייה ומדגם "]
["מבחן המיועד לבדוק האם מדגם מסויים  "]
["שייך לאוכלוסייה שהממוצע וסטיית התקן שלה ידועים "]
["הוראות : "]
["1. הכנס  את הממוצע וסטיית התקן של האוכלוסייה בתאים B15 ו C15   "]
["2. במידה ונתונים לך ערכי המדגם הכנס את ממוצע המדגם בתא E15 ואת מספר הנבדקים במדגם בתא F15  "]
["3. במידה ועדיין לא חישבת הסטטיסטיקה התיאורית של המדגם הכנס את הערכים הגולמיים של המדגם בעמודה B החל משורה 18 והתוכנה תחשב זאת עבורך "]
["4. הסטטיסטיקה התיאורית וותוצאות המבחן הסטטיסטי יופיעו באופן אוטומטי בצד שמאל של המסך "]
["5. להכנסת נתונים חדשים ואיפוס הטבלאות לחץ על כפתור נקה לחזרה לתפריט הראשי לחץ על כפתור התפריט "]
[]
[]
[null,"הכנס נתוני  האוכלוסייה ",null,null,"הכנס נתוני המדגם "]
[null,"ממוצע","סטיית תקן",null,"ממוצע","גודל המדגם"]
[null,"m","s",null,null,"n"]
[]
[]
["מס הנבדק","ערכים ",null,null," נתוני המדגם "]
[1,null,null,null,"ממוצע","גודל המדגם","סטיית תקן "]
[2,null,null,null,null,"n","SD"]
[3,null,null,null,{"$f":"IF(COUNT(B18:B65)>2,AVERAGE(B18:B85),\"\")","v":""},{"$f":"IF(COUNT(B18:B65)>2,COUNT(B18:B85),\"\")","v":""},{"$f":"IF(COUNT(B18:B65)>2,STDEV(B18:B85),\"\")","v":""}]
[4]
[5]
[6]
[7,null,null,{"$f":"IF(COUNT(E15,E20)>0,(MAX(E15,E20)-B15)/(C15/SQRT(MAX(F15,F20))),\"\")","v":""},"=",{"$f":"IF(COUNT(B18:B36)>1,B15,\"\")","v":""},"-",{"$f":"IF(COUNT(E15,E20)>0,MAX(E15,E20),\"\")","v":""},"Z=","ערך סטטיסטי"]
[8,null,null,null,null,null,{"$f":"IF(COUNT(E15,E20)>0,MAX(F15,F20),\"\")","v":""},{"$f":"IF(COUNT(E15,E20)>0,C15,\"\")","v":""}]
[9]
[10,null,null,null,null,null,"גבול תחתון","גבול עליון"]
[11,null,null,"רווח בר סמך של המדגם (95%) ",null,null,{"$f":"IF(COUNT(B18:B31,B15:C15)>0, B15-1.96*(C15/SQRT(MAX(F20,F15))),\"\")","v":""},{"$f":"IF(COUNT(B18:B31,B15:C15)>0, B15+1.96*(C15/SQRT(MAX(F20,F15))),\"\")","v":""}]
[12]
[13,null,null,null,null,null,null,1.96,"ערך קריטי 0.05"]
[14,null,null,null,null,null,null,2.58,"ערך קריטי 0.01"]
[15,null,null,null,null,null,null,{"$f":"IF(COUNT(E15,E20)>0,_xlfn.NORM.S.DIST(ABS(D24),FALSE),\"\")","v":""},"(a')  R=","( Sig ) רמת מובהקות   "]
[16]
[17,null,null,null,null,"משמעות ",null,null,null,null,null,{"$f":"IF(COUNT(E15,E20)>0,IF(H32>0.05,\"אין די ראיות לקבוע שממוצע המדגם שונה ממוצע האוכלוסייה ברמת מובהקות של 0.05\",\"יש די ראיות לקבוע שממוצע המדגם שונה ממוצע האוכלוסייה ברמת מובהקות של  \"),\"\")","v":""},{"$f":"IF(COUNT(E15,E20)>0,IF(H32<0.05,H32,\"\"),\"\")","v":""}]
[18]
[19]
[20,null,null,"אוכלוסייה","מדגם"]
[21,null,null,{"$f":"IF(B15>0,B15,\"\")","v":""},{"$f":"IF(COUNT(E15,E20)>0,(MAX(E15,E20)),\"\")","v":""}]
[22]
[23]
[24]
[25]
[26]
[27]
[28]
[29]
[30]
[31]
[32]
[33]
[34]
[35]
[36]
[37]
[38]
[39]
[40]
[41]
[42]
[43]
[44]
[45]
[46]
[47]
[48]
[49]
[50]
[51]
[52]
[53]
[54]
[55]
[56]
[57]
[58]
[59]
[60]
[61]

{"sheet":"Z אוכלוסייה ומדגם  (1)","index":37,"n_rows":78,"n_cols":14,"rows_kept":78,"cut":false,"hidden":false,"merged":[[16,4,16,6],[23,3,24,3],[23,4,24,4],[23,8,24,8]]}
[" מבחן Z  - אוכלוסייה ומדגם "]
["מבחן המיועד לבדוק האם מדגם מסויים  "]
["שייך לאוכלוסייה שהממוצע וסטיית התקן שלה ידועים "]
["הוראות : "]
["1. הכנס  את הממוצע וסטיית התקן של האוכלוסייה בתאים B15 ו C15   "]
["2. במידה ונתונים לך ערכי המדגם הכנס את ממוצע המדגם בתא E15 ואת מספר הנבדקים במדגם בתא F15  "]
["3. במידה ועדיין לא חישבת הסטטיסטיקה התיאורית של המדגם הכנס את הערכים הגולמיים של המדגם בעמודה B החל משורה 18 והתוכנה תחשב זאת עבורך "]
["4. הסטטיסטיקה התיאורית וותוצאות המבחן הסטטיסטי יופיעו באופן אוטומטי בצד שמאל של המסך "]
["5. להכנסת נתונים חדשים ואיפוס הטבלאות לחץ על כפתור נקה לחזרה לתפריט הראשי לחץ על כפתור התפריט "]
[]
[]
[null,"הכנס נתוני  האוכלוסייה ",null,null,"הכנס נתוני המדגם "]
[null,"ממוצע","סטיית תקן",null,"ממוצע","גודל המדגם"]
[null,"m","s",null,null,"n"]
[]
[]
["מס הנבדק","ערכים ",null,null," נתוני המדגם "]
[1,null,null,null,"ממוצע","גודל המדגם","סטיית תקן "]
[2,null,null,null,null,"n","SD"]
[3,null,null,null,{"$f":"IF(COUNT(B18:B65)>2,AVERAGE(B18:B85),\"\")","v":""},{"$f":"IF(COUNT(B18:B65)>2,COUNT(B18:B85),\"\")","v":""},{"$f":"IF(COUNT(B18:B65)>2,STDEV(B18:B85),\"\")","v":""}]
[4]
[5]
[6]
[7,null,null,{"$f":"IF(COUNT(E15,E20)>0,(MAX(E15,E20)-B15)/(C15/SQRT(MAX(F15,F20))),\"\")","v":""},"=",{"$f":"IF(COUNT(E15,B15)>1,B15,\"\")","v":""},"-",{"$f":"IF(COUNT(E15,E20)>0,MAX(E15,E20),\"\")","v":""},"Z=","ערך סטטיסטי"]
[8,null,null,null,null,null,{"$f":"IF(COUNT(E15,E20)>0,MAX(F15,F20),\"\")","v":""},{"$f":"IF(COUNT(E15,E20)>0,C15,\"\")","v":""}]
[9]
[10]
[11]
[12,null,null,null,null,null,null,1.96,"ערך קריטי 0.05"]
[13,null,null,null,null,null,null,2.58,"ערך קריטי 0.01"]
[14,null,null,null,null,null,null,{"$f":"IF(COUNT(E15,E20)>0,_xlfn.NORM.S.DIST(ABS(D24),FALSE)*2,\"\")","v":""},"(a')  R=","( Sig ) רמת מובהקות   "]
[15]
[16,null,null,null,null,"משמעות ",null,null,null,null,null,null,{"$f":"IF(COUNT(E15,E20)>0,IF(H31>0.05,\"אין די ראיות לקבוע שממוצע המדגם שונה ממוצע האוכלוסייה ברמת מובהקות של 0.05\",\"יש די ראיות לקבוע שממוצע המדגם שונה ממוצע האוכלוסייה ברמת מובהקות של  \"),\"\")","v":""},{"$f":"IF(COUNT(E15,E20)>0,IF(H31<0.05,H31,\"\"),\"\")","v":""}]
[17,null,null,null,null,null,null,{"$f":"IF(COUNT(E15,E20)>0,IF(H31<0.05,\"כדי לקבוע לטובת מי יש לבדוק את הממוצעים \",\"\"),\"\")","v":""}]
[18]
[19]
[20,null,null,"אוכלוסייה","מדגם"]
[21,null,null,{"$f":"IF(B15>0,B15,\"\")","v":""},{"$f":"IF(COUNT(E15,E20)>0,(MAX(E15,E20)),\"\")","v":""}]
[22]
[23]
[24]
[25]
[26]
[27]
[28]
[29]
[30]
[31]
[32]
[33]
[34]
[35]
[36]
[37]
[38]
[39]
[40]
[41]
[42]
[43]
[44]
[45]
[46]
[47]
[48]
[49]
[50]
[51]
[52]
[53]
[54]
[55]
[56]
[57]
[58]
[59]
[60]
[61]

{"sheet":"t אוכלוסייה ומדגם ","index":38,"n_rows":80,"n_cols":13,"rows_kept":80,"cut":false,"hidden":false,"merged":[[23,3,24,3],[23,4,24,4],[23,8,24,8]]}
[" מבחן  t אוכלוסייה ומדגם "]
["מבחן המיועד לבדוק האם מדגם מסויים  שייך לאוכלוסייה שהממוצע שלה ידוע  "]
["ואומדים את סטיית התקן באמצעות סטיית התקן של המדגם "]
[]
["הוראות : "]
["1. הכנס  את הממוצע של האוכלוסייה בתא B15    "]
["2. במידה ונתונים לך ערכי המדגם הכנס את ממוצע המדגם בתא E15 ואת מספר הנבדקים במדגם בתא F15  וסטיית התקן של המדגם ב G15"]
["3. במידה ועדיין לא חישבת הסטטיסטיקה התיאורית של המדגם הכנס את הערכים הגולמיים של המדגם בעמודה B החל משורה 18 והתוכנה תחשב זאת עבורך "]
["4. הסטטיסטיקה התיאורית וותוצאות המבחן הסטטיסטי יופיעו באופן אוטומטי בצד שמאל של המסך "]
["5. להכנסת נתונים חדשים ואיפוס הטבלאות לחץ על כפתור נקה לחזרה לתפריט הראשי לחץ על כפתור התפריט "]
[]
[null,"הכנס נתוני  האוכלוסייה ",null,null,"הכנס נתוני המדגם "]
[null,"ממוצע",null,null,"ממוצע","גודל המדגם","סטיית תקן"]
[null,"m",null,null,null,"n","SD"]
[]
[]
["מס הנבדק","ערכים ",null,null," נתוני המדגם "]
[1,null,null,null,"ממוצע","גודל המדגם","סטיית תקן"]
[2,null,null,null,null,"n","SD"]
[3,null,null,null,{"$f":"IF(COUNT(B18:B65)>2,AVERAGE(B18:B80),\"\")","v":""},{"$f":"IF(COUNT(B18:B65)>2,COUNT(B18:B80),\"\")","v":""},{"$f":"IF(COUNT(B18:B65)>2,STDEV(B18:B80),\"\")","v":""}]
[4]
[5]
[6]
[7,null,null,{"$f":"IF(COUNT(E15,E20)>0,(MAX(E15,E20)-B15)/(MAX(G15,G20)/SQRT(MAX(F15,F20))),\"\")","v":""},"=",{"$f":"IF(COUNT(E15,B15)>0,B15,\"\")","v":""},"-",{"$f":"IF(COUNT(E15,E20)>0,MAX(E15,E20),\"\")","v":""},"t =","ערך סטטיסטי"]
[8,null,null,null,null,null,{"$f":"IF(COUNT(E15,E20)>0,MAX(F15,F20),\"\")","v":""},{"$f":"IF(COUNT(E15,E20)>0,MAX(G15,G20),\"\")","v":""}]
[9]
[10,null,null,null,null,null,null,"גבול תחתון","גבול עליון"]
[11,null,null,null,"רווח בר סמך של המדגם (95%) ",null,null,{"$f":"IF(COUNT(B18:B31)>0, MAX(E15,E20)-H32*(MAX(G15,G20)/SQRT(MAX(F15,F20))),\"\")","v":""},{"$f":"IF(COUNT(B18:B31)>0, MAX(E15,E20)+H32*(MAX(G15,G20)/SQRT(MAX(F15,F20))),\"\")","v":""}]
[12]
[13]
[14,null,null,null,null,null,null,{"$f":"IF(COUNT(E15,E20)>0,MAX(F15,F20)-1,\"\")","v":""},"df    דרגות חופש "]
[15,null,null,null,null,null,null,{"$f":"IF(COUNT(E15,E20)>0,_xlfn.T.INV.2T(0.05,H31),\"\")","v":""},"ערך קריטי 0.05"]
[16,null,null,null,null,null,null,{"$f":"IF(COUNT(E15,E20)>0,_xlfn.T.INV.2T(0.01,H31),\"\")","v":""},"ערך קריטי 0.01"]
[17,null,null,null,null,null,null,{"$f":"IF(COUNT(E15,E20)>0,_xlfn.T.DIST.2T(ABS(D24),H31),\"\")","v":""},"(a')  R=","( Sig ) רמת מובהקות   "]
[18,null,null,"אוכלוסייה","מדגם "]
[19,null,null,{"$f":"IF(B15>0,B15,\"\")","v":""},{"$f":"IF(COUNT(E15,E20)>0,(MAX(E15,E20)),\"\")","v":""}]
[20,null,null,null,null,"משמעות ",null,null,null,null,null,{"$f":"IF(COUNT(E15,E20)>0,IF(H34>0.05,\"אין די ראיות לקבוע שממוצע המדגם שונה ממוצע האוכלוסייה ברמת מובהקות של 0.05\",\"יש די ראיות לקבוע שממוצע המדגם שונה ממוצע האוכלוסייה ברמת מובהקות של  \"),\"\")","v":""},{"$f":"IF(COUNT(E15,E20)>0,IF(H34<0.05,H34,\"\"),\"\")","v":""}]
[21]
[22,null,null,null,null,null,null,{"$f":"IF(COUNT(E15,E20)>0,IF(H34<0.05,\"כדי לקבוע לטובת מי יש לבדוק את הממוצעים \",\"\"),\"\")","v":""}]
[23]
[24]
[25]
[26]
[27]
[28]
[29]
[30]
[31]
[32]
[33]
[34]
[35]
[36]
[37]
[38]
[39]
[40]
[41]
[42]
[43]
[44]
[45]
[46]
[47]
[48]
[49]
[50]
[51]
[52]
[53]
[54]
[55]
[56]
[57]
[58]
[59]
[60]
[61]
[62]
[63]

{"sheet":"t אוכלוסייה ומדגם  (1)","index":39,"n_rows":80,"n_cols":14,"rows_kept":80,"cut":false,"hidden":false,"merged":[[23,3,24,3],[23,4,24,4],[23,8,24,8]]}
[" מבחן  t אוכלוסייה ומדגם "]
["מבחן המיועד לבדוק האם מדגם מסויים  שייך לאוכלוסייה שהממוצע שלה ידוע  "]
["ואומדים את סטיית התקן באמצעות סטיית התקן של המדגם "]
[]
["הוראות : "]
["1. הכנס  את הממוצע של האוכלוסייה בתא B15    "]
["2. במידה ונתונים לך ערכי המדגם הכנס את ממוצע המדגם בתא E15 ואת מספר הנבדקים במדגם בתא F15  וסטיית התקן של המדגם ב G15"]
["3. במידה ועדיין לא חישבת הסטטיסטיקה התיאורית של המדגם הכנס את הערכים הגולמיים של המדגם בעמודה B החל משורה 18 והתוכנה תחשב זאת עבורך "]
["4. הסטטיסטיקה התיאורית וותוצאות המבחן הסטטיסטי יופיעו באופן אוטומטי בצד שמאל של המסך "]
["5. להכנסת נתונים חדשים ואיפוס הטבלאות לחץ על כפתור נקה לחזרה לתפריט הראשי לחץ על כפתור התפריט "]
[]
[null,"הכנס נתוני  האוכלוסייה ",null,null,"הכנס נתוני המדגם "]
[null,"ממוצע",null,null,"ממוצע","גודל המדגם","סטיית תקן"]
[null,"m",null,null,null,"n","SD"]
[]
[]
["מס הנבדק","ערכים ",null,null," נתוני המדגם "]
[1,null,null,null,"ממוצע","גודל המדגם","סטיית תקן"]
[2,null,null,null,null,"n","SD"]
[3,null,null,null,{"$f":"IF(COUNT(B18:B65)>2,AVERAGE(B18:B80),\"\")","v":""},{"$f":"IF(COUNT(B18:B65)>2,COUNT(B18:B80),\"\")","v":""},{"$f":"IF(COUNT(B18:B65)>2,STDEV(B18:B80),\"\")","v":""}]
[4]
[5]
[6]
[7,null,null,{"$f":"IF(COUNT(E15,E20)>0,(MAX(E15,E20)-B15)/(MAX(G15,G20)/SQRT(MAX(F15,F20))),\"\")","v":""},"=",{"$f":"IF(COUNT(E15,B15)>1,B15,\"\")","v":""},"-",{"$f":"IF(COUNT(E15,E20)>0,MAX(E15,E20),\"\")","v":""},"t =","ערך סטטיסטי"]
[8,null,null,null,null,null,{"$f":"IF(COUNT(E15,E20)>0,MAX(F15,F20),\"\")","v":""},{"$f":"IF(COUNT(E15,E20)>0,MAX(G15,G20),\"\")","v":""}]
[9]
[10]
[11,null,null,null,null,null,null,{"$f":"IF(COUNT(E15,E20)>0,MAX(F15,F20)-1,\"\")","v":""},"df    דרגות חופש "]
[12,null,null,null,null,null,null,{"$f":"IF(COUNT(E15,E20)>0,_xlfn.T.INV.2T(0.05,H28),\"\")","v":""},"ערך קריטי 0.05"]
[13,null,null,null,null,null,null,{"$f":"IF(COUNT(E15,E20)>0,_xlfn.T.INV.2T(0.01,H28),\"\")","v":""},"ערך קריטי 0.01"]
[14,null,null,null,null,null,null,{"$f":"IF(COUNT(E15,E20)>0,_xlfn.T.DIST.2T(ABS(D24),H28),\"\")","v":""},"(a')  R=","( Sig ) רמת מובהקות   "]
[15]
[16,null,null,null,null,"משמעות ",null,null,null,null,null,null,{"$f":"IF(COUNT(E15,E20)>0,IF(H31>0.05,\"אין די ראיות לקבוע שממוצע המדגם שונה ממוצע האוכלוסייה ברמת מובהקות של 0.05\",\"יש די ראיות לקבוע שממוצע המדגם שונה ממוצע האוכלוסייה ברמת מובהקות של  \"),\"\")","v":""},{"$f":"IF(COUNT(E15,E20)>0,IF(H31<0.05,H31,\"\"),\"\")","v":""}]
[17,null,null,null,null,null,null,{"$f":"IF(COUNT(E15,E20)>0,IF(H31<0.05,\"כדי לקבוע לטובת מי יש לבדוק את הממוצעים \",\"\"),\"\")","v":""}]
[18,null,null,"אוכלוסייה","מדגם "]
[19,null,null,{"$f":"IF(B15>0,B15,\"\")","v":""},{"$f":"IF(COUNT(E15,E20)>0,(MAX(E15,E20)),\"\")","v":""}]
[20]
[21]
[22]
[23]
[24]
[25]
[26]
[27]
[28]
[29]
[30]
[31]
[32]
[33]
[34]
[35]
[36]
[37]
[38]
[39]
[40]
[41]
[42]
[43]
[44]
[45]
[46]
[47]
[48]
[49]
[50]
[51]
[52]
[53]
[54]
[55]
[56]
[57]
[58]
[59]
[60]
[61]
[62]
[63]

{"sheet":"מבחן t תלוי  מסטר ","index":40,"n_rows":215,"n_cols":26,"rows_kept":215,"cut":false,"hidden":false,"merged":[[12,7,12,9]]}
["מבחן t  תלוי למשתנים מזווגים "]
["מיועד להשוואת שני ממוצעים של נתונים מזווגים/תלויים (שתי תוצאות של אותו אדם )"]
["הוראות"]
["הכנס  שם לערך למשתנה הראשון  ב C9 ושם למשתנה השני ב D9 "]
["הכנס את התוצאות של כל נבדק במשתנה הראשון ובמשתנה השני (באותה השורה)"]
["החישובים הסטטיסיטיים יופיעו באופן אוטומטי . בדוק את התוצאות  ותן פשרנות בהתאם "]
["להדפסת התוצאות לחץ על הדפסה "]
["לעיבוד נוסף לחץ על נקה "]
[]
[null,"מס נבדק","שם  1","שם 2 ","הפרש",null,"שימו לב !! החישוב ייתבצע רק עבור נבדקים שלהם שני ערכים  !! "]
[null,1,null,null,{"$f":"IF(COUNT(C11:D11)=2,C11-D11,\"\")","v":""},{"$f":"COUNT(C11:D11)","v":0},null,null,"סיכום תוצאות ",null,null,null,null,null,null,null,null,null,null,null,null,null,null,null,{"$f":"IF(COUNT($C11:$D11)=2,C11,\"\")","v":""},{"$f":"IF(COUNT($C11:$D11)=2,D11,\"\")","v":""}]
[null,2,null,null,{"$f":"IF(COUNT(C12:D12)=2,C12-D12,\"\")","v":""},{"$f":"COUNT(C12:D12)","v":0},null,null,null,null,null,null,null,null,null,null,null,null,null,null,null,null,null,null,{"$f":"IF(COUNT($C12:$D12)=2,C12,\"\")","v":""},{"$f":"IF(COUNT($C12:$D12)=2,D12,\"\")","v":""}]
[null,3,null,null,"",0,null,"סטטיסיקה תיאורית ",null,null,null,null,null,null,null,null,null,null,null,null,null,null,null,null,"",""]
[null,4,null,null,"",0,null,"המדד",{"$f":"C10","v":"שם  1"},{"$f":"D10","v":"שם 2 "},null,null,"פרשנות",null,null,null,null,null,null,null,null,null,null,null,"",""]
[null,5,null,null,"",0,null,"ממוצע",{"$f":"IF(COUNT(I17:J17)=2,AVERAGE(Y11:Y170),\"\")","v":""},{"$f":"IF(COUNT(I17:J17)=2,AVERAGE(Z11:Z170),\"\")","v":""},null,{"$f":"IF(COUNT(C11:C81)>2,IF(J25>0.05,\"  אין די ראיות לקבוע שהמדידות שונות במבחן חד צדדי \",\"יש די ראיות לקבוע שהמדידות שונות במבחן חד צדדי\"),\"\")","v":""},null,null,null,{"$f":"IF(COUNT(C11:C81)>2,IF(J25>0.05,\"ברמת מובהקות של 0.05\",\"ברמת מובהקות של \"),\"\")","v":""},null,{"$f":"IF(COUNT(B11:C11)>1,IF(J25<0.01,\"P < 0.01\",IF(J25<0.055,\"p < 0.05\",\"\")),\"\")","v":""},null,{"$f":"IF(COUNT(B11:C11)>1,IF(J25>0.05,\"\",J25),\"\")","v":""},null,null,null,null,"",""]
[null,6,null,null,"",0,null,"סטיית תקן ",{"$f":"IF(COUNT(I17:J17)=2,STDEV(Y11:Y170),\"\")","v":""},{"$f":"IF(COUNT(I17:J17)=2,STDEV(Z11:Z170),\"\")","v":""},null,null,null,null,null,null,null,null,null,null,null,null,null,null,"",""]
[null,7,null,null,"",0,null,"מס נבדקים ",{"$f":"IF(COUNT(C11:C81)>1,COUNT(Y11:Y170),\"\")","v":""},{"$f":"IF(COUNT(D11:D81)>1,COUNT(Z11:Z170),\"\")","v":""},null,null,null,null,null,null,null,"Cohen’s d  = Effect Size",null,{"$f":"IF(COUNT(B11:C11)>1,IF(J28>0.05,\"\",J28),\"\")","v":""},null,null,null,null,"",""]
[null,8,null,null,"",0,null,null,null,null,null,null,null,null,null,null,null,null,null,null,null,null,null,null,"",""]
[null,9,null,null,"",0,null,null,"ממוצע ההפרשים ",{"$f":"IF(COUNT(I17:J17)=2,AVERAGE(E11:E170),\"\")","v":""},null,null,{"$f":"IF(COUNT(C11:C81)>2,IF(J28>0.05,\" \",\"כדי לתת פרשנות לממצאים\"),\"\")","v":""},null,null,null,null,{"$f":"IF(COUNT(I17:J17)=2,ABS(J19)/J20,\"\")","v":""},"d=",null,null,null,null,null,"",""]
[null,10,null,null,"",0,null,null,"סטיית תקן של ההפרשים ",{"$f":"IF(COUNT(I17:J17)=2,STDEV(E11:E170),\"\")","v":""},null,null,{"$f":"IF(COUNT(C11:C81)>2,IF(J28>0.05,\" \",\"יש להסתכל על הממוצעים ולראות לטובת איזה מדידה\"),\"\")","v":""},null,null,null,null,{"$f":"IF(LEN(R19)=0,\"\",IF(R19>0.8,\"גודל אפקט חזק \",IF(R19>0.5,\"גודל אפקט בינוני חזוק\",IF(R19>0.2,\"גודל אפקט בינוני \",\"גודל אפקט חלש \"))))","v":""},null,null,null,null,null,null,"",""]
[null,11,null,null,"",0,"df",null,"דרגות החופש של המבחן ",{"$f":"IF(COUNT(I17:J17)=2,COUNT(D11:D170)-1,\"\")","v":""},null,null,null,null,null,null,null,null,null,null,null,null,null,null,"",""]
[null,12,null,null,"",0,null,null," סטטיסטי t",{"$f":"IF(COUNT(I17:J17)=2,J19/(J20/SQRT(I17)),\"\")","v":""},null,null,"כתיבה מדעית ",null,null,{"$f":"IF(COUNT(C11:C38)>1,IF(J28<0.01,CONCATENATE(P24,\"<0.01\"),IF(J28<0.05,CONCATENATE(P24,\"<0.05\"),CONCATENATE(P24, \">0.05\"))),\"\")","v":""},null,{"$f":"CONCATENATE(P24,\"=\",TEXT(J28,\"0.00\"))","v":"="},null,null,null,null,null,null,"",""]
[null,13,null,null,"",0,null,null,"ערך קריטי מבחן חד צדדי 0.05",{"$f":"IF(COUNT(I17:J17)=2,TINV(0.1,J21),\"\")","v":""},null,null,null,null,null,null,null,"גודל האפקט הוא ממוצע ההפרשים ביחידות של סטיות תקן (תקנון של ממוצע ההפרשים ). ",null,null,null,null,null,null,"",""]
[null,14,null,null,"",0,null,null,"ערך קריטי מבחן חד צדדי 0.01",{"$f":"IF(COUNT(I17:J17)=2,TINV(0.02,J21),\"\")","v":""},null,null,null,null,null,{"$f":"IF(COUNT(C11:C81)>2,CONCATENATE(\"t(\",J21,\")=\",LEFT(J22,5),\",  P \"),\"\")","v":""},null,"כאמור גודל אפקט עד 0.2 הוא נמוך, סביב ה- 0.5 הוא בינוני ומעל 0.8 הוא גבוה. ",null,null,null,null,null,null,"",""]
[null,15,null,null,"",0,null,"( Sig ) מובהקות חד צדדית ","=  P  (a') ",{"$f":"IF(COUNT(I17:J17)=2,TDIST(ABS(J22),J21,1),\"\")","v":""},{"$f":"IF(COUNT(I17:J17)=2,IF(J25>0.05,\"לא מובהק - אין הבדל \",\"מובהק - יש הבדל \"),\"\")","v":""},null,null,null,null,null,null,null,null,null,null,null,null,null,"",""]
[null,16,null,null,"",0,null,null,"ערך קריטי מבחן דו צדדי 0.05",{"$f":"IF(COUNT(I17:J17)=2,TINV(0.05,J21),\"\")","v":""},null,null,null,null,null,null,null,null,null,null,null,null,null,null,"",""]
[null,17,null,null,"",0,null,null,"ערך קריטי מבחן דו צדדי 0.01",{"$f":"IF(COUNT(I17:J17)=2,TINV(0.01,J21),\"\")","v":""},null,null,null,null,null,null,null,null,null,null,null,null,null,null,"",""]
[null,18,null,null,"",0,null,"( Sig ) מובהקות דו צדדית ","=  P  (a') ",{"$f":"IF(COUNT(I17:J17)=2,TDIST(ABS(J22),J17,2),\"\")","v":""},{"$f":"IF(COUNT(I17:J17)=2,IF(J28>0.05,\"לא מובהק - אין הבדל \",\"מובהק - יש הבדל \"),\"\")","v":""},null,null,null,null,null,null,null,null,null,null,null,null,null,"",""]
[null,19,null,null,"",0,null,null,"מקדם המתאם בין המשתנים",{"$f":"IF(COUNT(I17:J17)=2,CORREL(C11:C170,D11:D170),\"\")","v":""},null,null,null,null,null,null,null,null,null,null,null,null,null,null,"",""]
[null,20,null,null,"",0,null,null,"השווואת ממוצעים ",null,null,null,null,null,"קשר בין המדידות",null,null,null,null,null,null,null,null,null,"",""]
[null,21,null,null,"",0,null,null,null,null,null,null,null,null,null,null,null,null,null,null,null,null,null,null,"",""]
[null,22,null,null,"",0,null,null,null,null,null,null,null,null,null,null,null,null,null,null,null,null,null,null,"",""]
[null,23,null,null,"",0,null,null,null,null,null,null,null,null,null,null,null,null,null,null,null,null,null,null,"",""]
[null,24,null,null,"",0,null,null,null,null,null,null,null,null,null,null,null,null,null,null,null,null,null,null,"",""]
[null,25,null,null,"",0,null,null,null,null,null,null,null,null,null,null,null,null,null,null,null,null,null,null,"",""]
[null,26,null,null,"",0,null,null,null,null,null,null,null,null,null,null,null,null,null,null,null,null,null,null,"",""]
[null,27,null,null,"",0,null,null,null,null,null,null,null,null,null,null,null,null,null,null,null,null,null,null,"",""]
[null,28,null,null,"",0,null,null,null,null,null,null,null,null,null,null,null,null,null,null,null,null,null,null,"",""]
[null,29,null,null,"",0,null,null,null,null,null,null,null,null,null,null,null,null,null,null,null,null,null,null,"",""]
[null,30,null,null,"",0,null,null,null,null,null,null,null,null,null,null,null,null,null,null,null,null,null,null,"",""]
[null,31,null,null,"",0,null,null,null,null,null,null,null,null,null,null,null,null,null,null,null,null,null,null,"",""]
[null,32,null,null,"",0,null,null,null,null,null,null,null,null,null,null,null,null,null,null,null,null,null,null,"",""]
[null,33,null,null,"",0,null,null,null,null,null,null,null,null,null,null,null,null,null,null,null,null,null,null,"",""]
[null,34,null,null,"",0,null,null,null,null,null,null,null,null,null,null,null,null,null,null,null,null,null,null,"",""]
[null,35,null,null,"",0,null,null,null,null,null,null,null,null,null,null,null,null,null,null,null,null,null,null,"",""]
[null,36,null,null,"",0,null,null,null,null,null,null,null,null,null,null,null,null,null,null,null,null,null,null,"",""]
[null,37,null,null,"",0,null,null,null,null,null,null,null,null,null,null,null,null,null,null,null,null,null,null,"",""]
[null,38,null,null,"",0,null,null,null,null,null,null,null,null,null,null,null,null,null,null,null,null,null,null,"",""]
[null,39,null,null,"",0,null,null,null,null,null,null,null,null,null,null,null,null,null,null,null,null,null,null,"",""]
[null,40,null,null,"",0,null,null,null,null,null,null,null,null,null,null,null,null,null,null,null,null,null,null,"",""]
[null,41,null,null,"",0,null,null,null,null,null,null,null,null,null,null,null,null,null,null,null,null,null,null,"",""]
[null,42,null,null,"",0,null,null,null,null,null,null,null,null,null,null,null,null,null,null,null,null,null,null,"",""]
[null,43,null,null,"",0,null,null,null,null,null,null,null,null,null,null,null,null,null,null,null,null,null,null,"",""]
[null,44,null,null,"",0,null,null,null,null,null,null,null,null,null,null,null,null,null,null,null,null,null,null,"",""]
[null,45,null,null,"",0,null,null,null,null,null,null,null,null,null,null,null,null,null,null,null,null,null,null,"",""]
[null,46,null,null,"",0,null,null,null,null,null,null,null,null,null,null,null,null,null,null,null,null,null,null,"",""]
[null,47,null,null,"",0,null,null,null,null,null,null,null,null,null,null,null,null,null,null,null,null,null,null,"",""]
[null,48,null,null,"",0,null,null,null,null,null,null,null,null,null,null,null,null,null,null,null,null,null,null,"",""]
[null,49,null,null,"",0,null,null,null,null,null,null,null,null,null,null,null,null,null,null,null,null,null,null,"",""]
[null,50,null,null,"",0,null,null,null,null,null,null,null,null,null,null,null,null,null,null,null,null,null,null,"",""]
[null,51,null,null,"",0,null,null,null,null,null,null,null,null,null,null,null,null,null,null,null,null,null,null,"",""]
[null,52,null,null,"",0,null,null,null,null,null,null,null,null,null,null,null,null,null,null,null,null,null,null,"",""]
[null,53,null,null,"",0,null,null,null,null,null,null,null,null,null,null,null,null,null,null,null,null,null,null,"",""]
[null,54,null,null,"",0,null,null,null,null,null,null,null,null,null,null,null,null,null,null,null,null,null,null,"",""]
[null,55,null,null,"",0,null,null,null,null,null,null,null,null,null,null,null,null,null,null,null,null,null,null,"",""]
[null,56,null,null,"",0,null,null,null,null,null,null,null,null,null,null,null,null,null,null,null,null,null,null,"",""]
[null,57,null,null,"",0,null,null,null,null,null,null,null,null,null,null,null,null,null,null,null,null,null,null,"",""]
[null,58,null,null,"",0,null,null,null,null,null,null,null,null,null,null,null,null,null,null,null,null,null,null,"",""]
[null,59,null,null,"",0,null,null,null,null,null,null,null,null,null,null,null,null,null,null,null,null,null,null,"",""]
[null,60,null,null,"",0,null,null,null,null,null,null,null,null,null,null,null,null,null,null,null,null,null,null,"",""]
[null,61,null,null,"",0,null,null,null,null,null,null,null,null,null,null,null,null,null,null,null,null,null,null,"",""]
[null,62,null,null,"",0,null,null,null,null,null,null,null,null,null,null,null,null,null,null,null,null,null,null,"",""]
[null,63,null,null,"",0,null,null,null,null,null,null,null,null,null,null,null,null,null,null,null,null,null,null,"",""]
[null,64,null,null,"",0,null,null,null,null,null,null,null,null,null,null,null,null,null,null,null,null,null,null,"",""]
[null,65,null,null,"",0,null,null,null,null,null,null,null,null,null,null,null,null,null,null,null,null,null,null,"",""]
[null,66,null,null,{"$f":"IF(COUNT(C76:D76)=2,C76-D76,\"\")","v":""},{"$f":"COUNT(C76:D76)","v":0},null,null,null,null,null,null,null,null,null,null,null,null,null,null,null,null,null,null,{"$f":"IF(COUNT($C76:$D76)=2,C76,\"\")","v":""},{"$f":"IF(COUNT($C76:$D76)=2,D76,\"\")","v":""}]
[null,67,null,null,"",0,null,null,null,null,null,null,null,null,null,null,null,null,null,null,null,null,null,null,"",""]
[null,68,null,null,"",0,null,null,null,null,null,null,null,null,null,null,null,null,null,null,null,null,null,null,"",""]
[null,69,null,null,"",0,null,null,null,null,null,null,null,null,null,null,null,null,null,null,null,null,null,null,"",""]
[null,70,null,null,"",0,null,null,null,null,null,null,null,null,null,null,null,null,null,null,null,null,null,null,"",""]
[null,71,null,null,"",0,null,null,null,null,null,null,null,null,null,null,null,null,null,null,null,null,null,null,"",""]
[null,72,null,null,"",0,null,null,null,null,null,null,null,null,null,null,null,null,null,null,null,null,null,null,"",""]
[null,73,null,null,"",0,null,null,null,null,null,null,null,null,null,null,null,null,null,null,null,null,null,null,"",""]
[null,74,null,null,"",0,null,null,null,null,null,null,null,null,null,null,null,null,null,null,null,null,null,null,"",""]
[null,75,null,null,"",0,null,null,null,null,null,null,null,null,null,null,null,null,null,null,null,null,null,null,"",""]
[null,76,null,null,"",0,null,null,null,null,null,null,null,null,null,null,null,null,null,null,null,null,null,null,"",""]
[null,77,null,null,"",0,null,null,null,null,null,null,null,null,null,null,null,null,null,null,null,null,null,null,"",""]
[null,78,null,null,"",0,null,null,null,null,null,null,null,null,null,null,null,null,null,null,null,null,null,null,"",""]
[null,79,null,null,"",0,null,null,null,null,null,null,null,null,null,null,null,null,null,null,null,null,null,null,"",""]
[null,80,null,null,"",0,null,null,null,null,null,null,null,null,null,null,null,null,null,null,null,null,null,null,"",""]
[null,81,null,null,"",0,null,null,null,null,null,null,null,null,null,null,null,null,null,null,null,null,null,null,"",""]
[null,82,null,null,"",0,null,null,null,null,null,null,null,null,null,null,null,null,null,null,null,null,null,null,"",""]
[null,83,null,null,"",0,null,null,null,null,null,null,null,null,null,null,null,null,null,null,null,null,null,null,"",""]
[null,84,null,null,"",0,null,null,null,null,null,null,null,null,null,null,null,null,null,null,null,null,null,null,"",""]
[null,85,null,null,"",0,null,null,null,null,null,null,null,null,null,null,null,null,null,null,null,null,null,null,"",""]
[null,86,null,null,"",0,null,null,null,null,null,null,null,null,null,null,null,null,null,null,null,null,null,null,"",""]
[null,87,null,null,"",0,null,null,null,null,null,null,null,null,null,null,null,null,null,null,null,null,null,null,"",""]
[null,88,null,null,"",0,null,null,null,null,null,null,null,null,null,null,null,null,null,null,null,null,null,null,"",""]
[null,89,null,null,"",0,null,null,null,null,null,null,null,null,null,null,null,null,null,null,null,null,null,null,"",""]
[null,90,null,null,"",0,null,null,null,null,null,null,null,null,null,null,null,null,null,null,null,null,null,null,"",""]
[null,91,null,null,"",0,null,null,null,null,null,null,null,null,null,null,null,null,null,null,null,null,null,null,"",""]
[null,92,null,null,"",0,null,null,null,null,null,null,null,null,null,null,null,null,null,null,null,null,null,null,"",""]
[null,93,null,null,"",0,null,null,null,null,null,null,null,null,null,null,null,null,null,null,null,null,null,null,"",""]
[null,94,null,null,"",0,null,null,null,null,null,null,null,null,null,null,null,null,null,null,null,null,null,null,"",""]
[null,95,null,null,"",0,null,null,null,null,null,null,null,null,null,null,null,null,null,null,null,null,null,null,"",""]
[null,96,null,null,"",0,null,null,null,null,null,null,null,null,null,null,null,null,null,null,null,null,null,null,"",""]
[null,97,null,null,"",0,null,null,null,null,null,null,null,null,null,null,null,null,null,null,null,null,null,null,"",""]
[null,98,null,null,"",0,null,null,null,null,null,null,null,null,null,null,null,null,null,null,null,null,null,null,"",""]
[null,99,null,null,"",0,null,null,null,null,null,null,null,null,null,null,null,null,null,null,null,null,null,null,"",""]
[null,100,null,null,"",0,null,null,null,null,null,null,null,null,null,null,null,null,null,null,null,null,null,null,"",""]
[null,101,null,null,"",0,null,null,null,null,null,null,null,null,null,null,null,null,null,null,null,null,null,null,"",""]
[null,102,null,null,"",0,null,null,null,null,null,null,null,null,null,null,null,null,null,null,null,null,null,null,"",""]
[null,103,null,null,"",0,null,null,null,null,null,null,null,null,null,null,null,null,null,null,null,null,null,null,"",""]
[null,104,null,null,"",0,null,null,null,null,null,null,null,null,null,null,null,null,null,null,null,null,null,null,"",""]
[null,105,null,null,"",0,null,null,null,null,null,null,null,null,null,null,null,null,null,null,null,null,null,null,"",""]
[null,106,null,null,"",0,null,null,null,null,null,null,null,null,null,null,null,null,null,null,null,null,null,null,"",""]
[null,107,null,null,"",0,null,null,null,null,null,null,null,null,null,null,null,null,null,null,null,null,null,null,"",""]
[null,108,null,null,"",0,null,null,null,null,null,null,null,null,null,null,null,null,null,null,null,null,null,null,"",""]
[null,109,null,null,"",0,null,null,null,null,null,null,null,null,null,null,null,null,null,null,null,null,null,null,"",""]
[null,110,null,null,"",0,null,null,null,null,null,null,null,null,null,null,null,null,null,null,null,null,null,null,"",""]
[null,111,null,null,"",0,null,null,null,null,null,null,null,null,null,null,null,null,null,null,null,null,null,null,"",""]
[null,112,null,null,"",0,null,null,null,null,null,null,null,null,null,null,null,null,null,null,null,null,null,null,"",""]
[null,113,null,null,"",0,null,null,null,null,null,null,null,null,null,null,null,null,null,null,null,null,null,null,"",""]
[null,114,null,null,"",0,null,null,null,null,null,null,null,null,null,null,null,null,null,null,null,null,null,null,"",""]
[null,115,null,null,"",0,null,null,null,null,null,null,null,null,null,null,null,null,null,null,null,null,null,null,"",""]
[null,116,null,null,"",0,null,null,null,null,null,null,null,null,null,null,null,null,null,null,null,null,null,null,"",""]
[null,117,null,null,"",0,null,null,null,null,null,null,null,null,null,null,null,null,null,null,null,null,null,null,"",""]
[null,118,null,null,"",0,null,null,null,null,null,null,null,null,null,null,null,null,null,null,null,null,null,null,"",""]
[null,119,null,null,"",0,null,null,null,null,null,null,null,null,null,null,null,null,null,null,null,null,null,null,"",""]
[null,120,null,null,"",0,null,null,null,null,null,null,null,null,null,null,null,null,null,null,null,null,null,null,"",""]
[null,121,null,null,"",0,null,null,null,null,null,null,null,null,null,null,null,null,null,null,null,null,null,null,"",""]
[null,122,null,null,"",0,null,null,null,null,null,null,null,null,null,null,null,null,null,null,null,null,null,null,"",""]
[null,123,null,null,"",0,null,null,null,null,null,null,null,null,null,null,null,null,null,null,null,null,null,null,"",""]
[null,124,null,null,"",0,null,null,null,null,null,null,null,null,null,null,null,null,null,null,null,null,null,null,"",""]
[null,125,null,null,"",0,null,null,null,null,null,null,null,null,null,null,null,null,null,null,null,null,null,null,"",""]
[null,126,null,null,"",0,null,null,null,null,null,null,null,null,null,null,null,null,null,null,null,null,null,null,"",""]
[null,127,null,null,"",0,null,null,null,null,null,null,null,null,null,null,null,null,null,null,null,null,null,null,"",""]
[null,128,null,null,"",0,null,null,null,null,null,null,null,null,null,null,null,null,null,null,null,null,null,null,"",""]
[null,129,null,null,"",0,null,null,null,null,null,null,null,null,null,null,null,null,null,null,null,null,null,null,"",""]
[null,130,null,null,{"$f":"IF(COUNT(C140:D140)=2,C140-D140,\"\")","v":""},{"$f":"COUNT(C140:D140)","v":0},null,null,null,null,null,null,null,null,null,null,null,null,null,null,null,null,null,null,{"$f":"IF(COUNT($C140:$D140)=2,C140,\"\")","v":""},{"$f":"IF(COUNT($C140:$D140)=2,D140,\"\")","v":""}]
[null,131,null,null,"",0,null,null,null,null,null,null,null,null,null,null,null,null,null,null,null,null,null,null,"",""]
[null,132,null,null,"",0,null,null,null,null,null,null,null,null,null,null,null,null,null,null,null,null,null,null,"",""]
[null,133,null,null,"",0,null,null,null,null,null,null,null,null,null,null,null,null,null,null,null,null,null,null,"",""]
[null,134,null,null,"",0,null,null,null,null,null,null,null,null,null,null,null,null,null,null,null,null,null,null,"",""]
[null,135,null,null,"",0,null,null,null,null,null,null,null,null,null,null,null,null,null,null,null,null,null,null,"",""]
[null,136,null,null,"",0,null,null,null,null,null,null,null,null,null,null,null,null,null,null,null,null,null,null,"",""]
[null,137,null,null,"",0,null,null,null,null,null,null,null,null,null,null,null,null,null,null,null,null,null,null,"",""]
[null,138,null,null,"",0,null,null,null,null,null,null,null,null,null,null,null,null,null,null,null,null,null,null,"",""]
[null,139,null,null,"",0,null,null,null,null,null,null,null,null,null,null,null,null,null,null,null,null,null,null,"",""]
[null,140,null,null,"",0,null,null,null,null,null,null,null,null,null,null,null,null,null,null,null,null,null,null,"",""]
[null,141,null,null,"",0,null,null,null,null,null,null,null,null,null,null,null,null,null,null,null,null,null,null,"",""]
[null,142,null,null,"",0,null,null,null,null,null,null,null,null,null,null,null,null,null,null,null,null,null,null,"",""]
[null,143,null,null,"",0,null,null,null,null,null,null,null,null,null,null,null,null,null,null,null,null,null,null,"",""]
[null,144,null,null,"",0,null,null,null,null,null,null,null,null,null,null,null,null,null,null,null,null,null,null,"",""]
[null,145,null,null,"",0,null,null,null,null,null,null,null,null,null,null,null,null,null,null,null,null,null,null,"",""]
[null,146,null,null,"",0,null,null,null,null,null,null,null,null,null,null,null,null,null,null,null,null,null,null,"",""]
[null,147,null,null,"",0,null,null,null,null,null,null,null,null,null,null,null,null,null,null,null,null,null,null,"",""]
[null,148,null,null,"",0,null,null,null,null,null,null,null,null,null,null,null,null,null,null,null,null,null,null,"",""]
[null,149,null,null,"",0,null,null,null,null,null,null,null,null,null,null,null,null,null,null,null,null,null,null,"",""]
[null,150,null,null,"",0,null,null,null,null,null,null,null,null,null,null,null,null,null,null,null,null,null,null,"",""]
[null,151,null,null,"",0,null,null,null,null,null,null,null,null,null,null,null,null,null,null,null,null,null,null,"",""]
[null,152,null,null,"",0,null,null,null,null,null,null,null,null,null,null,null,null,null,null,null,null,null,null,"",""]
[null,153,null,null,"",0,null,null,null,null,null,null,null,null,null,null,null,null,null,null,null,null,null,null,"",""]
[null,154,null,null,"",0,null,null,null,null,null,null,null,null,null,null,null,null,null,null,null,null,null,null,"",""]
[null,155,null,null,"",0,null,null,null,null,null,null,null,null,null,null,null,null,null,null,null,null,null,null,"",""]
[null,156,null,null,"",0,null,null,null,null,null,null,null,null,null,null,null,null,null,null,null,null,null,null,"",""]
[null,157,null,null,"",0,null,null,null,null,null,null,null,null,null,null,null,null,null,null,null,null,null,null,"",""]
[null,158,null,null,"",0,null,null,null,null,null,null,null,null,null,null,null,null,null,null,null,null,null,null,"",""]
[null,159,null,null,"",0,null,null,null,null,null,null,null,null,null,null,null,null,null,null,null,null,null,null,"",""]
[null,160,null,null,"",0,null,null,null,null,null,null,null,null,null,null,null,null,null,null,null,null,null,null,"",""]
[null,null,null,null,null,null,null,null,null,null,null,null,null,null,null,null,null,null,null,null,null,null,null,null,"",""]
[null,null,null,null,null,null,null,null,null,null,null,null,null,null,null,null,null,null,null,null,null,null,null,null,"",""]
[null,null,null,null,null,null,null,null,null,null,null,null,null,null,null,null,null,null,null,null,null,null,null,null,"",""]
[null,null,null,null,null,null,null,null,null,null,null,null,null,null,null,null,null,null,null,null,null,null,null,null,"",""]
[null,null,null,null,null,null,null,null,null,null,null,null,null,null,null,null,null,null,null,null,null,null,null,null,"",""]
[null,null,null,null,null,null,null,null,null,null,null,null,null,null,null,null,null,null,null,null,null,null,null,null,"",""]
[null,null,null,null,null,null,null,null,null,null,null,null,null,null,null,null,null,null,null,null,null,null,null,null,"",""]
[null,null,null,null,null,null,null,null,null,null,null,null,null,null,null,null,null,null,null,null,null,null,null,null,"",""]
[null,null,null,null,null,null,null,null,null,null,null,null,null,null,null,null,null,null,null,null,null,null,null,null,"",""]
[null,null,null,null,null,null,null,null,null,null,null,null,null,null,null,null,null,null,null,null,null,null,null,null,"",""]
[null,null,null,null,null,null,null,null,null,null,null,null,null,null,null,null,null,null,null,null,null,null,null,null,"",""]
[null,null,null,null,null,null,null,null,null,null,null,null,null,null,null,null,null,null,null,null,null,null,null,null,"",""]
[null,null,null,null,null,null,null,null,null,null,null,null,null,null,null,null,null,null,null,null,null,null,null,null,"",""]
[null,null,null,null,null,null,null,null,null,null,null,null,null,null,null,null,null,null,null,null,null,null,null,null,"",""]
[null,null,null,null,null,null,null,null,null,null,null,null,null,null,null,null,null,null,null,null,null,null,null,null,"",""]
[null,null,null,null,null,null,null,null,null,null,null,null,null,null,null,null,null,null,null,null,null,null,null,null,"",""]
[null,null,null,null,null,null,null,null,null,null,null,null,null,null,null,null,null,null,null,null,null,null,null,null,"",""]
[null,null,null,null,null,null,null,null,null,null,null,null,null,null,null,null,null,null,null,null,null,null,null,null,"",""]
[null,null,null,null,null,null,null,null,null,null,null,null,null,null,null,null,null,null,null,null,null,null,null,null,"",""]
[null,null,null,null,null,null,null,null,null,null,null,null,null,null,null,null,null,null,null,null,null,null,null,null,"",""]
[null,null,null,null,null,null,null,null,null,null,null,null,null,null,null,null,null,null,null,null,null,null,null,null,"",""]
[null,null,null,null,null,null,null,null,null,null,null,null,null,null,null,null,null,null,null,null,null,null,null,null,"",""]
[null,null,null,null,null,null,null,null,null,null,null,null,null,null,null,null,null,null,null,null,null,null,null,null,"",""]
[null,null,null,null,null,null,null,null,null,null,null,null,null,null,null,null,null,null,null,null,null,null,null,null,"",""]
[null,null,null,null,null,null,null,null,null,null,null,null,null,null,null,null,null,null,null,null,null,null,null,null,"",""]
[null,null,null,null,null,null,null,null,null,null,null,null,null,null,null,null,null,null,null,null,null,null,null,null,"",""]
[null,null,null,null,null,null,null,null,null,null,null,null,null,null,null,null,null,null,null,null,null,null,null,null,"",""]
[null,null,null,null,null,null,null,null,null,null,null,null,null,null,null,null,null,null,null,null,null,null,null,null,"",""]
[null,null,null,null,null,null,null,null,null,null,null,null,null,null,null,null,null,null,null,null,null,null,null,null,"",""]
[null,null,null,null,null,null,null,null,null,null,null,null,null,null,null,null,null,null,null,null,null,null,null,null,"",""]
[null,null,null,null,null,null,null,null,null,null,null,null,null,null,null,null,null,null,null,null,null,null,null,null,"",""]
[null,null,null,null,null,null,null,null,null,null,null,null,null,null,null,null,null,null,null,null,null,null,null,null,"",""]
[null,null,null,null,null,null,null,null,null,null,null,null,null,null,null,null,null,null,null,null,null,null,null,null,"",""]
[null,null,null,null,null,null,null,null,null,null,null,null,null,null,null,null,null,null,null,null,null,null,null,null,{"$f":"IF(COUNT($C204:$D204)=2,C204,\"\")","v":""},{"$f":"IF(COUNT($C204:$D204)=2,D204,\"\")","v":""}]
[null,null,null,null,null,null,null,null,null,null,null,null,null,null,null,null,null,null,null,null,null,null,null,null,"",""]
[null,null,null,null,null,null,null,null,null,null,null,null,null,null,null,null,null,null,null,null,null,null,null,null,"",""]
[null,null,null,null,null,null,null,null,null,null,null,null,null,null,null,null,null,null,null,null,null,null,null,null,"",""]
[null,null,null,null,null,null,null,null,null,null,null,null,null,null,null,null,null,null,null,null,null,null,null,null,"",""]
[null,null,null,null,null,null,null,null,null,null,null,null,null,null,null,null,null,null,null,null,null,null,null,null,"",""]
[null,null,null,null,null,null,null,null,null,null,null,null,null,null,null,null,null,null,null,null,null,null,null,null,"",""]
[null,null,null,null,null,null,null,null,null,null,null,null,null,null,null,null,null,null,null,null,null,null,null,null,"",""]
[null,null,null,null,null,null,null,null,null,null,null,null,null,null,null,null,null,null,null,null,null,null,null,null,"",""]
[null,null,null,null,null,null,null,null,null,null,null,null,null,null,null,null,null,null,null,null,null,null,null,null,"",""]
[null,null,null,null,null,null,null,null,null,null,null,null,null,null,null,null,null,null,null,null,null,null,null,null,"",""]
[null,null,null,null,null,null,null,null,null,null,null,null,null,null,null,null,null,null,null,null,null,null,null,null,"",""]

{"sheet":"מבחן t תלוי  מסטר  (1)","index":41,"n_rows":81,"n_cols":20,"rows_kept":81,"cut":false,"hidden":false,"merged":[[12,7,12,9]]}
["מבחן t  תלוי למשתנים מזווגים "]
["מיועד להשוואת שני ממוצעים של נתונים מזווגים/תלויים (שתי תוצאות של אותו אדם )"]
["הוראות"]
["הכנס  שם לערך למשתנה הראשון  ב C9 ושם למשתנה השני ב D9 "]
["הכנס את התוצאות של כל נבדק במשתנה הראשון ובמשתנה השני (באותה השורה)"]
["החישובים הסטטיסיטיים יופיעו באופן אוטומטי . בדוק את התוצאות  ותן פשרנות בהתאם "]
["להדפסת התוצאות לחץ על הדפסה "]
["לעיבוד נוסף לחץ על נקה "]
[]
[null,"מס נבדק","שם  1","שם 2 ","הפרש"]
[null,1,null,null,{"$f":"IF(C11>0,C11-D11,\"\")","v":""},null,null,null,"סיכום תוצאות "]
[null,2,null,null,{"$f":"IF(C12>0,C12-D12,\"\")","v":""}]
[null,3,null,null,"",null,null,"סטטיסיקה תיאורית "]
[null,4,null,null,"",null,null,"המדד",{"$f":"C10","v":"שם  1"},{"$f":"D10","v":"שם 2 "},null,null,"פרשנות"]
[null,5,null,null,"",null,null,"ממוצע","","",null,{"$f":"IF(COUNT(C11:C81)>2,IF(J24>0.05,\"  אין די ראיות לקבוע שהמדידות שונות במבחן חד צדדי \",\"יש די ראיות לקבוע שהמדידות שונות במבחן חד צדדי\"),\"\")","v":""},null,null,null,{"$f":"IF(COUNT(C11:C81)>2,IF(J24>0.05,\"ברמת מובהקות של 0.05\",\"ברמת מובהקות של \"),\"\")","v":""},null,{"$f":"IF(COUNT(B11:C11)>1,IF(J24<0.01,\"P < 0.01\",IF(J24<0.055,\"p < 0.05\",\"\")),\"\")","v":""},null,{"$f":"IF(COUNT(B11:C11)>1,IF(J24>0.05,\"\",J24),\"\")","v":""}]
[null,6,null,null,"",null,null,"סטיית תקן ","",""]
[null,7,null,null,"",null,null,"מס נבדקים ","","",null,{"$f":"IF(COUNT(C11:C81)>2,IF(J26>0.05,\"  אין די ראיות לקבוע שהמדידות שונות במבחן דו צדדי \",\"יש די ראיות לקבוע שהמדידות שונות במבחן דו צדדי\"),\"\")","v":""},null,null,null,{"$f":"IF(COUNT(C11:C81)>2,IF(J26>0.05,\"ברמת מובהקות של 0.05\",\"ברמת מובהקות של \"),\"\")","v":""},null,{"$f":"IF(COUNT(B11:C11)>1,IF(J26<0.01,\"P < 0.01\",IF(J26<0.055,\"p < 0.05\",\"\")),\"\")","v":""},null,{"$f":"IF(COUNT(B11:C11)>1,IF(J26>0.05,\"\",J26),\"\")","v":""}]
[null,8,null,null,""]
[null,9,null,null,"",null,null,null,"ממוצע ההפרשים ",{"$f":"IF(COUNT(C11:C81)>2,AVERAGE(E11:E81),\"\")","v":""},null,null,{"$f":"IF(COUNT(C11:C81)>2,IF(J26>0.05,\" \",\"כדי לתת פרשנות לממצאים\"),\"\")","v":""}]
[null,10,null,null,"",null,null,null,"סטיית תקן של ההפרשים ",{"$f":"IF(COUNT(C11:C81)>2,STDEV(E11:E81),\"\")","v":""},null,null,{"$f":"IF(COUNT(C11:C81)>2,IF(J26>0.05,\" \",\"יש להסתכל על הממוצעים ולראות לטובת איזה מדידה\"),\"\")","v":""}]
[null,11,null,null,"",null,"df",null,"דרגות החופש של המבחן ",{"$f":"IF(COUNT(D11:D81)>2,COUNT(D11:D81)-1,\"\")","v":""}]
[null,12,null,null,"",null,null,null," סטטיסטי t",{"$f":"IF(COUNT(D11:D81)>2,J19/(J20/SQRT(I17)),\"\")","v":""},null,null,"כתיבה מדעית ",null,null,{"$f":"IF(COUNT(C11:C38)>1,IF(J26<0.01,CONCATENATE(P24,\"<0.01\"),IF(J26<0.05,CONCATENATE(P24,\"<0.05\"),CONCATENATE(P24, \">0.05\"))),\"\")","v":""},null,{"$f":"CONCATENATE(P24,\"=\",TEXT(J26,\"0.00\"))","v":"="}]
[null,13,null,null,"",null,null,null,"ערך קריטי מבחן חד צדדי 0.05",{"$f":"IF(COUNT(D11:D81)>2,TINV(0.1,J21),\"\")","v":""}]
[null,14,null,null,"",null,null,null,"ערך קריטי מבחן חד צדדי 0.01",{"$f":"IF(COUNT(D11:D81)>2,TINV(0.02,J21),\"\")","v":""},null,null,null,null,null,{"$f":"IF(COUNT(C11:C81)>2,CONCATENATE(\"t(\",J21,\")=\",LEFT(J22,5),\",  P \"),\"\")","v":""}]
[null,15,null,null,"",null,null,"( Sig ) מובהקות חד צדדית ","=  P  (a') ",{"$f":"IF(COUNT(D11:D81)>2,TDIST(ABS(J22),J21,1),\"\")","v":""},{"$f":"IF(COUNT(C11:C81)>2,IF(J25>0.05,\"לא מובהק - אין הבדל \",\"מובהק - יש הבדל \"),\"\")","v":""}]
[null,16,null,null,"",null,null,null,"ערך קריטי מבחן דו צדדי 0.05",{"$f":"IF(COUNT(D11:D81)>2,TINV(0.05,J21),\"\")","v":""}]
[null,17,null,null,"",null,null,null,"ערך קריטי מבחן דו צדדי 0.01",{"$f":"IF(COUNT(D11:D81)>2,TINV(0.01,J21),\"\")","v":""}]
[null,18,null,null,"",null,null,"( Sig ) מובהקות דו צדדית ","=  P  (a') ",{"$f":"IF(COUNT(D11:D81)>2,TDIST(ABS(J22),J17,2),\"\")","v":""},{"$f":"IF(COUNT(C11:C81)>2,IF(J28>0.05,\"לא מובהק - אין הבדל \",\"מובהק - יש הבדל \"),\"\")","v":""}]
[null,19,null,null,"",null,null,null,"מקדם המתאם בין המשתנים",{"$f":"IF(COUNT(D11:D81)>2,CORREL(C11:C81,D11:D81),\"\")","v":""}]
[null,20,null,null,"",null,null,null,"השווואת ממוצעים ",null,null,null,null,null,"קשר בין המדידות"]
[null,21,null,null,""]
[null,22,null,null,""]
[null,23,null,null,""]
[null,24,null,null,""]
[null,25,null,null,""]
[null,26,null,null,""]
[null,27,null,null,""]
[null,28,null,null,""]
[null,29,null,null,""]
[null,30,null,null,""]
[null,31,null,null,""]
[null,32,null,null,""]
[null,33,null,null,""]
[null,34,null,null,""]
[null,35,null,null,""]
[null,36,null,null,""]
[null,37,null,null,""]
[null,38,null,null,""]
[null,39,null,null,""]
[null,40,null,null,""]
[null,41,null,null,""]
[null,42,null,null,""]
[null,43,null,null,""]
[null,44,null,null,""]
[null,45,null,null,""]
[null,46,null,null,""]
[null,47,null,null,""]
[null,48,null,null,""]
[null,49,null,null,""]
[null,50,null,null,""]
[null,51,null,null,""]
[null,52,null,null,""]
[null,53,null,null,""]
[null,54,null,null,""]
[null,55,null,null,""]
[null,56,null,null,""]
[null,57,null,null,""]
[null,58,null,null,""]
[null,59,null,null,""]
[null,60,null,null,""]
[null,61,null,null,""]
[null,62,null,null,""]
[null,63,null,null,""]
[null,64,null,null,""]
[null,65,null,null,""]
[null,66,null,null,{"$f":"IF(C76>0,C76-D76,\"\")","v":""}]
[null,67,null,null,""]
[null,68,null,null,""]
[null,69,null,null,""]
[null,70,null,null,""]
[null,71,null,null,""]

{"sheet":"מבחן t בלתי תלוי מסטר  all  ","index":42,"n_rows":183,"n_cols":21,"rows_kept":183,"cut":false,"hidden":false,"merged":[]}
["מבחן t    בלתי תלוי - השוואת ממוצעי שני מדגמים עבור מדגמים בלתי מזווגים  (שתי קבוצות)"]
["כאשר ההנחה היא שקיים שיוויון בשונויות של שתי הקבוצות - ערכים גולמיים "]
["הוראות"]
["הכנס  שמות למשתנים (קבוצות ) של המשתנה הבלתי תלוי בתאים ב B9 ו C9   "]
["הכנס את הנתונים של הנבדקים בכל אחת מהקבוצות",null,null,null,null,null,null,null,null,null,null,null,null,null,null,null,null,null,null,null,"שונות משותפת - הנחה של שויוון שונויות "]
["תוצאות  המבחן הסטטיסטי יופיעו באופן אוטומטי . בדוק את התוצאות  ותן פשרנות בהתאם "]
["להדפסת התוצאות לחץ על הדפסה "]
["לעיבוד נוסף לחץ על נקה "]
[]
["מס' נבדק ","הכנס שם","הכנס שם"]
[1,null,null,null,null,"סטטיסיטקה תיאורית"]
[2,null,null,null,"קבוצה",{"$f":"B10","v":"הכנס שם"},{"$f":"C10","v":"הכנס שם"}]
[3,null,null,null,"מס נבדקים",{"$f":"IF(COUNT(B11:B180)>0,COUNT(B11:B180),\"\")","v":""},{"$f":"IF(COUNT(C11:C180)>0,COUNT(C11:C180),\"\")","v":""}]
[4,null,null,null,"ממוצע",{"$f":"IF(COUNT(B11:B180)>0,AVERAGE(B11:B180),\"\")","v":""},{"$f":"IF(COUNT(C11:C180)>0,AVERAGE(C11:C180),\"\")","v":""},null,null,null,"df",null,"דרגות החופש של המבחן ",{"$f":"IF(COUNT(F13:G13)=2,F13+G13-2,\"\")","v":""},null,null,null,null,null,null,"מבחן t  בלתי תלוי "]
[5,null,null,null,"סטיית תקן",{"$f":"IF(COUNT(B11:B180)>0,STDEV(B11:B180),\"\")","v":""},{"$f":"IF(COUNT(C11:C180)>0,STDEV(C11:C180),\"\")","v":""},null,null,null,null,null,"שונות משותפת ",{"$f":"IF(COUNT(F13:G13)=2,(((F13-1)*F15^2)+((G13-1)*G15^2))/N14,\"\")","v":""}]
[6,null,null,null,null,null,null,null,null,null,null,null,"סטיית תקן משותפת ",{"$f":"IF(COUNT(F13:G13)=2,SQRT(N15),\"\")","v":""}]
[7]
[8,null,null,null,null,null,null,null,null,null,null,null,"ההפרש בין הממוצעים ",{"$f":"IF(COUNT(F13:G13)=2,(F14-G14),\"\")","v":""}]
[9,null,null,null,null,null,null,null,null,null,null,null," סטטיסטי t",{"$f":"IF(COUNT(F13:G13)=2,N18/(SQRT(N15/F13+N15/G13)),\"\")","v":""}]
[10,null,null,null,null,null,null,null,null,null,null,null,"ערך קריטי מבחן חד צדדי 0.05",{"$f":"IF(COUNT(F13:G13)=2,TINV(0.1,N14),\"\")","v":""}]
[11,null,null,null,null,null,null,null,null,null,null,null,"ערך קריטי מבחן חד צדדי 0.01",{"$f":"IF(COUNT(F13:G13)=2,TINV(0.02,N14),\"\")","v":""}]
[12,null,null,null,null,null,null,null,null,null,null,"( Sig ) מובהקות חד צדדית ","=  P  (a') ",{"$f":"IF(COUNT(F13:G13)=2,TDIST(ABS(N19),N14,1),\"\")","v":""},{"$f":"IF(COUNT(F13:G13)=2,IF(N22>0.05,\"לא מובהק - אין הבדל \",\"מובהק - יש הבדל \"),\"\")","v":""},null,null,null,null,null,"מבחן t ללא הנחה של שויוון שונוויות "]
[13,null,null,null,null,null,null,null,null,null,null,null,"ערך קריטי מבחן דו צדדי 0.05",{"$f":"IF(COUNT(F13:G13)=2,TINV(0.05,N14),\"\")","v":""}]
[14,null,null,null,null,null,null,null,null,null,null,null,"ערך קריטי מבחן דו צדדי 0.01",{"$f":"IF(COUNT(F13:G13)=2,TINV(0.01,N14),\"\")","v":""}]
[15,null,null,null,null,null,null,null,null,null,null,"( Sig ) מובהקות דו צדדית ","=  P  (a') ",{"$f":"IF(COUNT(F13:G13)=2,TDIST(ABS(N19),N14,2),\"\")","v":""},{"$f":"IF(COUNT(F13:G13)=2,IF(N25>0.05,\"לא מובהק - אין הבדל \",\"מובהק - יש הבדל \"),\"\")","v":""}]
[16]
[17,null,null,null,"פרשנות "]
[18,null,null,null,null,null,null,null,{"$f":"IF(COUNT(F13:G13)=2,IF(N22>0.05,\"  אין די ראיות לקבוע שהקבוצות שונות במבחן חד צדדי \",\"יש די ראיות לקבוע שהקבוצות שונות במבחן חד צדדי\"),\"\")","v":""},{"$f":"IF(COUNT(F13:G13)=2,IF(N22>0.05,\"ברמת מובהקות של 0.05\",\"ברמת מובהקות של \"),\"\")","v":""},"גודל האפקט :","Cohen’s d  = Effect Size",null,null,{"$f":"IF(COUNT(B11:B180)>0,IF(N22>0.05,\" \",N22),\"\")","v":""}]
[19]
[20,null,null,null,null,null,null,null,{"$f":"IF(COUNT(B11:B180)>0,IF(N25>0.056,\"  אין די ראיות לקבוע שהקבוצות שונות במבחן דו צדדי \",\"יש די ראיות לקבוע שהקבוצות שונות במבחן דו צדדי\"),\"\")","v":""},{"$f":"IF(COUNT(F13:G13)=2,IF(N25>0.05,\"ברמת מובהקות של 0.05\",\"ברמת מובהקות של \"),\"\")","v":""},null,{"$f":"IF(COUNT(F13:G13)=2,IF(N25<0.01,\"P<0.01\",IF(N25<0.055,\"p<0.05\",\"\")),\"\")","v":""},null,null,{"$f":"IF(COUNT(B11:B180)>0,IF(N25>0.05,\" \",N25),\"\")","v":""}]
[21,null,null,null,null,null,null,null,null,null,{"$f":"IF(COUNT(F13:G13)=2,ABS(F14-G14)/N16,\"\")","v":""},"d="]
[22,null,null,null,{"$f":"IF(COUNT(B11:B180)>0,IF(N25>0.05,\" \",\"כדי לתת פרשנות לממצאים\"),\"\")","v":""},null,null,null,null,null,{"$f":"IF(LEN(K31)=0,\"\",IF(K31>0.8,\"גודל אפקט חזק \",IF(K31>0.5,\"גודל אפקט בינוני חזוק\",IF(K31>0.2,\"גודל אפקט בינוני \",\"גודל אפקט חלש \"))))","v":""}]
[23,null,null,null,{"$f":"IF(COUNT(B11:B180)>0,IF(N25>0.05,\" \",\"יש להסתכל על הממוצעים ולראות לטובת איזה קבוצה\"),\"\")","v":""}]
[24,null,null,null,{"$f":"F15","v":""}]
[25,null,null,null,{"$f":"G15","v":""},null,null,"כתיבה מדעית ",null,null,null,{"$f":"IF(COUNT(F13:G13)=2,IF(N25<0.01,CONCATENATE(M36,\"<0.01\"),IF(N25<0.05,CONCATENATE(M36,\"<0.05\"),CONCATENATE(M36, \">0.05\"))),\"\")","v":""},null,null,{"$f":"IF(COUNT(F15:G15)>1,CONCATENATE(M36,\"=\",TEXT(N25,\"0.00\")),\"\")","v":""}]
[26,null,null,null,null,null,null,null,null,null,null,null,{"$f":"IF(COUNT(B11:B180)>2,CONCATENATE(\"t(\",N14,\")=\",LEFT(N19,5),\",  P \"),\"\")","v":""}]
[27,null,null,null,{"$f":"F12","v":"הכנס שם"},{"$f":"G12","v":"הכנס שם"}]
[28,null,null,null,{"$f":"F14","v":""},{"$f":"G14","v":""}]
[29,null,null,null,{"$f":"F15","v":""},{"$f":"G15","v":""}]
[30]
[31]
[32]
[33]
[34]
[35]
[36]
[37]
[38]
[39]
[40]
[41]
[42]
[43]
[44]
[45]
[46]
[47]
[48]
[49]
[50]
[51]
[52]
[53]
[54]
[55]
[56]
[57]
[58]
[59]
[60]
[61]
[62]
[63]
[64]
[65]
[66]
[67]
[68]
[69]
[70]
[71]
[72]
[73]
[74]
[75]
[76]
[77]
[78]
[79]
[80]
[81]
[82]
[83]
[84]
[85]
[86]
[87]
[88]
[89]
[90]
[91]
[92]
[93]
[94]
[95]
[96]
[97]
[98]
[99]
[100]
[101]
[102]
[103]
[104]
[105]
[106]
[107]
[108]
[109]
[110]
[111]
[112]
[113]
[114]
[115]
[116]
[117]
[118]
[119]
[120]
[121]
[122]
[123]
[124]
[125]
[126]
[127]
[128]
[129]
[130]
[131]
[132]
[133]
[134]
[135]
[136]
[137]
[138]
[139]
[140]
[141]
[142]
[143]
[144]
[145]
[146]
[147]
[148]
[149]
[150]
[151]
[152]
[153]
[154]
[155]
[156]
[157]
[158]
[159]
[160]
[161]
[162]
[163]
[164]
[165]
[166]
[167]
[168]
[169]
[170]
["ממוצע",{"$f":"IF(COUNT(B11:B180)>0,AVERAGE(B11:B180),\"\")","v":""},{"$f":"IF(COUNT(C11:C180)>0,AVERAGE(C11:C180),\"\")","v":""}]
["סטיית תקן",{"$f":"IF(COUNT(B11:B180)>0,STDEV(B11:B180),\"\")","v":""},{"$f":"IF(COUNT(C11:C180)>0,STDEV(C11:C180),\"\")","v":""}]
["N",{"$f":"IF(COUNT(B11:B180)>0,COUNT(B11:B180),\"\")","v":""},{"$f":"IF(COUNT(C11:C180)>0,COUNT(C11:C180),\"\")","v":""}]

{"sheet":"מבחן t בלתי תלוי מסטר  all  1","index":43,"n_rows":64,"n_cols":19,"rows_kept":64,"cut":false,"hidden":false,"merged":[]}
["מבחן t    בלתי תלוי - השוואת ממוצעי שני מדגמים עבור מדגמים בלתי מזווגים  (שתי קבוצות)"]
["כאשר ההנחה היא שקיים שיוויון בשונויות של שתי הקבוצות - ערכים גולמיים "]
["הוראות",null,null,null,null,null,null,null,null,null,null,null,null,null,null,null,null,null,"שונות משותפת - הנחה של שויוון שונויות "]
["הכנס  שמות למשתנים (קבוצות ) של המשתנה הבלתי תלוי בתאים ב B9 ו C9   "]
["הכנס את הנתונים של הנבדקים בכל אחת מהקבוצות"]
["תוצאות  המבחן הסטטיסטי יופיעו באופן אוטומטי . בדוק את התוצאות  ותן פשרנות בהתאם "]
["להדפסת התוצאות לחץ על הדפסה "]
["לעיבוד נוסף לחץ על נקה "]
[]
["מס' נבדק ","הכנס שם","הכנס שם"]
[1,null,null,null,null,"סטטיסיטקה תיאורית"]
[2,null,null,null,"קבוצה",{"$f":"B10","v":"הכנס שם"},{"$f":"C10","v":"הכנס שם"},null,null,null,null,null,null,null,null,null,null,null,"מבחן t  בלתי תלוי "]
[3,null,null,null,"מס נבדקים",{"$f":"IF(COUNT(B11:B61)>0,B64,\"\")","v":""},{"$f":"IF(COUNT(C11:C61)>0,C64,\"\")","v":""}]
[4,null,null,null,"ממוצע",{"$f":"IF(COUNT(B11:B61)>0,B62,\"\")","v":""},{"$f":"IF(COUNT(C11:C61)>0,C62,\"\")","v":""},null,null,null,"df",null,"דרגות החופש של המבחן ",{"$f":"IF(COUNT(B11:B61)>0,F13+G13-2,\"\")","v":""}]
[5,null,null,null,"סטיית תקן",{"$f":"IF(COUNT(B11:B61)>0,B63,\"\")","v":""},{"$f":"IF(COUNT(C11:C61)>0,C63,\"\")","v":""},null,null,null,null,null,"שונות משותפת ",{"$f":"IF(COUNT(B11:B61)>0,(((F13-1)*F15^2)+((G13-1)*G15^2))/N14,\"\")","v":""}]
[6,null,null,null,null,null,null,null,null,null,null,null,"סטיית תקן משותפת ",{"$f":"IF(COUNT(B11:B61)>0,SQRT(N15),\"\")","v":""}]
[7]
[8,null,null,null,null,null,null,null,null,null,null,null,"ההפרש בין הממוצעים ",{"$f":"IF(COUNT(B11:B61)>0,ABS(F14-G14),\"\")","v":""}]
[9,null,null,null,null,null,null,null,null,null,null,null," סטטיסטי t",{"$f":"IF(COUNT(B11:B61),N18/(SQRT(N15/F13+N15/G13)),\"\")","v":""}]
[10,null,null,null,null,null,null,null,null,null,null,null,"ערך קריטי מבחן חד צדדי 0.05",{"$f":"IF(COUNT(B11:B61),TINV(0.1,N14),\"\")","v":""},null,null,null,null,"מבחן t ללא הנחה של שויוון שונוויות "]
[11,null,null,null,null,null,null,null,null,null,null,null,"ערך קריטי מבחן חד צדדי 0.01",{"$f":"IF(COUNT(B11:B61),TINV(0.02,N14),\"\")","v":""}]
[12,null,null,null,null,null,null,null,null,null,null,"( Sig ) מובהקות חד צדדית ","=  P  (a') ",{"$f":"IF(COUNT(B11:B61)>0,TDIST(N19,N14,1),\"\")","v":""},{"$f":"IF(COUNT(B13:B83)>2,IF(N22>0.05,\"לא מובהק - אין הבדל \",\"מובהק - יש הבדל \"),\"\")","v":""}]
[13,null,null,null,null,null,null,null,null,null,null,null,"ערך קריטי מבחן דו צדדי 0.05",{"$f":"IF(COUNT(B11:B61)>0,TINV(0.05,N14),\"\")","v":""}]
[14,null,null,null,null,null,null,null,null,null,null,null,"ערך קריטי מבחן דו צדדי 0.01",{"$f":"IF(COUNT(B11:B61)>0,TINV(0.01,N14),\"\")","v":""}]
[15,null,null,null,null,null,null,null,null,null,null,"( Sig ) מובהקות דו צדדית ","=  P  (a') ",{"$f":"IF(COUNT(B11:B61)>0,TDIST(N19,N14,2),\"\")","v":""},{"$f":"IF(COUNT(B15:B85)>2,IF(N25>0.05,\"לא מובהק - אין הבדל \",\"מובהק - יש הבדל \"),\"\")","v":""}]
[16]
[17,null,null,null,"פרשנות "]
[18,null,null,null,null,null,null,null,{"$f":"IF(COUNT(B11:B61)>0,IF(N21>0.05,\"  אין די ראיות לקבוע שהקבוצות שונות במבחן חד צדדי \",\"יש די ראיות לקבוע שהקבוצות שונות במבחן חד צדדי\"),\"\")","v":""},{"$f":"IF(COUNT(B11:B61)>0,IF(N21>0.05,\"ברמת מובהקות של 0.05\",\"ברמת מובהקות של \"),\"\")","v":""},null,{"$f":"IF(COUNT(B11:B21)>1,IF(N21<0.01,\"P < 0.01\",IF(N21<0.055,\"p < 0.05\",\"\")),\"\")","v":""},null,null,{"$f":"IF(COUNT(B11:B61)>0,IF(N21>0.05,\" \",N21),\"\")","v":""}]
[19]
[20,null,null,null,null,null,null,null,{"$f":"IF(COUNT(B11:B61)>0,IF(N23>0.056,\"  אין די ראיות לקבוע שהקבוצות שונות במבחן דו צדדי \",\"יש די ראיות לקבוע שהקבוצות שונות במבחן דו צדדי\"),\"\")","v":""},{"$f":"IF(COUNT(B11:B61)>0,IF(N23>0.05,\"ברמת מובהקות של 0.05\",\"ברמת מובהקות של \"),\"\")","v":""},null,{"$f":"IF(COUNT(B11:B21)>1,IF(N23<0.01,\"P<0.01\",IF(N23<0.055,\"p<0.05\",\"\")),\"\")","v":""},null,null,{"$f":"IF(COUNT(B11:B61)>0,IF(N23>0.05,\" \",N23),\"\")","v":""}]
[21]
[22,null,null,null,{"$f":"IF(COUNT(B11:B61)>0,IF(N23>0.05,\" \",\"כדי לתת פרשנות לממצאים\"),\"\")","v":""}]
[23,null,null,null,{"$f":"IF(COUNT(B11:B61)>0,IF(N23>0.05,\" \",\"יש להסתכל על הממוצעים ולראות לטובת איזה קבוצה\"),\"\")","v":""}]
[24,null,null,null,{"$f":"F15","v":""}]
[25,null,null,null,{"$f":"G15","v":""},null,null,"כתיבה מדעית ",null,null,null,{"$f":"IF(COUNT(B11:B38)>1,IF(N23<0.01,CONCATENATE(M36,\"<0.01\"),IF(N23<0.05,CONCATENATE(M36,\"<0.05\"),CONCATENATE(M36, \">0.05\"))),\"\")","v":""},null,null,{"$f":"IF(COUNT(F15:G15)>1,CONCATENATE(M36,\"=\",TEXT(N23,\"0.00\")),\"\")","v":""}]
[26,null,null,null,null,null,null,null,null,null,null,null,{"$f":"IF(COUNT(B11:B61)>2,CONCATENATE(\"t(\",N14,\")=\",LEFT(N19,5),\",  P \"),\"\")","v":""}]
[27,null,null,null,{"$f":"F12","v":"הכנס שם"},{"$f":"G12","v":"הכנס שם"}]
[28,null,null,null,{"$f":"F14","v":""},{"$f":"G14","v":""}]
[29,null,null,null,{"$f":"F15","v":""},{"$f":"G15","v":""}]
[30]
[31]
[32]
[33]
[34]
[35]
[36]
[37]
[38]
[39]
[40]
[41]
[42]
[43]
[44]
[45]
[46]
[47]
[48]
[49]
[50]
[51]
["ממוצע",{"$f":"IF(COUNT(B11:B61)>0,AVERAGE(B11:B61),\"\")","v":""},{"$f":"IF(COUNT(C11:C61)>0,AVERAGE(C11:C61),\"\")","v":""}]
["סטיית תקן",{"$f":"IF(COUNT(B11:B61)>0,STDEV(B11:B61),\"\")","v":""},{"$f":"IF(COUNT(C11:C61)>0,STDEV(C11:C61),\"\")","v":""}]
["N",{"$f":"IF(COUNT(B11:B61)>0,COUNT(B11:B61),\"\")","v":""},{"$f":"IF(COUNT(C11:C61)>0,COUNT(C11:C61),\"\")","v":""}]

{"sheet":"q","index":44,"n_rows":24,"n_cols":34,"rows_kept":24,"cut":false,"hidden":false,"merged":[[0,11,1,11],[0,12,0,20],[0,24,1,24],[0,25,0,33],[0,0,1,0],[0,1,0,9]]}
["df לטווח שגיאה","k= Number of Treatments K = מספר הטיפולים",null,null,null,null,null,null,null,null,null,"df לטווח שגיאה","k= Number of Treatments K = מספר הטיפולים",null,null,null,null,null,null,null,null,null,null,null,"df לטווח שגיאה","k= Number of Treatments K = מספר הטיפולים"]
[null,{"$f":"LEFT(Z2,2)","v":"2 "},"3 ","4 ","5 ","6 ","7 ","3 ","9 ","10",null,null,{"$f":"LEFT(Z2,2)","v":"2 "},{"$f":"LEFT(AA2,2)","v":"3 "},"4 ","5 ","6 ","7 ","3 ","9 ","10",null,null,null,null,"2 2","3 3","4 4","5 5","6 6","7 7","3 3","9 9","10 10"]
[{"$f":"LEFT(Y3,2)","v":"5 "},{"$f":"LEFT(Z3,4)","v":"3.64"},{"$f":"LEFT(AA3,4)","v":"4.60"},{"$f":"LEFT(AB3,4)","v":"5.22"},{"$f":"LEFT(AC3,4)","v":"5.67"},{"$f":"LEFT(AD3,4)","v":"6.03"},{"$f":"LEFT(AE3,4)","v":"6.33"},{"$f":"LEFT(AF3,4)","v":"6.58"},{"$f":"LEFT(AG3,4)","v":"6.80"},{"$f":"LEFT(AH3,4)","v":"6.99"},null,{"$f":"LEFT(Y3,2)","v":"5 "},{"$f":"RIGHT(Z3,4)","v":"5.70"},{"$f":"RIGHT(AA3,4)","v":"4.60"},{"$f":"RIGHT(AB3,4)","v":"5.22"},"8.42","8.91","6.33","9.67","9.97","6.99",null,null,null,"5 5","3.64 5.70 3.64 5.70","4.60 4.60","5.22 5.22","5.67 8.42 5.67 8.42","6.03 8.91 6.03 8.91","6.33 6.33","6.58 9.67 6.58 9.67","6.80 9.97 6.80 9.97","6.99 6.99"]
["6 ","3.46","4.34","4.90","5.30","5.63","5.90","6.12","6.32","6.49",null,{"$f":"LEFT(Y4,2)","v":"6 "},{"$f":"RIGHT(Z4,4)","v":"5.24"},{"$f":"RIGHT(AA4,4)","v":"6.33"},{"$f":"RIGHT(AB4,4)","v":"7.03"},{"$f":"RIGHT(AC4,4)","v":"7.56"},{"$f":"RIGHT(AD4,4)","v":"5.63"},{"$f":"RIGHT(AE4,4)","v":"8.32"},{"$f":"RIGHT(AF4,4)","v":"8.61"},{"$f":"RIGHT(AG4,4)","v":"8.87"},{"$f":"RIGHT(AH4,4)","v":"6.49"},null,null,null,"6 6","3.46 5.24 3.46 5.24","4.34 6.33 4.34 6.33","4.90 7.03 4.90 7.03","5.30 7.56 5.30 7.56","5.63 5.63","5.90 8.32 5.90 8.32","6.12 8.61 6.12 8.61","6.32 8.87 6.32 8.87","6.49 6.49"]
["7 ","3.34","4.16","4.68","5.06","5.36","5.61","5.82","6.00","6.16",null,"7 ","4.95","5.92","6.54","7.01","7.37","7.68","5.82","6.00","6.16",null,null,null,"7 7","3.34 4.95 3.34 4.95","4.16 5.92 4.16 5.92","4.68 6.54 4.68 6.54","5.06 7.01 5.06 7.01","5.36 7.37 5.36 7.37","5.61 7.68 5.61 7.68","5.82 5.82","6.00 6.00","6.16 6.16"]
["8 ","3.26","4.04","4.53","4.89","5.17","5.40","5.60","5.77","5.92",null,"8 ","4.75","5.64","6.20","6.62","6.96","7.24","7.47","7.68","7.86",null,null,null,"8 8","3.26 4.75 3.26 4.75","4.04 5.64 4.04 5.64","4.53 6.20 4.53 6.20","4.89 6.62 4.89 6.62","5.17 6.96 5.17 6.96","5.40 7.24 5.40 7.24","5.60 7.47 5.60 7.47","5.77 7.68 5.77 7.68","5.92 7.86 5.92 7.86"]
["9 ","3.20","3.95","4.41","4.76","5.02","5.24","5.43","5.59","5.74",null,"9 ","4.60","5.43","5.96","6.35","6.66","6.91","7.13","7.33","7.49",null,null,null,"9 9","3.20 4.60 3.20 4.60","3.95 5.43 3.95 5.43","4.41 5.96 4.41 5.96","4.76 6.35 4.76 6.35","5.02 6.66 5.02 6.66","5.24 6.91 5.24 6.91","5.43 7.13 5.43 7.13","5.59 7.33 5.59 7.33","5.74 7.49 5.74 7.49"]
["10","3.15","3.88","4.33","4.65","4.91","5.12","5.30","5.46","5.60",null,"10","4.48","5.27","5.77","6.14","6.43","6.67","6.87","7.05","7.21",null,null,null,"10 10","3.15 4.48 3.15 4.48","3.88 5.27 3.88 5.27","4.33 5.77 4.33 5.77","4.65 6.14 4.65 6.14","4.91 6.43 4.91 6.43","5.12 6.67 5.12 6.67","5.30 6.87 5.30 6.87","5.46 7.05 5.46 7.05","5.60 7.21 5.60 7.21"]
["11","3.11","3.82","4.26","4.57","4.82","5.03","5.20","5.35","5.49",null,"11","4.39","5.15","5.62","5.97","6.25","6.48","6.67","6.84","6.99",null,null,null,"11 11","3.11 4.39 3.11 4.39","3.82 5.15 3.82 5.15","4.26 5.62 4.26 5.62","4.57 5.97 4.57 5.97","4.82 6.25 4.82 6.25","5.03 6.48 5.03 6.48","5.20 6.67 5.20 6.67","5.35 6.84 5.35 6.84","5.49 6.99 5.49 6.99"]
["12","3.08","3.77","4.20","4.51","4.75","4.95","5.12","5.27","5.39",null,"12","4.32","5.05","5.50","5.84","6.10","6.32","6.51","6.67","6.81",null,null,null,"12 12","3.08 4.32 3.08 4.32","3.77 5.05 3.77 5.05","4.20 5.50 4.20 5.50","4.51 5.84 4.51 5.84","4.75 6.10 4.75 6.10","4.95 6.32 4.95 6.32","5.12 6.51 5.12 6.51","5.27 6.67 5.27 6.67","5.39 6.81 5.39 6.81"]
["13","3.06","3.73","4.15","4.45","4.69","4.88","5.05","5.19","5.32",null,"13","4.26","4.96","5.40","5.73","5.98","6.19","6.37","6.53","6.67",null,null,null,"13 13","3.06 4.26 3.06 4.26","3.73 4.96 3.73 4.96","4.15 5.40 4.15 5.40","4.45 5.73 4.45 5.73","4.69 5.98 4.69 5.98","4.88 6.19 4.88 6.19","5.05 6.37 5.05 6.37","5.19 6.53 5.19 6.53","5.32 6.67 5.32 6.67"]
["14","3.03","3.70","4.11","4.41","4.64","4.83","4.99","5.13","5.25",null,"14","4.21","4.89","5.32","5.63","5.88","6.08","6.26","6.41","6.54",null,null,null,"14 14","3.03 4.21 3.03 4.21","3.70 4.89 3.70 4.89","4.11 5.32 4.11 5.32","4.41 5.63 4.41 5.63","4.64 5.88 4.64 5.88","4.83 6.08 4.83 6.08","4.99 6.26 4.99 6.26","5.13 6.41 5.13 6.41","5.25 6.54 5.25 6.54"]
["15","3.01","3.67","4.08","4.37","4.59","4.78","4.94","5.08","5.20",null,"15","4.17","4.84","5.25","5.56","5.80","5.99","6.16","6.31","6.44",null,null,null,"15 15","3.01 4.17 3.01 4.17","3.67 4.84 3.67 4.84","4.08 5.25 4.08 5.25","4.37 5.56 4.37 5.56","4.59 5.80 4.59 5.80","4.78 5.99 4.78 5.99","4.94 6.16 4.94 6.16","5.08 6.31 5.08 6.31","5.20 6.44 5.20 6.44"]
["16","3.00","3.65","4.05","4.33","4.56","4.74","4.90","5.03","5.15",null,"16","4.13","4.79","5.19","5.49","5.72","5.92","6.08","6.22","6.35",null,null,null,"16 16","3.00 4.13 3.00 4.13","3.65 4.79 3.65 4.79","4.05 5.19 4.05 5.19","4.33 5.49 4.33 5.49","4.56 5.72 4.56 5.72","4.74 5.92 4.74 5.92","4.90 6.08 4.90 6.08","5.03 6.22 5.03 6.22","5.15 6.35 5.15 6.35"]
["17","2.98","3.63","4.02","4.30","4.52","4.70","4.86","4.99","5.11",null,"17","4.10","4.74","5.14","5.43","5.66","5.85","6.01","6.15","6.27",null,null,null,"17 17","2.98 4.10 2.98 4.10","3.63 4.74 3.63 4.74","4.02 5.14 4.02 5.14","4.30 5.43 4.30 5.43","4.52 5.66 4.52 5.66","4.70 5.85 4.70 5.85","4.86 6.01 4.86 6.01","4.99 6.15 4.99 6.15","5.11 6.27 5.11 6.27"]
["18","2.97","3.61","4.00","4.28","4.49","4.67","4.82","4.96","5.07",null,"18","4.07","4.70","5.09","5.38","5.60","5.79","5.94","6.08","6.20",null,null,null,"18 18","2.97 4.07 2.97 4.07","3.61 4.70 3.61 4.70","4.00 5.09 4.00 5.09","4.28 5.38 4.28 5.38","4.49 5.60 4.49 5.60","4.67 5.79 4.67 5.79","4.82 5.94 4.82 5.94","4.96 6.08 4.96 6.08","5.07 6.20 5.07 6.20"]
["19","2.96","3.59","3.98","4.25","4.47","4.65","4.79","4.92","5.04",null,"19","4.05","4.67","5.05","5.33","5.55","5.73","5.89","6.02","6.14",null,null,null,"19 19","2.96 4.05 2.96 4.05","3.59 4.67 3.59 4.67","3.98 5.05 3.98 5.05","4.25 5.33 4.25 5.33","4.47 5.55 4.47 5.55","4.65 5.73 4.65 5.73","4.79 5.89 4.79 5.89","4.92 6.02 4.92 6.02","5.04 6.14 5.04 6.14"]
["20","2.95","3.58","3.96","4.23","4.45","4.62","4.77","4.90","5.01",null,"20","4.02","4.64","5.02","5.29","5.51","5.69","5.84","5.97","6.09",null,null,null,"20 20","2.95 4.02 2.95 4.02","3.58 4.64 3.58 4.64","3.96 5.02 3.96 5.02","4.23 5.29 4.23 5.29","4.45 5.51 4.45 5.51","4.62 5.69 4.62 5.69","4.77 5.84 4.77 5.84","4.90 5.97 4.90 5.97","5.01 6.09 5.01 6.09"]
["24","2.92","3.53","3.90","4.17","4.37","4.54","4.68","4.81","4.92",null,"24","3.96","4.55","4.91","5.17","5.37","5.54","5.69","5.81","5.92",null,null,null,"24 24","2.92 3.96 2.92 3.96","3.53 4.55 3.53 4.55","3.90 4.91 3.90 4.91","4.17 5.17 4.17 5.17","4.37 5.37 4.37 5.37","4.54 5.54 4.54 5.54","4.68 5.69 4.68 5.69","4.81 5.81 4.81 5.81","4.92 5.92 4.92 5.92"]
["30","2.89","3.49","3.85","4.10","4.30","4.46","4.60","4.72","4.82",null,"30","3.89","4.45","4.80","5.05","5.24","5.40","5.54","5.65","5.76",null,null,null,"30 30","2.89 3.89 2.89 3.89","3.49 4.45 3.49 4.45","3.85 4.80 3.85 4.80","4.10 5.05 4.10 5.05","4.30 5.24 4.30 5.24","4.46 5.40 4.46 5.40","4.60 5.54 4.60 5.54","4.72 5.65 4.72 5.65","4.82 5.76 4.82 5.76"]
["40","2.86","3.44","3.79","4.04","4.23","4.39","4.52","4.63","4.73",null,"40","3.82","4.37","4.70","4.93","5.11","5.26","5.39","5.50","5.60",null,null,null,"40 40","2.86 3.82 2.86 3.82","3.44 4.37 3.44 4.37","3.79 4.70 3.79 4.70","4.04 4.93 4.04 4.93","4.23 5.11 4.23 5.11","4.39 5.26 4.39 5.26","4.52 5.39 4.52 5.39","4.63 5.50 4.63 5.50","4.73 5.60 4.73 5.60"]
["60","2.83","3.40","3.74","3.98","4.16","4.31","4.44","4.55","4.65",null,"60","3.76","4.28","4.59","4.82","4.99","5.13","5.25","5.36","5.45",null,null,null,"60 60","2.83 3.76 2.83 3.76","3.40 4.28 3.40 4.28","3.74 4.59 3.74 4.59","3.98 4.82 3.98 4.82","4.16 4.99 4.16 4.99","4.31 5.13 4.31 5.13","4.44 5.25 4.44 5.25","4.55 5.36 4.55 5.36","4.65 5.45 4.65 5.45"]
["12","2.80","3.36","3.68","3.92","4.10","4.24","4.36","4.47","4.56",null,"12","3.70","4.20","4.50","4.71","4.87","5.01","5.12","5.21","5.30",null,null,null,"120 120","2.80 3.70 2.80 3.70","3.36 4.20 3.36 4.20","3.68 4.50 3.68 4.50","3.92 4.71 3.92 4.71","4.10 4.87 4.10 4.87","4.24 5.01 4.24 5.01","4.36 5.12 4.36 5.12","4.47 5.21 4.47 5.21","4.56 5.30 4.56 5.30"]
["infinity אין סוף","2.77","3.31","3.63","3.86","4.03","4.17","4.29","4.39","4.47",null,"in","3.64","4.12","4.40","4.60","4.76","4.88","4.99","5.08","5.16",null,null,null,"infinity אין סוף","2.77 3.64 2.77 3.64","3.31 4.12 3.31 4.12","3.63 4.40 3.63 4.40","3.86 4.60 3.86 4.60","4.03 4.76 4.03 4.76","4.17 4.88 4.17 4.88","4.29 4.99 4.29 4.99","4.39 5.08 4.39 5.08","4.47 5.16 4.47 5.16"]

{"sheet":"מבחן t בלתי תלוי   מסטר","index":45,"n_rows":32,"n_cols":16,"rows_kept":32,"cut":false,"hidden":false,"merged":[[8,1,8,2]]}
["מבחן t    בלתי תלוי - השוואת ממוצעי שני מדגמים עבור מדגמים בלתי מזווגים  (שתי קבוצות)"]
["כאשר ההנחה היא שקיים שיוויון בשונויות של שתי הקבוצות - נתונים מקובצים של הקבוצות"]
["הוראות"]
["הכנס  שמות למשתנים (קבוצות ) של המשתנה הבלתי תלוי בתאים ב B10 ו C10   "]
["הכנס את הממוצע , סטיית התקן ומספר הנבדקים של כל קבוצה "]
["התוצאות יופיעו באופן אוטומטי . בדוק את התוצאות  ותן פשרנות בהתאם ",null,null,null,null,null,null,null,null,null,"שונות משותפת "]
["להדפסת התוצאות לחץ על הדפסה "]
["לעיבוד נוסף לחץ על נקה "]
[null,"סטטיסיטקה תיאורית"]
[null,"קבוצה 1","קבוצה 2"]
["ממוצע",null,null,null,null,"df",null,"דרגות החופש של המבחן ",{"$f":"IF(COUNT(B13:C13)=2,B13+C13-2,\"\")","v":""},null,"מבחן t  בלתי תלוי "]
["סטיית תקן",null,null,null,null,null,null,"שונות ממוצעת ",{"$f":"IF(COUNT(B12:C12)=2,(((B13-1)*B12^2)+(C13-1)*(C12^2))/I11,\"\")","v":""}]
["מס נבדקים",null,null,null,null,null,null,"סטיית תקן ממוצעת ",{"$f":"IF(COUNT(B12:C13)=4,SQRT(I12),\"\")","v":""}]
[]
[null,null,null,null,null,null,null,"ההפרש בין הממוצעים ",{"$f":"IF(B11>0,ABS(B11-C11),\"\")","v":""}]
[null,null,null,null,null,null,null," סטטיסטי t",{"$f":"IF(B11>0,I15/(SQRT(I12/B13+I12/C13)),\"\")","v":""}]
[null,null,null,null,null,null,null,"ערך קריטי מבחן חד צדדי ",{"$f":"IF(B11>0,TINV(0.1,I11),\"\")","v":""}]
[null,null,null,null,null,null,"( Sig ) מובהקות חד צדדית ","=  P  (a') ",{"$f":"IF(B11>0,TDIST(I16,I11,1),\"\")","v":""},{"$f":"IF(B11>0,IF(I18>0.05,\"לא מובהק - אין הבדל \",\"מובהק - יש הבדל \"),\"\")","v":""}]
[null,null,null,null,null,null,null,"ערך קריטי מבחן דו צדדי ",{"$f":"IF(B11>0,TINV(0.05,I11),\"\")","v":""}]
[null,null,null,null,null,null,"( Sig ) מובהקות דו צדדית ","=  P  (a') ",{"$f":"IF(B11>0,TDIST(I16,I11,2),\"\")","v":""},{"$f":"IF(B11>0,IF(I20>0.05,\"לא מובהק - אין הבדל \",\"מובהק - יש הבדל \"),\"\")","v":""}]
[null,null,null,null,null,null,null,null,null,null,null,null,"גודל אפקט ",null,null,"Cohen’s d  = Effect Size"]
[null,null,null,null,null,"פרשנות "]
[null,null,null,null,null,null,null,null,{"$f":"IF(COUNT(B11:C11)>1,IF(I18>0.05,\"  אין די ראיות לקבוע שהקבוצות שונות במבחן חד צדדי \",\"יש די ראיות לקבוע שהקבוצות שונות במבחן חד צדדי\"),\"\")","v":""},{"$f":"IF(COUNT(B11:C11)>1,IF(I18>0.05,\"ברמת מובהקות של 0.05\",\"ברמת מובהקות של \"),\"\")","v":""},null,{"$f":"IF(COUNT(B11:C11)>1,IF(I18<0.01,\"P < 0.01\",IF(I18<0.055,\"p < 0.05\",\"\")),\"\")","v":""},null,{"$f":"IF(COUNT(B11:C11)>1,IF(I18>0.05,\" \",I18),\"\")","v":""},null,{"$f":"IF(COUNT(J6:K6)=2,IF(R18<0.01,\"P<0.01\",IF(R18<0.055,\"p<0.05\",\"\")),\"\")","v":""}]
[null,null,null,null,null,null,null,null,null,null,null,null,null,null,{"$f":"IF(COUNT(B11:C13)=6,ABS(B11-C11)/I13,\"\")","v":""},"d="]
[null,null,null,null,null,null,null,null,{"$f":"IF(COUNT(B11:C11)>1,IF(I20>0.05,\"  אין די ראיות לקבוע שהקבוצות שונות במבחן דו צדדי \",\"יש די ראיות לקבוע שהקבוצות שונות במבחן דו צדדי\"),\"\")","v":""},{"$f":"IF(COUNT(B11:C11)>1,IF(I20>0.05,\"ברמת מובהקות של 0.05\",\"ברמת מובהקות של \"),\"\")","v":""},null,{"$f":"IF(COUNT(B11:C11)>1,IF(I20<0.01,\"P < 0.01\",IF(I20<0.055,\"p < 0.05\",\"\")),\"\")","v":""},null,{"$f":"IF(COUNT(B11:C11)>1,IF(I20>0.05,\" \",I20),\"\")","v":""},{"$f":"IF(LEN(O24)=0,\"\",IF(O24>0.8,\"גודל אפקט חזק \",IF(O24>0.5,\"גודל אפקט בינוני חזוק\",IF(O24>0.2,\"גודל אפקט בינוני \",\"גודל אפקט חלש \"))))","v":""}]
[]
[null,null,null,null,null,null,{"$f":"IF(COUNT(B11:C11)>0,IF(I18>0.05,\" \",\"כדי לתת פרשנות לממצאים\"),\"\")","v":""}]
[null,null,null,null,null,null,{"$f":"IF(COUNT(B11:C11)>0,IF(I18>0.05,\" \",\"יש להסתכל על הממוצעים ולראות לטובת איזה קבוצה\"),\"\")","v":""}]
[null,"נתונים לגרף ",null,null,null,{"$f":"F10","v":0},"כתיבה מדעית ",null,null,{"$f":"IF(COUNT(B11:C11)>1,IF(I20<0.01,CONCATENATE(J32,\"<0.01\"),IF(I20<0.05,CONCATENATE(J32,\"<0.05\"),CONCATENATE(J32, \">0.05\"))),\"\")","v":""}]
[null,null,{"$f":"H1","v":0},null,null,null,null,null,null,null,null,null,{"$f":"IF(COUNT(B11:C11)>1,CONCATENATE(J32,\"=\",TEXT(I20,\"0.00\")),\"\")","v":""}]
[null,{"$f":"B10","v":"קבוצה 1"}]
[null,{"$f":"C10","v":"קבוצה 2"},null,null,null,null,null,null,null,{"$f":"IF(COUNT(B11:C11)>1,CONCATENATE(\"t(\",I11,\")=\",LEFT(I16,5),\",  P\"),\"\")","v":""}]

{"sheet":"מבחן t בלתי תלוי   מסטר (1)","index":46,"n_rows":32,"n_cols":18,"rows_kept":32,"cut":false,"hidden":false,"merged":[[8,1,8,2]]}
["מבחן t    בלתי תלוי - השוואת ממוצעי שני מדגמים עבור מדגמים בלתי מזווגים  (שתי קבוצות)"]
["כאשר ההנחה היא שקיים שיוויון בשונויות של שתי הקבוצות - נתונים מקובצים של הקבוצות"]
["הוראות"]
["הכנס  שמות למשתנים (קבוצות ) של המשתנה הבלתי תלוי בתאים ב B10 ו C10   ",null,null,null,null,null,null,null,null,null,null,"שונות משותפת "]
["הכנס את הממוצע , סטיית התקן ומספר הנבדקים של כל קבוצה "]
["התוצאות יופיעו באופן אוטומטי . בדוק את התוצאות  ותן פשרנות בהתאם "]
["להדפסת התוצאות לחץ על הדפסה "]
["לעיבוד נוסף לחץ על נקה "]
[null,"סטטיסיטקה תיאורית",null,null,null,null,null,null,null,null,null,"מבחן t  בלתי תלוי "]
[null,"קבוצה 1","קבוצה 2"]
["ממוצע",null,null,null,null,"df",null,"דרגות החופש של המבחן ",{"$f":"IF(B11>0,B13+C13-2,\"\")","v":""}]
["סטיית תקן",null,null,null,null,null,null,"שונות ממוצעת ",{"$f":"IF(B12>0,(((B13-1)*B12^2)+(C13-1)*(C12^2))/I11,\"\")","v":""}]
["מס נבדקים",null,null,null,null,null,null,"סטיית תקן ממוצעת ",{"$f":"IF(B11>0,SQRT(I12),\"\")","v":""}]
[]
[null,null,null,null,null,null,null,"ההפרש בין הממוצעים ",{"$f":"IF(B11>0,ABS(B11-C11),\"\")","v":""}]
[null,null,null,null,null,null,null," סטטיסטי t",{"$f":"IF(B11>0,I15/(SQRT(I12/B13+I12/C13)),\"\")","v":""}]
[null,null,null,null,null,null,null,"ערך קריטי מבחן חד צדדי ",{"$f":"IF(B11>0,TINV(0.1,I11),\"\")","v":""}]
[null,null,null,null,null,null,"( Sig ) מובהקות חד צדדית ","=  P  (a') ",{"$f":"IF(B11>0,TDIST(I16,I11,1),\"\")","v":""},{"$f":"IF(B11>0,IF(I18>0.05,\"לא מובהק - אין הבדל \",\"מובהק - יש הבדל \"),\"\")","v":""}]
[null,null,null,null,null,null,null,"ערך קריטי מבחן דו צדדי ",{"$f":"IF(B11>0,TINV(0.05,I11),\"\")","v":""}]
[null,null,null,null,null,null,"( Sig ) מובהקות דו צדדית ","=  P  (a') ",{"$f":"IF(B11>0,TDIST(I16,I11,2),\"\")","v":""},{"$f":"IF(B11>0,IF(I20>0.05,\"לא מובהק - אין הבדל \",\"מובהק - יש הבדל \"),\"\")","v":""}]
[]
[null,null,null,null,null,"פרשנות "]
[null,null,null,null,null,null,null,null,{"$f":"IF(COUNT(B11:C11)>1,IF(I18>0.05,\"  אין די ראיות לקבוע שהקבוצות שונות במבחן חד צדדי \",\"יש די ראיות לקבוע שהקבוצות שונות במבחן חד צדדי\"),\"\")","v":""},{"$f":"IF(COUNT(B11:C11)>1,IF(I18>0.05,\"ברמת מובהקות של 0.05\",\"ברמת מובהקות של \"),\"\")","v":""},null,{"$f":"IF(COUNT(B11:C11)>1,IF(I18<0.01,\"P < 0.01\",IF(I18<0.055,\"p < 0.05\",\"\")),\"\")","v":""},null,{"$f":"IF(COUNT(B11:C11)>1,IF(I18>0.05,\" \",I18),\"\")","v":""}]
[]
[null,null,null,null,null,null,null,null,{"$f":"IF(COUNT(B11:C11)>1,IF(I20>0.05,\"  אין די ראיות לקבוע שהקבוצות שונות במבחן דו צדדי \",\"יש די ראיות לקבוע שהקבוצות שונות במבחן דו צדדי\"),\"\")","v":""},{"$f":"IF(COUNT(B11:C11)>1,IF(I20>0.05,\"ברמת מובהקות של 0.05\",\"ברמת מובהקות של \"),\"\")","v":""},null,{"$f":"IF(COUNT(B11:C11)>1,IF(I20<0.01,\"P < 0.01\",IF(I20<0.055,\"p < 0.05\",\"\")),\"\")","v":""},null,{"$f":"IF(COUNT(B11:C11)>1,IF(I20>0.05,\" \",I20),\"\")","v":""}]
[]
[null,null,null,null,null,null,{"$f":"IF(COUNT(B11:C11)>0,IF(I18>0.05,\" \",\"כדי לתת פרשנות לממצאים\"),\"\")","v":""}]
[null,null,null,null,null,null,{"$f":"IF(COUNT(B11:C11)>0,IF(I18>0.05,\" \",\"יש להסתכל על הממוצעים ולראות לטובת איזה קבוצה\"),\"\")","v":""}]
[null,"נתונים לגרף ",null,null,null,{"$f":"F10","v":0}]
[null,null,{"$f":"H1","v":0},null,null,null,"כתיבה מדעית ",null,null,{"$f":"IF(COUNT(B11:C11)>1,IF(I20<0.01,CONCATENATE(J32,\"<0.01\"),IF(I20<0.05,CONCATENATE(J32,\"<0.05\"),CONCATENATE(J32, \">0.05\"))),\"\")","v":""},null,null,{"$f":"IF(COUNT(B11:C11)>1,CONCATENATE(J32,\"=\",TEXT(I20,\"0.00\")),\"\")","v":""},null,null,null,null,{"$f":"IF(COUNT(I13:I63)>0,IF(R23>0.05,\" \",R23),\"\")","v":""}]
[null,{"$f":"B10","v":"קבוצה 1"}]
[null,{"$f":"C10","v":"קבוצה 2"},null,null,null,null,null,null,null,{"$f":"IF(COUNT(B11:C11)>1,CONCATENATE(\"t(\",I11,\")=\",LEFT(I16,5),\",  P\"),\"\")","v":""},null,null,null,null,null,null,null,{"$f":"IF(COUNT(I13:I63)>0,IF(R25>0.05,\" \",R25),\"\")","v":""}]

{"sheet":"chi 2  X2","index":47,"n_rows":46,"n_cols":19,"rows_kept":46,"cut":false,"hidden":false,"merged":[[0,0,0,8],[43,0,44,0],[10,2,10,3],[12,0,13,0],[16,2,16,3],[18,0,19,0],[27,2,27,3],[41,2,41,3]]}
["מבחן חי בריבוע לבדיקת קשר/הבדל בין משתנים קטגורייליים   2X2"]
["הוראות"]
["הכנס את שמות המשתנים  בתיבות הצהובות  A13 ו C11"]
["הכנס שמות לערכים בתיבות האפורות  בשורה 12 ובעמודה B"]
["הכנס את הערכים (שכיחויות ) בטבלה בתאים הכתומים C13:D14"]
["תוצאות המבחן יופיעו באופן אוטומטי"]
["להדפסת התוצאות לחץ על כפתור ההדפסה (בתפריט אקסל) "]
["לעיבוד נוסף לחץ על נקה "]
[]
[null,null,null,null,null,null,null,"החלט איזה תצוגה מתאימה  לנתונים שלך מבחינת המשמעות והפרשנות שלהם "]
["observed","משתנה","הכנס שם"]
[null,null,"הכנס שם","הכנס שם","סה\"כ"]
["הכנס שם","הכנס שם",null,null,{"$f":"IF(LEN(C13)>0,SUM(C13:D13),\"\")","v":""}]
[null,"הכנס שם",null,null,{"$f":"IF(LEN(C14)>0,SUM(C14:D14),\"\")","v":""}]
[null,"סה\"כ",{"$f":"IF(LEN(C13)>0,SUM(C13:C14),\"\")","v":""},{"$f":"IF(LEN(D13)>0,SUM(D13:D14),\"\")","v":""},{"$f":"IF(LEN(C13)>0,SUM(C15:D15),\"\")","v":""}]
[]
["expected",null,{"$f":"C11","v":"הכנס שם"}]
[null,null,{"$f":"C12","v":"הכנס שם"},{"$f":"D12","v":"הכנס שם"},"סה\"כ"]
[{"$f":"A13","v":"הכנס שם"},{"$f":"B13","v":"הכנס שם"},{"$f":"IF(LEN(C13)>0,(C$15*$E13)/$E$15,\"\")","v":""},{"$f":"IF(LEN(D13)>0,(D$15*$E13)/$E$15,\"\")","v":""},{"$f":"E13","v":""}]
[null,{"$f":"B14","v":"הכנס שם"},{"$f":"IF(LEN(C14)>0,(C$15*$E14)/$E$15,\"\")","v":""},{"$f":"IF(LEN(D14)>0,(D$15*$E14)/$E$15,\"\")","v":""},{"$f":"E14","v":""}]
[null,"סה\"כ",{"$f":"IF(LEN(C13)>0,C15,\"\")","v":""},{"$f":"IF(LEN(D13)>0,D15,\"\")","v":""},{"$f":"E15","v":""}]
[]
[null,"הפרשים",{"$f":"IF(LEN(C13)>0,((C13-C19)^2)/C19,\"\")","v":""},{"$f":"IF(LEN(D13)>0,((D13-D19)^2)/D19,\"\")","v":""},null,{"$f":"IF(COUNT(C13:C14)>1,1,\"\")","v":""},"df","דרגות חופש  "]
[null,null,{"$f":"IF(LEN(C14)>0,((C14-C20)^2)/C20,\"\")","v":""},{"$f":"IF(LEN(D14)>0,((D14-D20)^2)/D20,\"\")","v":""},null,{"$f":"IF(LEN(C13)>0,SUM(C23:D24),\"\")","v":""},"c2","ערך סטטיסטי"]
[null,null,null,null,null,{"$f":"IF(LEN(C13)>0,CHIINV(0.05,F23),\"\")","v":""},"crit","ערך קריטי 0.05",null,{"$f":"IF(COUNT(C13:C14)>1,IF(F24>F25,\"מובהק - יש די ראיות  להגיד  שיש  קשר  בין  המשתנים  ברמת מובהקות  של  \",\"לא מובהק - אין  די ראיות להגיד שיש קשר בין המשתנים ברמת מובהקות של 0.05  \"),\"\")","v":""},null,null,null,null,null,{"$f":"IF(COUNT(C13:C14)>1,IF(F27<0.01,\"P < 0.01\",IF(F27<0.055,\"p < 0.05\",\"\")),\"\")","v":""},{"$f":"IF(F24>F25,F27,\"\")","v":""}]
[null,null,null,null,null,{"$f":"IF(LEN(C13)>0,CHIINV(0.01,F23),\"\")","v":""},"crit","ערך קריטי 0.01"]
[null,null,null,null,null,{"$f":"IF(COUNT(C13:C14)>1,CHIDIST(F24,F23),\"\")","v":""},"P","( Sig ) מובהקות דו צדדית "," (a') ",null,null,null,"כתיבה מדעית ",null,null,{"$f":"IF(COUNT(C13:C14)>1,IF(F27<0.01,CONCATENATE(P29,\"<0.01\"),IF(F27<0.05,CONCATENATE(P29,\"<0.05\"),CONCATENATE(P29, \">0.05\"))),\"\")","v":""},null,null,{"$f":"CONCATENATE(P29,TEXT(F27,\"0.00\"))","v":""}]
[null,null,"משתנה 1",null,null,{"$f":"IF(COUNT(C13:D14)=4,_xlfn.CHISQ.TEST(C13:D14,C19:D20),\"\")","v":""}]
[null,null,{"$f":"C12","v":"הכנס שם"},{"$f":"D12","v":"הכנס שם"},{"$f":"E12","v":"סה\"כ"},null,null,"פרשנות ",null,null,null,null,null,null,null,{"$f":"IF(COUNT(C13:C14)>1,CONCATENATE(G24,\"(\",F23,\") = \",LEFT(F24,5),\",  R\"),\"\")","v":""}]
[null,"N",{"$f":"IF(LEN(C13)>0,C13,\"\")","v":""},{"$f":"IF(LEN(D13)>0,D13,\"\")","v":""},{"$f":"IF(LEN(C13)>0,E13,\"\")","v":""},null,null,"כדי לתת פרשנות משמעותית  לתוצאות יש לבטא את הערכים באחוזים "]
[{"$f":"B13","v":"הכנס שם"},"אחוז משורה",{"$f":"IF(LEN(C13),C13/$E13,\"\")","v":""},{"$f":"IF(LEN(D13)>0,D13/$E13,\"\")","v":""},null,null,null,"ולהשוות את הקטגוריות הרלוונטיות "]
[null,"אחוז מעמודה",{"$f":"IF(LEN(C13)>0,(C13)/C$15,\"\")","v":""},{"$f":"IF(LEN(D13)>0,D13/D$15,\"\")","v":""},{"$f":"IF(LEN(C13)>0,E13/E$15,\"\")","v":""},null,"משמעות:"]
[null,"אחוז מהס\"כ",{"$f":"IF(LEN(C13)>0,C13/$E$15,\"\")","v":""},{"$f":"IF(LEN(C13)>0,D13/$E$15,\"\")","v":""},null,null,"אם הערך הסטטיסטי גדול יותר מהערך הקריטי המשמעות שיש די ראיות לדחות את השערת האפס ולהגיד שיש קשר בין המשתנים"]
[null,"N",{"$f":"IF(LEN(C14)>0,C14,\"\")","v":""},{"$f":"IF(LEN(D13)>0,D14,\"\")","v":""},{"$f":"IF($C$13>0,E14,\"\")","v":""}]
[{"$f":"B14","v":"הכנס שם"},"אחוז משורה",{"$f":"IF(LEN(C14)>0,C14/$E14,\"\")","v":""},{"$f":"IF(LEN(D14)>0,D14/$E14,\"\")","v":""},null,null,"המשמעות של  P - רמת המבוהקות של המבחן -  האומרת שבמידה וקובעים שיש קשר בין המשתנים בכמה אחוז מהמדגמים ניתן לדאוג"]
[null,"אחוז מעמודה",{"$f":"IF(LEN(C14)>0,C14/C$15,\"\")","v":""},{"$f":"IF(D14>0,D14/D$15,\"\")","v":""},{"$f":"IF(C$13>0,E14/E$15,\"\")","v":""},null,"אם הערך שיוצא הוא מעל 0.05 (כלומר 5%) המשמעות היא שיש סיכוי מ 5 אחוז לטעות בקביעה שיש קשר בין המשתנים ונקבע שאין די ראיות להגיד שיש קשר בין המשתנים"]
[null,"אחוז מהס\"כ",{"$f":"IF(LEN(C14)>0,C14/$E$15,\"\")","v":""},{"$f":"IF(LEN(D14)>0,D14/$E$15,\"\")","v":""}]
[null,"סה\"כ",{"$f":"IF(LEN(C$13)>0,C15,\"\")","v":""},{"$f":"IF(LEN(D$13)>0,D15,\"\")","v":""},{"$f":"IF(E13>0,E15,\"\")","v":""},null,{"$f":"IF(COUNT(C19:C20)>0,\"מספר התאים שהערך הצפוי שלהם קטן מ 5 הוא \",\"\")","v":""},null,null,null,{"$f":"COUNTIF(C19:D20,\"<5\")","v":0}]
[null,null,{"$f":"IF(LEN(C13)>0,C15/$E$15,\"\")","v":""},{"$f":"IF(LEN(D13)>0,D15/$E$15,\"\")","v":""}]
[]
[]
["observed","משתנה","הכנס שם"]
[null,null,{"$f":"C12","v":"הכנס שם"},{"$f":"D12","v":"הכנס שם"},"סה\"כ"]
["הכנס שם",{"$f":"B13","v":"הכנס שם"},{"$f":"IF(COUNT(C13:C14)>0,C13/C$15,\"\")","v":""},{"$f":"IF(COUNT(D13:D14)>0,D13/D$15,\"\")","v":""},{"$f":"IF(LEN(C44)>0,SUM(C44:D44),\"\")","v":""}]
[null,{"$f":"B14","v":"הכנס שם"},{"$f":"IF(COUNT(C14:C15)>0,C14/C$15,\"\")","v":""},{"$f":"IF(COUNT(D14:D15)>0,D14/D$15,\"\")","v":""},{"$f":"IF(LEN(C45)>0,SUM(C45:D45),\"\")","v":""}]
[null,"סה\"כ",{"$f":"IF(LEN(C44)>0,SUM(C44:C45),\"\")","v":""},{"$f":"IF(LEN(D44)>0,SUM(D44:D45),\"\")","v":""},{"$f":"IF(LEN(C44)>0,SUM(C46:D46),\"\")","v":""}]

{"sheet":"chi 2  X2 (1)","index":48,"n_rows":46,"n_cols":19,"rows_kept":46,"cut":false,"hidden":false,"merged":[[41,2,41,3],[43,0,44,0],[0,0,0,8],[10,2,10,3],[12,0,13,0],[16,2,16,3],[18,0,19,0],[27,2,27,3]]}
["מבחן חי בריבוע לבדיקת קשר/הבדלים בין משתנים קטגורייליים   2X2"]
["הוראות"]
["הכנס את שמות המשתנים   בתיבות הצהובות  C7 A9"]
["הכנס שמות לערכים בתיבות האפורות  בשורה 8 ובעמודה B"]
["הכנס את הערכים (שכיחויות ) בטבלה בתאים הכתומים C7:D9"]
["להדפסת התוצאות לחץ על הדפסה "]
["לעיבוד נוסף לחץ על נקה "]
[]
[null,null,null,null,null,null,null,"החלט איזה תצוגה מתאימה  לנתונים שלך מבחינת המשמעות והפרשנות שלהם "]
[]
["observed","משתנה","הכנס שם"]
[null,null,"הכנס שם","הכנס שם","סה\"כ"]
["הכנס שם","הכנס שם",null,null,{"$f":"IF(LEN(C13)>0,SUM(C13:D13),\"\")","v":""}]
[null,"הכנס שם",null,null,{"$f":"IF(LEN(C14)>0,SUM(C14:D14),\"\")","v":""}]
[null,"סה\"כ",{"$f":"IF(LEN(C13)>0,SUM(C13:C14),\"\")","v":""},{"$f":"IF(LEN(D13)>0,SUM(D13:D14),\"\")","v":""},{"$f":"IF(LEN(C13)>0,SUM(C15:D15),\"\")","v":""}]
[]
["expected",null,{"$f":"C11","v":"הכנס שם"}]
[null,null,{"$f":"C12","v":"הכנס שם"},{"$f":"D12","v":"הכנס שם"},"סה\"כ"]
[{"$f":"A13","v":"הכנס שם"},{"$f":"B13","v":"הכנס שם"},{"$f":"IF(C13>0,(C$15*$E13)/$E$15,\"\")","v":""},{"$f":"IF(D13>0,(D$15*$E13)/$E$15,\"\")","v":""},{"$f":"E13","v":""}]
[null,{"$f":"B14","v":"הכנס שם"},{"$f":"IF(C14>0,(C$15*$E14)/$E$15,\"\")","v":""},{"$f":"IF(D14>0,(D$15*$E14)/$E$15,\"\")","v":""},{"$f":"E14","v":""}]
[null,"סה\"כ",{"$f":"IF(C13>0,C15,\"\")","v":""},{"$f":"IF(D13>0,D15,\"\")","v":""},{"$f":"E15","v":""}]
[]
[null,"הפרשים",{"$f":"IF(C13>0,((C13-C19)^2)/C19,\"\")","v":""},{"$f":"IF(D13>0,((D13-D19)^2)/D19,\"\")","v":""},null,{"$f":"IF(COUNT(C13:C14)>1,1,\"\")","v":""},"df","דרגות חופש  "]
[null,null,{"$f":"IF(C14>0,((C14-C20)^2)/C20,\"\")","v":""},{"$f":"IF(D14>0,((D14-D20)^2)/D20,\"\")","v":""},null,{"$f":"IF(C13>0,SUM(C23:D24),\"\")","v":""},"c2","ערך סטטיסטי"]
[null,null,null,null,null,{"$f":"IF(C13>0,CHIINV(0.05,F23),\"\")","v":""},"crit","ערך קריטי 0.05",null,{"$f":"IF(COUNT(C13:C14)>1,IF(F24>F25,\"מובהק - יש די ראיות  להגיד  שיש  קשר  בין  המשתנים  ברמת מובהקות  של  \",\"לא מובהק - אין  די ראיות להגיד שיש קשר בין המשתנים ברמת מובהקות של 0.05  \"),\"\")","v":""},null,null,null,null,null,{"$f":"IF(COUNT(C13:C14)>1,IF(F27<0.01,\"P < 0.01\",IF(F27<0.055,\"p < 0.05\",\"\")),\"\")","v":""},{"$f":"IF(F24>F25,F27,\"\")","v":""}]
[null,null,null,null,null,{"$f":"IF(C13>0,CHIINV(0.01,F23),\"\")","v":""},"crit","ערך קריטי 0.01"]
[null,null,null,null,null,{"$f":"IF(COUNT(C13:C14)>1,CHIDIST(F24,F23),\"\")","v":""},"P","( Sig ) מובהקות דו צדדית "," (a') ",null,null,null,"כתיבה מדעית ",null,null,{"$f":"IF(COUNT(C13:C14)>1,IF(F27<0.01,CONCATENATE(P29,\"<0.01\"),IF(F27<0.05,CONCATENATE(P29,\"<0.05\"),CONCATENATE(P29, \">0.05\"))),\"\")","v":""},null,null,{"$f":"CONCATENATE(P29,TEXT(F27,\"0.00\"))","v":""}]
[null,null,"משתנה 1"]
[null,null,{"$f":"C12","v":"הכנס שם"},{"$f":"D12","v":"הכנס שם"},{"$f":"E12","v":"סה\"כ"},null,null,"פרשנות ",null,null,null,null,null,null,null,{"$f":"IF(COUNT(C13:C14)>1,CONCATENATE(G24,\"(\",F23,\") = \",LEFT(F24,5),\",  R\"),\"\")","v":""}]
[null,"N",{"$f":"IF($C$13>0,C13,\"\")","v":""},{"$f":"IF($C$13>0,D13,\"\")","v":""},{"$f":"IF($C$13>0,E13,\"\")","v":""},null,null,"כדי לתת פרשנות משמעותית  לתוצאות יש לבטא את הערכים באחוזים "]
[{"$f":"B13","v":"הכנס שם"},"אחוז משורה",{"$f":"IF(C13>0,C13/$E13,\"\")","v":""},{"$f":"IF(D13>0,D13/$E13,\"\")","v":""},null,null,null,"ולהשוות את הקטגוריות הרלוונטיות "]
[null,"אחוז מעמודה",{"$f":"IF(C13>0,C13/C$15,\"\")","v":""},{"$f":"IF(D13>0,D13/D$15,\"\")","v":""},{"$f":"IF(C13>0,E13/E$15,\"\")","v":""},null,"משמעות:"]
[null,"אחוז מהס\"כ",{"$f":"IF(C13>0,C13/$E$15,\"\")","v":""},{"$f":"IF(D13>0,D13/$E$15,\"\")","v":""},null,null,"אם הערך הסטטיסטי גדול יותר מהערך הקריטי המשמעות שיש די ראיות לדחות את השערת האפס ולהגיד שיש קשר בין המשתנים"]
[null,"N",{"$f":"IF($C$13>0,C14,\"\")","v":""},{"$f":"IF($C$13>0,D14,\"\")","v":""},{"$f":"IF($C$13>0,E14,\"\")","v":""}]
[{"$f":"B14","v":"הכנס שם"},"אחוז משורה",{"$f":"IF(C14>0,C14/$E14,\"\")","v":""},{"$f":"IF(D14>0,D14/$E14,\"\")","v":""},null,null,"המשמעות של  P - רמת המבוהקות של המבחן -  האומרת שבמידה וקובעים שיש קשר בין המשתנים בכמה אחוז מהמדגמים ניתן לדאוג"]
[null,"אחוז מעמודה",{"$f":"IF(C14>0,C14/C$15,\"\")","v":""},{"$f":"IF(D14>0,D14/D$15,\"\")","v":""},{"$f":"IF(C$13>0,E14/E$15,\"\")","v":""},null,"אם הערך שיוצא הוא מעל 0.05 (כלומר 5%) המשמעות היא שיש סיכוי מ 5 אחוז לטעות בקביעה שיש קשר בין המשתנים ונקבע שאין די ראיות להגיד שיש קשר בין המשתנים"]
[null,"אחוז מהס\"כ",{"$f":"IF(C14>0,C14/$E$15,\"\")","v":""},{"$f":"IF(D14>0,D14/$E$15,\"\")","v":""}]
[null,"סה\"כ",{"$f":"IF(C$13>0,C15,\"\")","v":""},{"$f":"IF(D$13>0,D15,\"\")","v":""},{"$f":"IF(E13>0,E15,\"\")","v":""}]
[null,null,{"$f":"IF(C13>0,C15/$E$15,\"\")","v":""},{"$f":"IF(D13>0,D15/$E$15,\"\")","v":""}]
[]
[]
["observed","משתנה","הכנס שם"]
[null,null,"הכנס שם","הכנס שם","סה\"כ"]
["הכנס שם","הכנס שם",{"$f":"IF(COUNT(C13:C14)>0,C13/C$15,\"\")","v":""},{"$f":"IF(COUNT(D13:D14)>0,D13/D$15,\"\")","v":""},{"$f":"IF(C44>0,SUM(C44:D44),\"\")","v":0}]
[null,"הכנס שם",{"$f":"IF(COUNT(C14:C15)>0,C14/C$15,\"\")","v":""},{"$f":"IF(COUNT(D14:D15)>0,D14/D$15,\"\")","v":""},{"$f":"IF(C45>0,SUM(C45:D45),\"\")","v":0}]
[null,"סה\"כ",{"$f":"IF(C44>0,SUM(C44:C45),\"\")","v":0},{"$f":"IF(D44>0,SUM(D44:D45),\"\")","v":0},{"$f":"IF(C44>0,SUM(C46:D46),\"\")","v":0}]

{"sheet":"chi 2  X3","index":49,"n_rows":51,"n_cols":20,"rows_kept":51,"cut":false,"hidden":false,"merged":[[0,0,0,8],[47,0,48,0],[27,2,27,3],[45,2,45,3],[8,2,8,3],[10,0,11,0],[15,2,15,3],[17,0,18,0],[27,5,27,6]]}
["מבחן חי בריבוע לבדיקת קשר/הבדלים בין משתנים קטגורייליים   3X2"]
["הכנס את שמות המשתנים  בתיבות הצהובות  A11 ו C9"]
["הכנס שמות לערכים בתיבות האפורות  בשורה 10 ובעמודה B"]
["הכנס את הערכים (שכיחויות ) בטבלה בתאים הכתומים C11:D13"]
["תוצאות המבחן יופיעו באופן אוטומטי"]
["להדפסת התוצאות לחץ על כפתור ההדפסה (בתפריט אקסל) "]
["לעיבוד נוסף לחץ על נקה ",null,null,null,null,null,null,null,"החלט איזה תצוגה מתאימה  לנתונים שלך מבחינת המשמעות והפרשנות שלהם "]
[]
["observed","משתנה","הכנס שם"]
[null,null,"הכנס שם","הכנס שם","סה\"כ"]
["הכנס שם","הכנס שם",null,null,{"$f":"IF(LEN(C11)>0,SUM(C11:D11),\"\")","v":""}]
[null,"הכנס שם",null,null,{"$f":"IF(LEN(C12)>0,SUM(C12:D12),\"\")","v":""}]
[null,"הכנס שם",null,null,{"$f":"IF(LEN(C13)>0,SUM(C13:D13),\"\")","v":""}]
[null,"סה\"כ",{"$f":"IF(LEN(C11)>0,SUM(C11:C13),\"\")","v":""},{"$f":"IF(LEN(D11)>0,SUM(D11:D13),\"\")","v":""},{"$f":"IF(LEN(C11)>0,SUM(C14:D14),\"\")","v":""}]
[]
["expected",null,{"$f":"C9","v":"הכנס שם"}]
[null,null,{"$f":"C10","v":"הכנס שם"},{"$f":"D10","v":"הכנס שם"},"סה\"כ"]
[{"$f":"A11","v":"הכנס שם"},{"$f":"B11","v":"הכנס שם"},{"$f":"IF(LEN(C11)>0,(C$14*$E11)/$E$14,\"\")","v":""},"",{"$f":"E11","v":""}]
[null,{"$f":"B12","v":"הכנס שם"},"","",{"$f":"E12","v":""}]
[null,{"$f":"B13","v":"הכנס שם"},"","",{"$f":"E13","v":""}]
[null,"סה\"כ",{"$f":"IF(LEN(C11)>0,C14,\"\")","v":""},{"$f":"IF(LEN(D11)>0,D14,\"\")","v":""},{"$f":"E14","v":""}]
[]
[null,"הפרשים",{"$f":"IF(LEN(C11)>0,((C11-C18)^2)/C18,\"\")","v":""},{"$f":"IF(LEN(D11)>0,((D11-D18)^2)/D18,\"\")","v":""},null,{"$f":"IF(COUNT(C11:C13)>2,2,\"\")","v":""},"df","דרגות חופש  "]
[null,null,{"$f":"IF(LEN(C12)>0,((C12-C19)^2)/C19,\"\")","v":""},{"$f":"IF(LEN(D13)>0,((D12-D19)^2)/D19,\"\")","v":""},null,{"$f":"IF(LEN(C11)>0,SUM(C23:D25),\"\")","v":""},"c2","ערך סטטיסטי"]
[null,null,{"$f":"IF(LEN(C13)>0,((C13-C20)^2)/C20,\"\")","v":""},{"$f":"IF(LEN(D13)>0,((D13-D20)^2)/D20,\"\")","v":""},null,{"$f":"IF(LEN(C11)>0,CHIINV(0.05,F23),\"\")","v":""},"crit","ערך קריטי 0.05",null,{"$f":"IF(COUNT(C13:C14)>1,IF(F24>F25,\"מובהק - יש די ראיות  להגיד  שיש  קשר  בין  המשתנים  ברמת מובהקות  של  \",\"לא מובהק - אין  די ראיות להגיד שיש קשר בין המשתנים ברמת מובהקות של 0.05  \"),\"\")","v":""},null,null,null,null,null,{"$f":"IF(F24>F25,F27,\"\")","v":""}]
[null,null,null,null,null,{"$f":"IF(LEN(C11)>0,CHIINV(0.01,F23),\"\")","v":""},"crit","ערך קריטי 0.01"]
[null,null,null,null,null,{"$f":"IF(COUNT(C13:C14)>1,CHIDIST(F24,F23),\"\")","v":""},"P","( Sig ) מובהקות דו צדדית "," (a') ",null,null,null,"כתיבה מדעית ",null,null,{"$f":"IF(COUNT(C11:C13)>1,IF(F27<0.01,CONCATENATE(P29,\" < 0.01\"),IF(F27<0.05,CONCATENATE(P29,\" < 0.05\"),CONCATENATE(P29, \" > 0.05\"))),\"\")","v":""},null,null,null,{"$f":"CONCATENATE(P29,TEXT(F27,\"0.00\"))","v":""}]
[null,null,"משתנה 1",null,null,"מדד על שם קרמר",null,{"$f":"IF(COUNT(C11:D13)=6,SQRT((F24/E14)),\"\")","v":""}]
[null,null,{"$f":"C10","v":"הכנס שם"},{"$f":"D10","v":"הכנס שם"},{"$f":"E10","v":"סה\"כ"},null,null,"פרשנות ",null,null,null,null,null,null,null,{"$f":"IF(COUNT(C13:C14)>1,CONCATENATE(G24,\"(\",F23,\")=\",LEFT(F24,5),\",  R\"),\"\")","v":""}]
[null,"N",{"$f":"IF(LEN(C11)>0,C11,\"\")","v":""},{"$f":"IF(LEN(D11)>0,D11,\"\")","v":""},{"$f":"IF(LEN(E11)>0,E11,\"\")","v":""},null,null,"כדי לתת פרשנות משמעותית  לתוצאות יש לבטא את הערכים באחוזים "]
[{"$f":"B11","v":"הכנס שם"},"אחוז משורה",{"$f":"IF(LEN(C11)>0,C11/$E11,\"\")","v":""},{"$f":"IF(LEN(D11)>0,D11/$E11,\"\")","v":""},null,null,null,"ולהשוות את הקטגוריות הרלוונטיות "]
[null,"אחוז מעמודה",{"$f":"IF(LEN(C11)>0,C11/C$14,\"\")","v":""},{"$f":"IF(LEN(D11)>0,D11/D$14,\"\")","v":""},{"$f":"IF(LEN(C11)>0,E11/E$14,\"\")","v":""}]
[null,"אחוז מהס\"כ",{"$f":"IF(LEN(C11)>0,C11/$E$14,\"\")","v":""},{"$f":"IF(LEN(D11)>0,D11/$E$14,\"\")","v":""},null,null,"משמעות:"]
[null,"N",{"$f":"IF($C$11>0,C12,\"\")","v":""},{"$f":"IF(LEN($C$11)>0,D12,\"\")","v":""},{"$f":"IF($C$11>0,E12,\"\")","v":""},null,"אם הערך הסטטיסטי גדול יותר מהערך הקריטי המשמעות שיש די ראיות לדחות את השערת האפס ולהגיד שיש קשר בין המשתנים"]
[{"$f":"B12","v":"הכנס שם"},"אחוז משורה",{"$f":"IF(LEN(C12)>0,C12/$E12,\"\")","v":""},{"$f":"IF(LEN(D12)>0,D12/$E12,\"\")","v":""}]
[null,"אחוז מעמודה",{"$f":"IF(LEN(C12)>0,C12/C$14,\"\")","v":""},{"$f":"IF(LEN(D12)>0,D12/D$14,\"\")","v":""},{"$f":"IF(C$11>0,E12/E$14,\"\")","v":""},null,"המשמעות של  P - רמת המבוהקות של המבחן -  האומרת שבמידה וקובעים שיש קשר בין המשתנים בכמה אחוז מהמדגמים ניתן לדאוג"]
[null,"אחוז מהס\"כ",{"$f":"IF(LEN(C12)>0,C12/$E$14,\"\")","v":""},{"$f":"IF(LEN(D12)>0,D12/$E$14,\"\")","v":""},null,null,"אם הערך שיוצא הוא מעל 0.05 (כלומר 5%) המשמעות היא שיש סיכוי מ 5 אחוז לטעות בקביעה שיש קשר בין המשתנים ונקבע שאין די ראיות להגיד שיש קשר בין המשתנים"]
[null,"N",{"$f":"IF(LEN(C11)>0,C13,\"\")","v":""},{"$f":"IF(LEN(D11)>0,D13,\"\")","v":""},{"$f":"IF(LEN(E11)>0,E13,\"\")","v":""}]
[{"$f":"B13","v":"הכנס שם"},"אחוז משורה",{"$f":"IF(LEN(C11)>0,C13/$E13,\"\")","v":""},{"$f":"IF(LEN(D11)>0,D13/$E13,\"\")","v":""},null,null,{"$f":"IF(COUNT(C20:C21)>0,\"מספר התאים שהערך הצפוי שלהם קטן מ 5 הוא \",\"\")","v":""},null,null,{"$f":"IF(COUNT(C11:C13)>0,COUNTIF(C18:D20,\"<5\"),\"\")","v":""}]
[null,"אחוז מעמודה",{"$f":"IF(LEN(C$11)>0,C13/C$14,\"\")","v":""},{"$f":"IF(LEN(D$11)>0,D13/D$14,\"\")","v":""},{"$f":"IF(LEN(C$11)>0,E13/E$14,\"\")","v":""}]
[null,"אחוז מהס\"כ",{"$f":"IF(LEN(C$11)>0,C13/$E$14,\"\")","v":""},{"$f":"IF(LEN(D$11)>0,D13/$E$14,\"\")","v":""}]
[null,"סה\"כ",{"$f":"IF(LEN(C$11)>0,C14,\"\")","v":""},{"$f":"IF(LEN(D$11)>0,D14,\"\")","v":""},{"$f":"IF(LEN(E11)>0,E14,\"\")","v":""}]
[null,null,{"$f":"IF(LEN(C11)>0,C14/$E$14,\"\")","v":""},{"$f":"IF(LEN(D11)>0,D14/$E$14,\"\")","v":""}]
[]
[]
["observed","משתנה","הכנס שם"]
[null,null,"הכנס שם","הכנס שם","סה\"כ"]
["הכנס שם","הכנס שם",{"$f":"IF(COUNT(C$11:D$13)>1,C11/C$14,\"\")","v":""},{"$f":"IF(COUNT(D$11:E$13)>1,D11/D$14,\"\")","v":""},{"$f":"IF(LEN(C48)>0,SUM(C48:D48),\"\")","v":""}]
[null,"הכנס שם",{"$f":"IF(COUNT(C$11:D$13)>1,C12/C$14,\"\")","v":""},"",{"$f":"IF(LEN(C49)>0,SUM(C49:D49),\"\")","v":""}]
[null,"הכנס שם",{"$f":"IF(COUNT(C$11:D$13)>1,C13/C$14,\"\")","v":""},"",""]
[null,"סה\"כ",{"$f":"IF(C48>0,SUM(C48:C50),\"\")","v":0},{"$f":"IF(D48>0,SUM(D48:D50),\"\")","v":0},{"$f":"IF(C48>0,SUM(C51:D51),\"\")","v":0}]

{"sheet":"chi 2  X3 (2)","index":50,"n_rows":51,"n_cols":20,"rows_kept":51,"cut":false,"hidden":false,"merged":[[45,2,45,3],[47,0,48,0],[0,0,0,8],[8,2,8,3],[10,0,11,0],[15,2,15,3],[17,0,18,0],[27,2,27,3]]}
["מבחן חי בריבוע לבדיקת קשר/הבדלים בין משתנים קטגורייליים   3X2"]
["הכנס את שמות המשתנים   בתיבות הצהובות  C7 A9"]
["הכנס שמות לערכים בתיבות האפורות  בשורה 10 ובעמודה B"]
["הכנס את הערכים (שכיחויות ) בטבלה בתאים הכתומים C11:D13"]
["תוצאות המבחן יופיעו באופן אוטומטי"]
["להדפסת התוצאות לחץ על הדפסה "]
["לעיבוד נוסף לחץ על נקה ",null,null,null,null,null,null,null,"החלט איזה תצוגה מתאימה  לנתונים שלך מבחינת המשמעות והפרשנות שלהם "]
[]
["observed","משתנה","הכנס שם"]
[null,null,"הכנס שם","הכנס שם","סה\"כ"]
["הכנס שם","הכנס שם",null,null,{"$f":"IF(LEN(C11)>0,SUM(C11:D11),\"\")","v":""}]
[null,"הכנס שם",null,null,{"$f":"IF(LEN(C12)>0,SUM(C12:D12),\"\")","v":""}]
[null,"הכנס שם",null,null,{"$f":"IF(LEN(C13)>0,SUM(C13:D13),\"\")","v":""}]
[null,"סה\"כ",{"$f":"IF(LEN(C11)>0,SUM(C11:C13),\"\")","v":""},{"$f":"IF(LEN(D11)>0,SUM(D11:D13),\"\")","v":""},{"$f":"IF(LEN(C11)>0,SUM(C14:D14),\"\")","v":""}]
[]
["expected",null,{"$f":"C9","v":"הכנס שם"}]
[null,null,{"$f":"C10","v":"הכנס שם"},{"$f":"D10","v":"הכנס שם"},"סה\"כ"]
[{"$f":"A11","v":"הכנס שם"},{"$f":"B11","v":"הכנס שם"},{"$f":"IF(C11>0,(C$14*$E11)/$E$14,\"\")","v":""},"",{"$f":"E11","v":""}]
[null,{"$f":"B12","v":"הכנס שם"},"","",{"$f":"E12","v":""}]
[null,{"$f":"B13","v":"הכנס שם"},"","",{"$f":"E13","v":""}]
[null,"סה\"כ",{"$f":"IF(C11>0,C14,\"\")","v":""},{"$f":"IF(D11>0,D14,\"\")","v":""},{"$f":"E14","v":""}]
[]
[null,"הפרשים",{"$f":"IF(C11>0,((C11-C18)^2)/C18,\"\")","v":""},{"$f":"IF(D11>0,((D11-D18)^2)/D18,\"\")","v":""},null,{"$f":"IF(COUNT(C11:C13)>2,2,\"\")","v":""},"df","דרגות חופש  "]
[null,null,{"$f":"IF(C12>0,((C12-C19)^2)/C19,\"\")","v":""},{"$f":"IF(D13>0,((D12-D19)^2)/D19,\"\")","v":""},null,{"$f":"IF(C11>0,SUM(C23:D25),\"\")","v":""},"c2","ערך סטטיסטי"]
[null,null,{"$f":"IF(C13>0,((C13-C20)^2)/C20,\"\")","v":""},{"$f":"IF(D13>0,((D13-D20)^2)/D20,\"\")","v":""},null,{"$f":"IF(C11>0,CHIINV(0.05,F23),\"\")","v":""},"crit","ערך קריטי 0.05",null,{"$f":"IF(COUNT(C13:C14)>1,IF(F24>F25,\"מובהק - יש די ראיות  להגיד  שיש  קשר  בין  המשתנים  ברמת מובהקות  של  \",\"לא מובהק - אין  די ראיות להגיד שיש קשר בין המשתנים ברמת מובהקות של 0.05  \"),\"\")","v":""},null,null,null,null,null,{"$f":"IF(F24>F25,F27,\"\")","v":""}]
[null,null,null,null,null,{"$f":"IF(C11>0,CHIINV(0.01,F23),\"\")","v":""},"crit","ערך קריטי 0.01"]
[null,null,null,null,null,{"$f":"IF(COUNT(C13:C14)>1,CHIDIST(F24,F23),\"\")","v":""},"P","( Sig ) מובהקות דו צדדית "," (a') ",null,null,null,"כתיבה מדעית ",null,null,{"$f":"IF(COUNT(C11:C13)>1,IF(F27<0.01,CONCATENATE(P29,\" < 0.01\"),IF(F27<0.05,CONCATENATE(P29,\" < 0.05\"),CONCATENATE(P29, \" > 0.05\"))),\"\")","v":""},null,null,null,{"$f":"CONCATENATE(P29,TEXT(F27,\"0.00\"))","v":""}]
[null,null,"משתנה 1"]
[null,null,{"$f":"C10","v":"הכנס שם"},{"$f":"D10","v":"הכנס שם"},{"$f":"E10","v":"סה\"כ"},null,null,"פרשנות ",null,null,null,null,null,null,null,{"$f":"IF(COUNT(C13:C14)>1,CONCATENATE(G24,\"(\",F23,\")=\",LEFT(F24,5),\",  R\"),\"\")","v":""}]
[null,"N",{"$f":"IF($C$11>0,C11,\"\")","v":""},{"$f":"IF($C$11>0,D11,\"\")","v":""},{"$f":"IF($C$11>0,E11,\"\")","v":""},null,null,"כדי לתת פרשנות משמעותית  לתוצאות יש לבטא את הערכים באחוזים "]
[{"$f":"B11","v":"הכנס שם"},"אחוז משורה",{"$f":"IF(C11>0,C11/$E11,\"\")","v":""},{"$f":"IF(D11>0,D11/$E11,\"\")","v":""},null,null,null,"ולהשוות את הקטגוריות הרלוונטיות "]
[null,"אחוז מעמודה",{"$f":"IF(C11>0,C11/C$14,\"\")","v":""},{"$f":"IF(D11>0,D11/D$14,\"\")","v":""},{"$f":"IF(C11>0,E11/E$14,\"\")","v":""}]
[null,"אחוז מהס\"כ",{"$f":"IF(C11>0,C11/$E$14,\"\")","v":""},{"$f":"IF(D11>0,D11/$E$14,\"\")","v":""},null,null,"משמעות:"]
[null,"N",{"$f":"IF($C$11>0,C12,\"\")","v":""},{"$f":"IF($C$11>0,D12,\"\")","v":""},{"$f":"IF($C$11>0,E12,\"\")","v":""},null,"אם הערך הסטטיסטי גדול יותר מהערך הקריטי המשמעות שיש די ראיות לדחות את השערת האפס ולהגיד שיש קשר בין המשתנים"]
[{"$f":"B12","v":"הכנס שם"},"אחוז משורה",{"$f":"IF(C12>0,C12/$E12,\"\")","v":""},{"$f":"IF(D12>0,D12/$E12,\"\")","v":""}]
[null,"אחוז מעמודה",{"$f":"IF(C12>0,C12/C$14,\"\")","v":""},{"$f":"IF(D12>0,D12/D$14,\"\")","v":""},{"$f":"IF(C$11>0,E12/E$14,\"\")","v":""},null,"המשמעות של  P - רמת המבוהקות של המבחן -  האומרת שבמידה וקובעים שיש קשר בין המשתנים בכמה אחוז מהמדגמים ניתן לדאוג"]
[null,"אחוז מהס\"כ",{"$f":"IF(C12>0,C12/$E$14,\"\")","v":""},{"$f":"IF(D12>0,D12/$E$14,\"\")","v":""},null,null,"אם הערך שיוצא הוא מעל 0.05 (כלומר 5%) המשמעות היא שיש סיכוי מ 5 אחוז לטעות בקביעה שיש קשר בין המשתנים ונקבע שאין די ראיות להגיד שיש קשר בין המשתנים"]
[null,"N",{"$f":"IF($C$11>0,C13,\"\")","v":""},{"$f":"IF($C$11>0,D13,\"\")","v":""},""]
[{"$f":"B13","v":"הכנס שם"},"אחוז משורה",{"$f":"IF(C11>0,C13/$E13,\"\")","v":""},{"$f":"IF(D11>0,D13/$E13,\"\")","v":""}]
[null,"אחוז מעמודה",{"$f":"IF(C$11>0,C13/C$14,\"\")","v":""},{"$f":"IF(D$11>0,D13/D$14,\"\")","v":""},{"$f":"IF(C$11>0,E13/E$14,\"\")","v":""}]
[null,"אחוז מהס\"כ",{"$f":"IF(C$11>0,C13/$E$14,\"\")","v":""},{"$f":"IF(D$11>0,D13/$E$14,\"\")","v":""}]
[null,"סה\"כ",{"$f":"IF(C$11>0,C14,\"\")","v":""},{"$f":"IF(D$11>0,D14,\"\")","v":""},{"$f":"IF(E11>0,E14,\"\")","v":""}]
[null,null,{"$f":"IF(C11>0,C14/$E$14,\"\")","v":""},{"$f":"IF(D11>0,D14/$E$14,\"\")","v":""}]
[]
[]
["observed","משתנה","הכנס שם"]
[null,null,"הכנס שם","הכנס שם","סה\"כ"]
["הכנס שם","הכנס שם",{"$f":"C11/C$14","v":{"$error":"#VALUE!"}},{"$error":"#VALUE!"},{"$f":"IF(C48>0,SUM(C48:D48),\"\")","v":{"$error":"#VALUE!"}}]
[null,"הכנס שם",{"$error":"#VALUE!"},{"$error":"#VALUE!"},{"$f":"IF(C49>0,SUM(C49:D49),\"\")","v":{"$error":"#VALUE!"}}]
[null,"הכנס שם",{"$error":"#VALUE!"},{"$error":"#VALUE!"}]
[null,"סה\"כ",{"$f":"IF(C48>0,SUM(C48:C50),\"\")","v":{"$error":"#VALUE!"}},{"$f":"IF(D48>0,SUM(D48:D50),\"\")","v":{"$error":"#VALUE!"}},{"$f":"IF(C48>0,SUM(C51:D51),\"\")","v":{"$error":"#VALUE!"}}]

{"sheet":"chi 2 x 4  ","index":51,"n_rows":61,"n_cols":21,"rows_kept":61,"cut":false,"hidden":false,"merged":[[0,0,0,8],[54,2,54,3],[56,0,57,0],[10,2,10,3],[12,0,13,0],[18,2,18,3],[20,0,21,0],[32,2,32,3],[31,5,31,6]]}
["מבחן חי בריבוע לבדיקת קשר/הבדלים בין משתנים קטגורייליים   4X2"]
["הוראות"]
["הכנס את שמות המשתנים  בתיבות הצהובות  A13 ו C11"]
["הכנס שמות לערכים בתיבות האפורות  בשורה 12 ובעמודה B"]
["הכנס את הערכים (שכיחויות ) בטבלה בתאים הכתומים C13:D16"]
["תוצאות המבחן יופיעו באופן אוטומטי"]
["להדפסת התוצאות לחץ על כפתור ההדפסה (בתפריט אקסל) "]
["לעיבוד נוסף לחץ על נקה "]
[null,null,null,null,null,null,null,null,"החלט איזה תצוגה מתאימה  לנתונים שלך מבחינת המשמעות והפרשנות שלהם "]
[]
["observed","משתנה","הכנס שם משתנה"]
[null,null,"הכנס שם","הכנס שם","סה\"כ"]
["הכנס שם","הכנס שם",null,null,{"$f":"IF(LEN(C13)>0,SUM(C13:D13),\"\")","v":""}]
[null,"הכנס שם",null,null,{"$f":"IF(LEN(C14)>0,SUM(C14:D14),\"\")","v":""}]
[null,"הכנס שם",null,null,""]
[null,"הכנס שם",null,null,""]
[null,"סה\"כ",{"$f":"IF(COUNT(C13:C16)>0,SUM(C13:C16),\"\")","v":""},{"$f":"IF(COUNT(D13:D16)>0,SUM(D13:D16),\"\")","v":""},""]
[]
["expected",null,{"$f":"C11","v":"הכנס שם משתנה"}]
[null,null,{"$f":"C12","v":"הכנס שם"},{"$f":"D12","v":"הכנס שם"},"סה\"כ"]
[{"$f":"A13","v":"הכנס שם"},{"$f":"B13","v":"הכנס שם"},{"$f":"IF(LEN(C13)>0,(C$17*$E13)/$E$17,\"\")","v":""},{"$f":"IF(LEN(D13)>0,(D$17*$E13)/$E$17,\"\")","v":""},{"$f":"E13","v":""}]
[null,{"$f":"B14","v":"הכנס שם"},{"$f":"IF(LEN(C14)>0,(C$17*$E14)/$E$17,\"\")","v":""},{"$f":"IF(LEN(D14)>0,(D$17*$E14)/$E$17,\"\")","v":""},{"$f":"E14","v":""}]
[null,{"$f":"B15","v":"הכנס שם"},{"$f":"IF(LEN(C15)>0,(C$17*$E15)/$E$17,\"\")","v":""},"",{"$f":"E15","v":""}]
[null,{"$f":"B16","v":"הכנס שם"},{"$f":"IF(LEN(C16)>0,(C$17*$E16)/$E$17,\"\")","v":""},"",{"$f":"E16","v":""}]
[null,"סה\"כ",{"$f":"IF(LEN(C13)>0,C17,\"\")","v":""},{"$f":"IF(LEN(D13)>0,D17,\"\")","v":""},{"$f":"E17","v":""}]
[]
[null,"הפרשים",{"$f":"IF(LEN(C$13)>0,((C13-C21)^2)/C21,\"\")","v":""},{"$f":"IF(LEN(D$13)>0,((D13-D21)^2)/D21,\"\")","v":""},null,{"$f":"IF(COUNT(C13:C16)>2,3,\"\")","v":""},"df","דרגות חופש  "]
[null,null,{"$f":"IF(LEN(C$13)>0,((C14-C22)^2)/C22,\"\")","v":""},"",null,{"$f":"IF(LEN(C13)>0,SUM(C27:D30),\"\")","v":""},"c2","ערך סטטיסטי"]
[null,null,"","",null,{"$f":"IF(LEN(C13)>0,CHIINV(0.05,F27),\"\")","v":""},"crit","ערך קריטי 0.05",null,{"$f":"IF(COUNT(C13:C16)>1,IF(F28>F29,\"מובהק - יש די ראיות  להגיד  שיש  קשר  בין  המשתנים  ברמת מובהקות  של  \",\"לא מובהק - אין  די ראיות להגיד שיש קשר בין המשתנים ברמת מובהקות של 0.05  \"),\"\")","v":""},null,null,null,null,null,{"$f":"IF(F28>F29,F31,\"\")","v":""}]
[null,null,"","",null,{"$f":"IF(LEN(C13)>0,CHIINV(0.01,F27),\"\")","v":""},"crit","ערך קריטי 0.01"]
[null,null,null,null,null,{"$f":"IF(LEN(C$13)>0,CHIDIST(F28,F27),\"\")","v":""},"p","( Sig ) מובהקות דו צדדית "," (a') ",null,null,null,"כתיבה מדעית ",null,null,{"$f":"IF(COUNT(C13:C16)>1,IF(F31<0.01,CONCATENATE(P33,\" < 0.01\"),IF(F31<0.05,CONCATENATE(P33,\" < 0.05\"),CONCATENATE(P33, \" > 0.05\"))),\"\")","v":""},null,null,null,null,{"$f":"CONCATENATE(P33,TEXT(F31,\"0.00\"))","v":""}]
[null,null,null,null,null,"מדד על שם קרמר",null,{"$f":"IF(COUNT(C13:D16)=8,SQRT((F28/E17)),\"\")","v":""}]
[null,null,"משתנה 1",null,null,null,null,"פרשנות ",null,null,null,null,null,null,null,{"$f":"IF(COUNT(C13:C16)>1,CONCATENATE(G28,\"(\",F27,\")=\",LEFT(F28,5),\",  R\"),\"\")","v":""}]
[null,null,{"$f":"C12","v":"הכנס שם"},{"$f":"D12","v":"הכנס שם"},"סה\"כ",null,null,"כדי לתת פרשנות משמעותית  לתוצאות יש לבטא את הערכים באחוזים "]
[null,"N",{"$f":"IF(LEN(C13)>0,C13,\"\")","v":""},{"$f":"IF(LEN(D13)>0,D13,\"\")","v":""},{"$f":"IF(LEN(E13)>0,E13,\"\")","v":""},null,null,"ולהשוות את הקטגוריות הרלוונטיות "]
[{"$f":"B13","v":"הכנס שם"},"אחוז משורה",{"$f":"IF(LEN(C$13)>0,C13/$E13,\"\")","v":""},{"$f":"IF(LEN(D$13)>0,D13/$E13,\"\")","v":""}]
[null,"אחוז מעמודה",{"$f":"IF(LEN(C13)>0,C13/C$17,\"\")","v":""},{"$f":"IF(LEN(D13)>0,D13/D$17,\"\")","v":""},{"$f":"IF(LEN(C13)>0,E13/E$17,\"\")","v":""}]
[null,"אחוז מהס\"כ",{"$f":"IF(LEN(C13)>0,C13/$E$17,\"\")","v":""},{"$f":"IF(LEN(D13)>0,D13/$E$17,\"\")","v":""},null,null,"משמעות:"]
[null,"N",{"$f":"IF(LEN(C14)>0,C14,\"\")","v":""},{"$f":"IF(LEN(D14)>0,D14,\"\")","v":""},{"$f":"IF(LEN(E14)>0,E14,\"\")","v":""},null,"אם הערך הסטטיסטי גדול יותר מהערך הקריטי המשמעות שיש די ראיות לדחות את השערת האפס ולהגיד שיש קשר בין המשתנים"]
[{"$f":"B14","v":"הכנס שם"},"אחוז משורה",{"$f":"IF(LEN(C$13)>0,C14/$E14,\"\")","v":""},{"$f":"IF(LEN(D$13)>0,D14/$E14,\"\")","v":""}]
[null,"אחוז מעמודה",{"$f":"IF(LEN(C14)>0,C14/C$17,\"\")","v":""},{"$f":"IF(LEN(D14)>0,D14/D$17,\"\")","v":""},{"$f":"IF(LEN(C$13)>0,E14/E$17,\"\")","v":""},null,"המשמעות של  P - רמת המבוהקות של המבחן -  האומרת שבמידה וקובעים שיש קשר בין המשתנים בכמה אחוז מהמדגמים ניתן לדאוג"]
[null,"אחוז מהס\"כ",{"$f":"IF(C14>0,C14/$E$17,\"\")","v":""},{"$f":"IF(LEN(D14)> 0,D14/$E$17,\"\")","v":""},null,null,"אם הערך שיוצא הוא מעל 0.05 (כלומר 5%) המשמעות היא שיש סיכוי מ 5 אחוז לטעות בקביעה שיש קשר בין המשתנים ונקבע שאין די ראיות להגיד שיש קשר בין המשתנים"]
[null,"N",{"$f":"IF(LEN(C13)>0,C16,\"\")","v":""},{"$f":"IF(LEN(D13)>0,D16,\"\")","v":""},{"$f":"IF(LEN(E13)>0,E16,\"\")","v":""}]
[{"$f":"B15","v":"הכנס שם"},"אחוז משורה",{"$f":"IF(LEN(C$13)>0,C16/$E16,\"\")","v":""},{"$f":"IF(LEN(D$13)>0,D16/$E16,\"\")","v":""},null,null,{"$f":"IF(COUNT(C25:C26)>0,\"מספר התאים שהערך הצפוי שלהם קטן מ 5 הוא \",\"\")","v":""},null,null,{"$f":"IF(COUNT(C16:C18)>0,COUNTIF(C21:D24,\"<5\"),\"\")","v":""}]
[null,"אחוז מעמודה",{"$f":"IF(LEN(C$13)>0,C15/C$17,\"\")","v":""},{"$f":"IF(LEN(D$13)>0,D15/D$17,\"\")","v":""},{"$f":"IF(LEN(C$13)>0,E16/E$17,\"\")","v":""}]
[null,"אחוז מהס\"כ",{"$f":"IF(LEN(C$13)>0,C16/$E$17,\"\")","v":""},{"$f":"IF(LEN(D$13)>0,D16/$E$17,\"\")","v":""}]
[null,"N",{"$f":"IF(LEN(C13)>0,C17,\"\")","v":""},{"$f":"IF(LEN(D13)>0,D17,\"\")","v":""},{"$f":"IF(LEN(E13)>0,E17,\"\")","v":""}]
[{"$f":"B16","v":"הכנס שם"},"אחוז משורה",{"$f":"IF(LEN(C$13)>0,C16/$E16,\"\")","v":""},{"$f":"IF(D$13>0,D16/$E16,\"\")","v":""}]
[null,"אחוז מעמודה",{"$f":"IF(LEN(C$13)>0,C16/C$17,\"\")","v":""},{"$f":"IF(LEN(D$13)>0,D16/D$17,\"\")","v":""},{"$f":"IF(LEN(C$13)>0,E16/E$17,\"\")","v":""}]
[null,"אחוז מהס\"כ",{"$f":"IF(LEN(C$13)>0,C16/$E$17,\"\")","v":""},{"$f":"IF(LEN(D$13)>0,D16/$E$17,\"\")","v":""}]
[null,"סה\"כ",{"$f":"IF(LEN(C$13)>0,C17,\"\")","v":""},{"$f":"IF(LEN(D$13)>0,D17,\"\")","v":""},""]
[null,null,{"$f":"IF(LEN(C13)>0,C17/$E$17,\"\")","v":""},{"$f":"IF(LEN(D13)>0,D17/$E$17,\"\")","v":""}]
[]
[]
["observed","משתנה","הכנס שם"]
[null,null,{"$f":"C12","v":"הכנס שם"},{"$f":"D12","v":"הכנס שם"},"סה\"כ"]
["הכנס שם",{"$f":"B13","v":"הכנס שם"},{"$f":"IF(COUNT(C13:C16)>1,C13/C$17,\"\")","v":""},{"$f":"IF(COUNT(D13:D16)>1,D13/D$17,\"\")","v":""},{"$f":"IF(LEN(C57)>0,SUM(C57:D57),\"\")","v":""}]
[null,{"$f":"B14","v":"הכנס שם"},{"$f":"IF(COUNT(C14:C17)>1,C14/C$17,\"\")","v":""},"",{"$f":"IF(C58>0,SUM(C58:D58),\"\")","v":0}]
[null,"הכנס שם",{"$f":"IF(COUNT(C15:C18)>1,C15/C$17,\"\")","v":""},"",0]
[null,"הכנס שם",{"$f":"IF(COUNT(C16:C19)>1,C16/C$17,\"\")","v":""},"",0]
[null,"סה\"כ",{"$f":"IF(C57>0,SUM(C57:C60),\"\")","v":0},{"$f":"IF(D57>0,SUM(D57:D60),\"\")","v":0},{"$f":"IF(C57>0,SUM(C61:D61),\"\")","v":0}]

{"sheet":"chi 2 x 4   (1)","index":52,"n_rows":61,"n_cols":21,"rows_kept":61,"cut":false,"hidden":false,"merged":[[54,2,54,3],[56,0,57,0],[0,0,0,8],[10,2,10,3],[12,0,13,0],[18,2,18,3],[20,0,21,0],[32,2,32,3]]}
["מבחן חי בריבוע לבדיקת קשר/הבדלים בין משתנים קטגורייליים   4X2"]
["הוראות"]
["הכנס את שמות המשתנים   בתיבות הצהובות  C7 A9"]
["הכנס שמות לערכים בתיבות האפורות  בשורה 8 ובעמודה B"]
["הכנס את הערכים (שכיחויות ) בטבלה בתאים הכתומים C7:D9"]
["להדפסת התוצאות לחץ על הדפסה "]
["לעיבוד נוסף לחץ על נקה "]
[]
[null,null,null,null,null,null,null,null,"החלט איזה תצוגה מתאימה  לנתונים שלך מבחינת המשמעות והפרשנות שלהם "]
[]
["observed","משתנה","הכנס שם משתנה"]
[null,null,"הכנס שם","הכנס שם","סה\"כ"]
["הכנס שם","הכנס שם",null,null,""]
[null,"הכנס שם",null,null,""]
[null,"הכנס שם",null,null,""]
[null,"הכנס שם",null,null,""]
[null,"סה\"כ","","",""]
[]
["expected",null,{"$f":"C11","v":"הכנס שם משתנה"}]
[null,null,{"$f":"C12","v":"הכנס שם"},{"$f":"D12","v":"הכנס שם"},"סה\"כ"]
[{"$f":"A13","v":"הכנס שם"},{"$f":"B13","v":"הכנס שם"},{"$f":"IF(C13>0,(C$17*$E13)/$E$17,\"\")","v":""},"",{"$f":"E13","v":""}]
[null,{"$f":"B14","v":"הכנס שם"},"","",{"$f":"E14","v":""}]
[null,{"$f":"B15","v":"הכנס שם"},"","",{"$f":"E15","v":""}]
[null,{"$f":"B16","v":"הכנס שם"},"","",{"$f":"E16","v":""}]
[null,"סה\"כ",{"$f":"IF(C13>0,C17,\"\")","v":""},{"$f":"IF(D13>0,D17,\"\")","v":""},{"$f":"E17","v":""}]
[]
[null,"הפרשים",{"$f":"IF(C$13>0,((C13-C21)^2)/C21,\"\")","v":""},{"$f":"IF(D$13>0,((D13-D21)^2)/D21,\"\")","v":""},null,{"$f":"IF(COUNT(C13:C16)>2,3,\"\")","v":""},"df","דרגות חופש  "]
[null,null,{"$f":"IF(C$13>0,((C14-C22)^2)/C22,\"\")","v":""},"",null,{"$f":"IF(C13>0,SUM(C27:D30),\"\")","v":""},"c2","ערך סטטיסטי"]
[null,null,"","",null,{"$f":"IF(C13>0,CHIINV(0.05,F27),\"\")","v":""},"crit","ערך קריטי 0.05",null,{"$f":"IF(COUNT(C13:C16)>1,IF(F28>F29,\"מובהק - יש די ראיות  להגיד  שיש  קשר  בין  המשתנים  ברמת מובהקות  של  \",\"לא מובהק - אין  די ראיות להגיד שיש קשר בין המשתנים ברמת מובהקות של 0.05  \"),\"\")","v":""},null,null,null,null,null,{"$f":"IF(F28>F29,F31,\"\")","v":""}]
[null,null,"","",null,{"$f":"IF(C13>0,CHIINV(0.01,F27),\"\")","v":""},"crit","ערך קריטי 0.01"]
[null,null,null,null,null,{"$f":"IF(C$13>0,CHIDIST(F28,F27),\"\")","v":""},"p","( Sig ) מובהקות דו צדדית "," (a') ",null,null,null,"כתיבה מדעית ",null,null,{"$f":"IF(COUNT(C13:C16)>1,IF(F31<0.01,CONCATENATE(P33,\" < 0.01\"),IF(F31<0.05,CONCATENATE(P33,\" < 0.05\"),CONCATENATE(P33, \" > 0.05\"))),\"\")","v":""},null,null,null,null,{"$f":"CONCATENATE(P33,TEXT(F31,\"0.00\"))","v":""}]
[]
[null,null,"משתנה 1",null,null,null,null,"פרשנות ",null,null,null,null,null,null,null,{"$f":"IF(COUNT(C13:C16)>1,CONCATENATE(G28,\"(\",F27,\")=\",LEFT(F28,5),\",  R\"),\"\")","v":""}]
[null,null,{"$f":"C12","v":"הכנס שם"},{"$f":"D12","v":"הכנס שם"},"סה\"כ",null,null,"כדי לתת פרשנות משמעותית  לתוצאות יש לבטא את הערכים באחוזים "]
[null,"N",{"$f":"IF($C$13>0,C13,\"\")","v":""},{"$f":"IF($C$13>0,D13,\"\")","v":""},{"$f":"IF($C$13>0,E13,\"\")","v":""},null,null,"ולהשוות את הקטגוריות הרלוונטיות "]
[{"$f":"B13","v":"הכנס שם"},"אחוז משורה",{"$f":"IF(C$13>0,C13/$E13,\"\")","v":""},{"$f":"IF(D13>0,D13/$E13,\"\")","v":""}]
[null,"אחוז מעמודה",{"$f":"IF(C13>0,C13/C$17,\"\")","v":""},{"$f":"IF(D13>0,D13/D$17,\"\")","v":""},{"$f":"IF(C13>0,E13/E$17,\"\")","v":""}]
[null,"אחוז מהס\"כ",{"$f":"IF(C13>0,C13/$E$17,\"\")","v":""},{"$f":"IF(D13>0,D13/$E$17,\"\")","v":""},null,null,"משמעות:"]
[null,"N",{"$f":"IF($C$13>0,C14,\"\")","v":""},{"$f":"IF($C$13>0,D14,\"\")","v":""},"",null,"אם הערך הסטטיסטי גדול יותר מהערך הקריטי המשמעות שיש די ראיות לדחות את השערת האפס ולהגיד שיש קשר בין המשתנים"]
[{"$f":"B14","v":"הכנס שם"},"אחוז משורה",{"$f":"IF(C$13>0,C14/$E14,\"\")","v":""},{"$f":"IF(D14>0,D14/$E14,\"\")","v":""}]
[null,"אחוז מעמודה",{"$f":"IF(C14>0,C14/C$17,\"\")","v":""},{"$f":"IF(D14>0,D14/D$17,\"\")","v":""},{"$f":"IF(C$13>0,E14/E$17,\"\")","v":""},null,"המשמעות של  P - רמת המבוהקות של המבחן -  האומרת שבמידה וקובעים שיש קשר בין המשתנים בכמה אחוז מהמדגמים ניתן לדאוג"]
[null,"אחוז מהס\"כ",{"$f":"IF(C14>0,C14/$E$17,\"\")","v":""},{"$f":"IF(D14>0,D14/$E$17,\"\")","v":""},null,null,"אם הערך שיוצא הוא מעל 0.05 (כלומר 5%) המשמעות היא שיש סיכוי מ 5 אחוז לטעות בקביעה שיש קשר בין המשתנים ונקבע שאין די ראיות להגיד שיש קשר בין המשתנים"]
[null,"N",{"$f":"IF($C$13>0,C16,\"\")","v":""},{"$f":"IF($C$13>0,D16,\"\")","v":""},""]
[{"$f":"B15","v":"הכנס שם"},"אחוז משורה",{"$f":"IF(C$13>0,C16/$E16,\"\")","v":""},{"$f":"IF(D13>0,D16/$E16,\"\")","v":""}]
[null,"אחוז מעמודה",{"$f":"IF(C$13>0,C15/C$17,\"\")","v":""},{"$f":"IF(D$13>0,D15/D$17,\"\")","v":""},{"$f":"IF(C$13>0,E16/E$17,\"\")","v":""}]
[null,"אחוז מהס\"כ",{"$f":"IF(C$13>0,C16/$E$17,\"\")","v":""},{"$f":"IF(D$13>0,D16/$E$17,\"\")","v":""}]
[null,"N",{"$f":"IF($C$13>0,C17,\"\")","v":""},{"$f":"IF($C$13>0,D17,\"\")","v":""},""]
[{"$f":"B16","v":"הכנס שם"},"אחוז משורה",{"$f":"IF(C$13>0,C16/$E16,\"\")","v":""},{"$f":"IF(D$13>0,D16/$E16,\"\")","v":""}]
[null,"אחוז מעמודה",{"$f":"IF(C$13>0,C16/C$17,\"\")","v":""},{"$f":"IF(D$13>0,D16/D$17,\"\")","v":""},{"$f":"IF(C$13>0,E16/E$17,\"\")","v":""}]
[null,"אחוז מהס\"כ",{"$f":"IF(C$13>0,C16/$E$17,\"\")","v":""},{"$f":"IF(D$13>0,D16/$E$17,\"\")","v":""}]
[null,"סה\"כ",{"$f":"IF(C$13>0,C17,\"\")","v":""},{"$f":"IF(D$13>0,D17,\"\")","v":""},{"$f":"IF(E13>0,E17,\"\")","v":""}]
[null,null,{"$f":"IF(C13>0,C17/$E$17,\"\")","v":""},{"$f":"IF(D13>0,D17/$E$17,\"\")","v":""}]
[null,null,null,null,null,null,null,"מתוך  אלו ","שענו ",{"$f":"B13","v":"הכנס שם"},{"$f":"C36","v":""},"הם ",{"$f":"C12","v":"הכנס שם"},"ו ",{"$f":"D36","v":""},"הם ",{"$f":"D12","v":"הכנס שם"}]
[]
["observed","משתנה","הכנס שם",null,null,null,null,"מתוך  אלו ","שענו ",{"$f":"B14","v":"הכנס שם"},{"$f":"C40","v":""},"הם ",{"$f":"C12","v":"הכנס שם"},"ו ",{"$f":"D40","v":""},"הם ",{"$f":"D12","v":"הכנס שם"}]
[null,null,{"$f":"C12","v":"הכנס שם"},{"$f":"D12","v":"הכנס שם"},"סה\"כ"]
["הכנס שם",{"$f":"B13","v":"הכנס שם"},{"$f":"IF(COUNT(C13:C16)>1,C13/C$17,\"\")","v":""},{"$f":"IF(COUNT(D13:D16)>1,D13/D$17,\"\")","v":""},{"$f":"IF(C57>0,SUM(C57:D57),\"\")","v":0},null,null,"מתוך  אלו ","שענו ",{"$f":"B15","v":"הכנס שם"},{"$f":"C44","v":""},"הם ",{"$f":"C34","v":"הכנס שם"},"ו ",{"$f":"D44","v":""},"הם ",{"$f":"D34","v":"הכנס שם"}]
[null,{"$f":"B14","v":"הכנס שם"},{"$f":"IF(COUNT(C14:C17)>1,C14/C$17,\"\")","v":""},"",{"$f":"IF(C58>0,SUM(C58:D58),\"\")","v":0}]
[null,"הכנס שם","","",0]
[null,"הכנס שם","","",0]
[null,"סה\"כ",{"$f":"IF(C57>0,SUM(C57:C59),\"\")","v":0},{"$f":"IF(D57>0,SUM(D57:D59),\"\")","v":0},{"$f":"IF(C57>0,SUM(C61:D61),\"\")","v":0}]

{"sheet":"chi 2 x 5 ","index":53,"n_rows":69,"n_cols":19,"rows_kept":69,"cut":false,"hidden":false,"merged":[[35,2,35,3],[61,2,61,3],[63,0,64,0],[0,0,0,8],[10,2,10,3],[12,0,13,0],[19,2,19,3],[21,0,22,0],[33,5,33,6]]}
["מבחן חי בריבוע לבדיקת קשר/הבדלים בין משתנים קטגורייליים   5X2"]
["הוראות"]
["הכנס את שמות המשתנים   בתיבות הצהובות  C11 A13"]
["הכנס שמות לערכים בתיבות האפורות  בשורה 12 ובעמודה B"]
["הכנס את הערכים (שכיחויות ) בטבלה בתאים הכתומים C13:D17"]
["תוצאות המבחן יופיעו באופן אוטומטי"]
["להדפסת התוצאות לחץ על הדפסה "]
["לעיבוד נוסף לחץ על נקה "]
[null,null,null,null,null,null,null,"החלט איזה תצוגה מתאימה  לנתונים שלך מבחינת המשמעות והפרשנות שלהם "]
[]
["observed","משתנה","הכנס שם משתנה"]
[null,null,"הכנס שם","הכנס שם","סה\"כ"]
["הכנס שם","הכנס שם",null,null,{"$f":"IF(LEN(C13)>0,SUM(C13:D13),\"\")","v":""}]
[null,"הכנס שם",null,null,{"$f":"IF(LEN(C14)>0,SUM(C14:D14),\"\")","v":""}]
[null,"הכנס שם",null,null,""]
[null,"הכנס שם",null,null,""]
[null,"הכנס שם",null,null,""]
[null,"סה\"כ",{"$f":"IF(LEN(C13)>0,SUM(C13:C17),\"\")","v":""},{"$f":"IF(LEN(D13)>0,SUM(D13:D17),\"\")","v":""},""]
[]
["expected",null,{"$f":"C11","v":"הכנס שם משתנה"}]
[null,null,{"$f":"C12","v":"הכנס שם"},{"$f":"D12","v":"הכנס שם"},"סה\"כ"]
[{"$f":"A13","v":"הכנס שם"},{"$f":"B13","v":"הכנס שם"},{"$f":"IF(LEN(C13)>0,(C$18*$E13)/$E$18,\"\")","v":""},{"$f":"IF(LEN(D13)>0,(D$18*$E13)/$E$18,\"\")","v":""},{"$f":"E13","v":""}]
[null,{"$f":"B14","v":"הכנס שם"},{"$f":"IF(LEN(C14)>0,(C$18*$E14)/$E$18,\"\")","v":""},"",{"$f":"E14","v":""}]
[null,{"$f":"B15","v":"הכנס שם"},{"$f":"IF(LEN(C15)>0,(C$18*$E15)/$E$18,\"\")","v":""},"",{"$f":"E15","v":""}]
[null,{"$f":"B16","v":"הכנס שם"},{"$f":"IF(LEN(C16)>0,(C$18*$E16)/$E$18,\"\")","v":""},"",{"$f":"E16","v":""}]
[null,{"$f":"B17","v":"הכנס שם"},{"$f":"IF(LEN(C17)>0,(C$18*$E17)/$E$18,\"\")","v":""},"",""]
[null,"סה\"כ",{"$f":"IF(LEN(C13)>0,C18,\"\")","v":""},{"$f":"IF(LEN(D13)>0,D18,\"\")","v":""},""]
[]
[null,"הפרשים",{"$f":"IF(LEN(C$13)>0,((C13-C22)^2)/C22,\"\")","v":""},{"$f":"IF(LEN(D$13)>0,((D13-D22)^2)/D22,\"\")","v":""},null,{"$f":"IF(COUNT(C13:C17)>3,4,\"\")","v":""},"df","דרגות חופש  "]
[null,null,{"$f":"IF(LEN(C$13)>0,((C14-C23)^2)/C23,\"\")","v":""},"",null,{"$f":"IF(LEN(C13)>0,SUM(C29:D33),\"\")","v":""},"c2","ערך סטטיסטי"]
[null,null,"","",null,{"$f":"IF(LEN(C13)>0,CHIINV(0.05,F29),\"\")","v":""},"crit","ערך קריטי 0.05",null,{"$f":"IF(COUNT(C13:C17)>1,IF(F30>F31,\"מובהק - יש די ראיות  להגיד  שיש  קשר  בין  המשתנים  ברמת מובהקות  של  \",\"לא מובהק - אין  די ראיות להגיד שיש קשר בין המשתנים ברמת מובהקות של 0.05  \"),\"\")","v":""},null,null,null,null,null,null,{"$f":"IF(F30>F31,F33,\"\")","v":""}]
[null,null,"","",null,{"$f":"IF(LEN(C13)>0,CHIINV(0.01,F29),\"\")","v":""},"crit","ערך קריטי 0.01"]
[null,null,"","",null,{"$f":"IF(LEN(C$13)>0,CHIDIST(F30,F29),\"\")","v":""},"p","( Sig ) מובהקות דו צדדית "," (a') ",null,null,null,"כתיבה מדעית ",null,null,{"$f":"IF(COUNT(C13:C17)>1,IF(F33<0.01,CONCATENATE(P36,\" < 0.01\"),IF(F33<0.05,CONCATENATE(P36,\" < 0.05\"),CONCATENATE(P36, \" > 0.05\"))),\"\")","v":""},null,null,{"$f":"CONCATENATE(P36,TEXT(F33,\"0.00\"))","v":""}]
[null,null,null,null,null,"מדד על שם קרמר",null,{"$f":"IF(COUNT(C13:D17)=10,SQRT((F30/E18)),\"\")","v":""}]
[]
[null,null,"משתנה 1",null,null,null,null,"פרשנות ",null,null,null,null,null,null,null,{"$f":"IF(COUNT(C13:C17)>1,CONCATENATE(G30,\"(\",F29,\")=\",LEFT(F30,5),\",  R=\"),\"\")","v":""}]
[null,null,{"$f":"C12","v":"הכנס שם"},{"$f":"D12","v":"הכנס שם"},"סה\"כ",null,null,"כדי לתת פרשנות משמעותית  לתוצאות יש לבטא את הערכים באחוזים "]
[null,"N",{"$f":"IF(COUNT(C13)>0,C13,\"\")","v":""},{"$f":"IF(COUNT(D13)>0,D13,\"\")","v":""},{"$f":"IF(COUNT(E13)>0,E13,\"\")","v":""},null,null,"ולהשוות את הקטגוריות הרלוונטיות "]
[{"$f":"B13","v":"הכנס שם"},"אחוז משורה",{"$f":"IF(LEN(C$13)>0,C13/$E13,\"\")","v":""},{"$f":"IF(LEN(D$13)>0,D13/$E13,\"\")","v":""}]
[null,"אחוז מעמודה",{"$f":"IF(LEN(C13)>0,C13/C$18,\"\")","v":""},{"$f":"IF(LEN(D13)>0,D13/D$18,\"\")","v":""},""]
[null,"אחוז מהס\"כ",{"$f":"IF(LEN(C13)>0,C13/$E$18,\"\")","v":""},{"$f":"IF(LEN(D13)>0,D13/$E$18,\"\")","v":""},null,null,"משמעות:"]
[null,"N",{"$f":"IF(COUNT(C13)>0,C14,\"\")","v":""},{"$f":"IF(COUNT(D13)>0,D14,\"\")","v":""},"",null,"אם הערך הסטטיסטי גדול יותר מהערך הקריטי המשמעות שיש די ראיות לדחות את השערת האפס ולהגיד שיש קשר בין המשתנים"]
[{"$f":"B14","v":"הכנס שם"},"אחוז משורה",{"$f":"IF(LEN(C$13)>0,C14/$E14,\"\")","v":""},{"$f":"IF(LEN(D$13)>0,D14/$E14,\"\")","v":""}]
[null,"אחוז מעמודה",{"$f":"IF(LEN(C14)>0,C14/C$18,\"\")","v":""},{"$f":"IF(LEN(D14)>0,D14/D$18,\"\")","v":""},{"$f":"IF(LEN(E14)>0,E14/E$18,\"\")","v":""},null,"המשמעות של  P - רמת המבוהקות של המבחן -  האומרת שבמידה וקובעים שיש קשר בין המשתנים בכמה אחוז מהמדגמים ניתן לדאוג"]
[null,"אחוז מהס\"כ",{"$f":"IF(LEN(C14)>0,C14/$E$18,\"\")","v":""},{"$f":"IF(LEN(D14)>0,D14/$E$18,\"\")","v":""},null,null,"אם הערך שיוצא הוא מעל 0.05 (כלומר 5%) המשמעות היא שיש סיכוי מ 5 אחוז לטעות בקביעה שיש קשר בין המשתנים ונקבע שאין די ראיות להגיד שיש קשר בין המשתנים"]
[null,"N",{"$f":"IF(COUNT(C13)>0,C15,\"\")","v":""},{"$f":"IF(COUNT(D13)>0,D15,\"\")","v":""},""]
[{"$f":"B15","v":"הכנס שם"},"אחוז משורה",{"$f":"IF(LEN(C$13)>0,C15/$E15,\"\")","v":""},{"$f":"IF(LEN(D$13)>0,D15/$E15,\"\")","v":""},null,null,{"$f":"IF(COUNT(C13:C17)>0,\"מספר התאים שהערך הצפוי שלהם קטן מ 5 הוא \",\"\")","v":""},null,null,{"$f":"IF(COUNT(C13:C17)>0,COUNTIF(C22:D26,\"<5\"),\"\")","v":""}]
[null,"אחוז מעמודה",{"$f":"IF(LEN(C$13)>0,C15/C$18,\"\")","v":""},{"$f":"IF(LEN(D$13)>0,D15/D$18,\"\")","v":""},{"$f":"IF(LEN(E$13)>0,E15/E$18,\"\")","v":""}]
[null,"אחוז מהס\"כ",{"$f":"IF(LEN(C$13)>0,C15/$E$18,\"\")","v":""},{"$f":"IF(LEN(D$13)>0,D15/$E$18,\"\")","v":""}]
[null,"N",{"$f":"IF(COUNT(C13)>0,C16,\"\")","v":""},{"$f":"IF(COUNT(D13)>0,D16,\"\")","v":""},""]
[{"$f":"B16","v":"הכנס שם"},"אחוז משורה",{"$f":"IF(LEN(C$13)>0,C16/$E16,\"\")","v":""},{"$f":"IF(LEN(D$13)>0,D16/$E16,\"\")","v":""}]
[null,"אחוז מעמודה",{"$f":"IF(LEN(C$13)>0,C16/C$18,\"\")","v":""},{"$f":"IF(LEN(D$13)>0,D16/D$18,\"\")","v":""},{"$f":"IF(LEN(E$13)>0,E16/E$18,\"\")","v":""}]
[null,"אחוז מהס\"כ",{"$f":"IF(LEN(C$13)>0,C16/$E$18,\"\")","v":""},{"$f":"IF(LEN(D$13)>0,D16/$E$18,\"\")","v":""}]
[null,"N",{"$f":"IF(COUNT(C13)>0,C17,\"\")","v":""},{"$f":"IF(COUNT(D13)>0,D17,\"\")","v":""},{"$f":"IF(COUNT(E13)>0,E18,\"\")","v":""}]
[{"$f":"B17","v":"הכנס שם"},"אחוז משורה",{"$f":"IF(LEN(C$13)>0,C17/$E17,\"\")","v":""},{"$f":"IF(LEN(D$13)>0,D17/$E17,\"\")","v":""}]
[null,"אחוז מעמודה",{"$f":"IF(LEN(C$13)>0,C17/C$18,\"\")","v":""},{"$f":"IF(LEN(D$13)>0,D17/D$18,\"\")","v":""},{"$f":"IF(LEN(E$13)>0,E17/E$18,\"\")","v":""}]
[null,"אחוז מהס\"כ",{"$f":"IF(LEN(C$13)>0,C17/$E$18,\"\")","v":""},{"$f":"IF(LEN(D$13)>0,D17/$E$18,\"\")","v":""}]
[null,"סה\"כ",{"$f":"IF(LEN(C$13)>0,C18,\"\")","v":""},{"$f":"IF(LEN(D$13)>0,D18,\"\")","v":""},""]
[null,null,{"$f":"IF(LEN(C13)>0,C18/$E$18,\"\")","v":""},{"$f":"IF(LEN(D13)>0,D18/$E$18,\"\")","v":""}]
[]
[]
["observed","משתנה","הכנס שם"]
[null,null,{"$f":"C12","v":"הכנס שם"},{"$f":"D12","v":"הכנס שם"},"סה\"כ"]
["הכנס שם",{"$f":"B13","v":"הכנס שם"},{"$f":"IF(COUNT(C$13:C$17)>2,C13/C$18,\"\")","v":""},{"$f":"IF(COUNT(D$13:D$17)>2,D13/D$18,\"\")","v":""},{"$f":"IF(LEN(C64)>0,SUM(C64:D64),\"\")","v":""}]
[null,{"$f":"B14","v":"הכנס שם"},{"$f":"IF(COUNT(C$13:C$17)>2,C14/C$18,\"\")","v":""},"",{"$f":"IF(LEN(C65)>0,SUM(C65:D65),\"\")","v":""}]
[null,{"$f":"B15","v":"הכנס שם"},{"$f":"IF(COUNT(C$13:C$17)>2,C15/C$18,\"\")","v":""},"",{"$f":"IF(LEN(C66)>0,SUM(C66:D66),\"\")","v":""}]
[null,{"$f":"B16","v":"הכנס שם"},{"$f":"IF(COUNT(C$13:C$17)>2,C16/C$18,\"\")","v":""},"",""]
[null,{"$f":"B17","v":"הכנס שם"},{"$f":"IF(COUNT(C$13:C$17)>2,C17/C$18,\"\")","v":""},"",""]
[null,"סה\"כ",{"$f":"IF(LEN(C64)>0,SUM(C64:C68),\"\")","v":""},{"$f":"IF(LEN(D64)>0,SUM(D64:D68),\"\")","v":""},""]

{"sheet":"Sheet13","index":54,"n_rows":0,"n_cols":0,"rows_kept":0,"cut":false,"hidden":false,"merged":[]}

{"sheet":"chi 2 x 5  (1)","index":55,"n_rows":69,"n_cols":19,"rows_kept":69,"cut":false,"hidden":false,"merged":[[61,2,61,3],[63,0,64,0],[0,0,0,8],[10,2,10,3],[12,0,13,0],[19,2,19,3],[21,0,22,0],[35,2,35,3]]}
["מבחן חי בריבוע לבדיקת קשר/הבדלים בין משתנים קטגורייליים   5X2"]
["הוראות"]
["הכנס את שמות המשתנים   בתיבות הצהובות  C7 A9"]
["הכנס שמות לערכים בתיבות האפורות  בשורה 8 ובעמודה B"]
["הכנס את הערכים (שכיחויות ) בטבלה בתאים הכתומים C7:D9"]
["להדפסת התוצאות לחץ על הדפסה "]
["לעיבוד נוסף לחץ על נקה "]
[]
[null,null,null,null,null,null,null,"החלט איזה תצוגה מתאימה  לנתונים שלך מבחינת המשמעות והפרשנות שלהם "]
[]
["observed","משתנה","הכנס שם משתנה"]
[null,null,"הכנס שם","הכנס שם","סה\"כ"]
["הכנס שם","הכנס שם",null,null,{"$f":"IF(LEN(C13)>0,SUM(C13:D13),\"\")","v":""}]
[null,"הכנס שם",null,null,{"$f":"IF(LEN(C14)>0,SUM(C14:D14),\"\")","v":""}]
[null,"הכנס שם",null,null,""]
[null,"הכנס שם",null,null,""]
[null,"הכנס שם",null,null,""]
[null,"סה\"כ",{"$f":"IF(LEN(C13)>0,SUM(C13:C17),\"\")","v":""},{"$f":"IF(LEN(D13)>0,SUM(D13:D17),\"\")","v":""},""]
[]
["expected",null,{"$f":"C11","v":"הכנס שם משתנה"}]
[null,null,{"$f":"C12","v":"הכנס שם"},{"$f":"D12","v":"הכנס שם"},"סה\"כ"]
[{"$f":"A13","v":"הכנס שם"},{"$f":"B13","v":"הכנס שם"},{"$f":"IF(C13>0,(C$18*$E13)/$E$18,\"\")","v":""},"",{"$f":"E13","v":""}]
[null,{"$f":"B14","v":"הכנס שם"},"","",{"$f":"E14","v":""}]
[null,{"$f":"B15","v":"הכנס שם"},"","",{"$f":"E15","v":""}]
[null,{"$f":"B16","v":"הכנס שם"},"","",{"$f":"E16","v":""}]
[null,{"$f":"B17","v":"הכנס שם"},"","",""]
[null,"סה\"כ",{"$f":"IF(C13>0,C18,\"\")","v":""},{"$f":"IF(D13>0,D18,\"\")","v":""},""]
[]
[null,"הפרשים",{"$f":"IF(C$13>0,((C13-C22)^2)/C22,\"\")","v":""},"",null,{"$f":"IF(COUNT(C13:C17)>3,4,\"\")","v":""},"df","דרגות חופש  "]
[null,null,"","",null,{"$f":"IF(C13>0,SUM(C29:D33),\"\")","v":""},"c2","ערך סטטיסטי"]
[null,null,"","",null,{"$f":"IF(C13>0,CHIINV(0.05,F29),\"\")","v":""},"crit","ערך קריטי 0.05",null,{"$f":"IF(COUNT(C13:C17)>1,IF(F30>F31,\"מובהק - יש די ראיות  להגיד  שיש  קשר  בין  המשתנים  ברמת מובהקות  של  \",\"לא מובהק - אין  די ראיות להגיד שיש קשר בין המשתנים ברמת מובהקות של 0.05  \"),\"\")","v":""},null,null,null,null,null,null,{"$f":"IF(F30>F31,F33,\"\")","v":""}]
[null,null,"","",null,{"$f":"IF(C13>0,CHIINV(0.01,F29),\"\")","v":""},"crit","ערך קריטי 0.01"]
[null,null,"","",null,{"$f":"IF(C$13>0,CHIDIST(F30,F29),\"\")","v":""},"p","( Sig ) מובהקות דו צדדית "," (a') ",null,null,null,"כתיבה מדעית ",null,null,{"$f":"IF(COUNT(C13:C17)>1,IF(F33<0.01,CONCATENATE(P36,\" < 0.01\"),IF(F33<0.05,CONCATENATE(P36,\" < 0.05\"),CONCATENATE(P36, \" > 0.05\"))),\"\")","v":""},null,null,{"$f":"CONCATENATE(P36,TEXT(F33,\"0.00\"))","v":""}]
[]
[]
[null,null,"משתנה 1",null,null,null,null,"פרשנות ",null,null,null,null,null,null,null,{"$f":"IF(COUNT(C13:C17)>1,CONCATENATE(G30,\"(\",F29,\")=\",LEFT(F30,5),\",  R=\"),\"\")","v":""}]
[null,null,{"$f":"C12","v":"הכנס שם"},{"$f":"D12","v":"הכנס שם"},"סה\"כ",null,null,"כדי לתת פרשנות משמעותית  לתוצאות יש לבטא את הערכים באחוזים "]
[null,"N",{"$f":"IF($C$13>0,C13,\"\")","v":""},{"$f":"IF($C$13>0,D13,\"\")","v":""},{"$f":"IF($C$13>0,E13,\"\")","v":""},null,null,"ולהשוות את הקטגוריות הרלוונטיות "]
[{"$f":"B13","v":"הכנס שם"},"אחוז משורה",{"$f":"IF(C$13>0,C13/$E13,\"\")","v":""},{"$f":"IF(D13>0,D13/$E13,\"\")","v":""}]
[null,"אחוז מעמודה",{"$f":"IF(C13>0,C13/C$18,\"\")","v":""},{"$f":"IF(D13>0,D13/D$18,\"\")","v":""},{"$f":"IF(C13>0,E13/E$18,\"\")","v":""}]
[null,"אחוז מהס\"כ",{"$f":"IF(C13>0,C13/$E$18,\"\")","v":""},{"$f":"IF(D13>0,D13/$E$18,\"\")","v":""},null,null,"משמעות:"]
[null,"N",{"$f":"IF($C$13>0,C14,\"\")","v":""},{"$f":"IF($C$13>0,D14,\"\")","v":""},"",null,"אם הערך הסטטיסטי גדול יותר מהערך הקריטי המשמעות שיש די ראיות לדחות את השערת האפס ולהגיד שיש קשר בין המשתנים"]
[{"$f":"B14","v":"הכנס שם"},"אחוז משורה",{"$f":"IF(C$13>0,C14/$E14,\"\")","v":""},{"$f":"IF(D14>0,D14/$E14,\"\")","v":""}]
[null,"אחוז מעמודה",{"$f":"IF(C14>0,C14/C$18,\"\")","v":""},{"$f":"IF(D14>0,D14/D$18,\"\")","v":""},{"$f":"IF(C$13>0,E14/E$18,\"\")","v":""},null,"המשמעות של  P - רמת המבוהקות של המבחן -  האומרת שבמידה וקובעים שיש קשר בין המשתנים בכמה אחוז מהמדגמים ניתן לדאוג"]
[null,"אחוז מהס\"כ",{"$f":"IF(C14>0,C14/$E$18,\"\")","v":""},{"$f":"IF(D14>0,D14/$E$18,\"\")","v":""},null,null,"אם הערך שיוצא הוא מעל 0.05 (כלומר 5%) המשמעות היא שיש סיכוי מ 5 אחוז לטעות בקביעה שיש קשר בין המשתנים ונקבע שאין די ראיות להגיד שיש קשר בין המשתנים"]
[null,"N",{"$f":"IF($C$13>0,C17,\"\")","v":""},{"$f":"IF($C$13>0,D17,\"\")","v":""},""]
[{"$f":"B15","v":"הכנס שם"},"אחוז משורה",{"$f":"IF(C$13>0,C17/$E17,\"\")","v":""},{"$f":"IF(D13>0,D17/$E17,\"\")","v":""}]
[null,"אחוז מעמודה",{"$f":"IF(C$13>0,C15/C$18,\"\")","v":""},{"$f":"IF(D$13>0,D15/D$18,\"\")","v":""},{"$f":"IF(C$13>0,E17/E$18,\"\")","v":""}]
[null,"אחוז מהס\"כ",{"$f":"IF(C$13>0,C17/$E$18,\"\")","v":""},{"$f":"IF(D$13>0,D17/$E$18,\"\")","v":""}]
[null,"N",{"$f":"IF($C$13>0,C21,\"\")","v":""},{"$f":"IF($C$13>0,D21,\"\")","v":""},""]
[{"$f":"B16","v":"הכנס שם"},"אחוז משורה",{"$f":"IF(C$13>0,C21/$E21,\"\")","v":""},{"$f":"IF(D17>0,D21/$E21,\"\")","v":""}]
[null,"אחוז מעמודה",{"$f":"IF(C$13>0,C19/C$18,\"\")","v":""},{"$f":"IF(D$13>0,D19/D$18,\"\")","v":""},{"$f":"IF(C$13>0,E21/E$18,\"\")","v":""}]
[null,"אחוז מהס\"כ",{"$f":"IF(C$13>0,C21/$E$18,\"\")","v":""},{"$f":"IF(D$13>0,D21/$E$18,\"\")","v":""}]
[null,"N",{"$f":"IF($C$13>0,C18,\"\")","v":""},{"$f":"IF($C$13>0,D18,\"\")","v":""},""]
[{"$f":"B17","v":"הכנס שם"},"אחוז משורה",{"$f":"IF(C$13>0,C17/$E17,\"\")","v":""},{"$f":"IF(D$13>0,D17/$E17,\"\")","v":""}]
[null,"אחוז מעמודה",{"$f":"IF(C$13>0,C17/C$18,\"\")","v":""},{"$f":"IF(D$13>0,D17/D$18,\"\")","v":""},{"$f":"IF(C$13>0,E17/E$18,\"\")","v":""}]
[null,"אחוז מהס\"כ",{"$f":"IF(C$13>0,C17/$E$18,\"\")","v":""},{"$f":"IF(D$13>0,D17/$E$18,\"\")","v":""}]
[null,"סה\"כ",{"$f":"IF(C$13>0,C18,\"\")","v":""},{"$f":"IF(D$13>0,D18,\"\")","v":""},{"$f":"IF(E13>0,E18,\"\")","v":""}]
[null,null,{"$f":"IF(C13>0,C18/$E$18,\"\")","v":""},{"$f":"IF(D13>0,D18/$E$18,\"\")","v":""}]
[]
[]
["observed","משתנה","הכנס שם"]
[null,null,{"$f":"C12","v":"הכנס שם"},{"$f":"D12","v":"הכנס שם"},"סה\"כ"]
["הכנס שם",{"$f":"B13","v":"הכנס שם"},{"$f":"IF(COUNT(C13:C17)>2,C13/C$18,\"\")","v":""},{"$f":"IF(COUNT(D13:D17)>2,D13/D$18,\"\")","v":""},{"$f":"IF(C64>0,SUM(C64:D64),\"\")","v":0}]
[null,{"$f":"B14","v":"הכנס שם"},{"$f":"IF(COUNT(C14:C18)>2,C14/C$18,\"\")","v":""},"",{"$f":"IF(C65>0,SUM(C65:D65),\"\")","v":0}]
[null,{"$f":"B15","v":"הכנס שם"},"","",0]
[null,{"$f":"B16","v":"הכנס שם"},"","",0]
[null,{"$f":"B17","v":"הכנס שם"},"","",0]
[null,"סה\"כ",{"$f":"IF(C64>0,SUM(C64:C68),\"\")","v":0},{"$f":"IF(D64>0,SUM(D64:D68),\"\")","v":0},{"$f":"IF(C64>0,SUM(C69:D69),\"\")","v":0}]

{"sheet":"chi 3  X3 ","index":56,"n_rows":53,"n_cols":20,"rows_kept":53,"cut":false,"hidden":false,"merged":[[47,2,47,4],[49,0,50,0],[0,0,0,9],[10,2,10,4],[12,0,13,0],[17,2,17,4],[19,0,20,0],[29,2,29,4],[29,6,29,7]]}
["מבחן חי בריבוע לבדיקת קשר/הבדלים בין משתנים קטגורייליים   3X3"]
["הוראות"]
["הכנס את שמות המשתנים   בתיבות הצהובות  C11 A13"]
["הכנס שמות לערכים בתיבות האפורות  בשורה 12 ובעמודה B"]
["הכנס את הערכים (שכיחויות ) בטבלה בתאים הכתומים C13:E15"]
["תוצאות המבחן יופיעו באופן אוטומטי"]
["להדפסת התוצאות לחץ על הדפסה "]
["לעיבוד נוסף לחץ על נקה ",null,null,null,null,null,null,null,null,"החלט איזה תצוגה מתאימה  לנתונים שלך מבחינת המשמעות והפרשנות שלהם "]
[]
[]
["observed","משתנה","הכנס שם"]
[null,null,"הכנס שם","הכנס שם","הכנס שם","סה\"כ"]
["הכנס שם","הכנס שם",null,null,null,{"$f":"IF(LEN(C13)>0,SUM(C13:E13),\"\")","v":""}]
[null,"הכנס שם",null,null,null,{"$f":"IF(LEN(C14)>0,SUM(C14:E14),\"\")","v":""}]
[null,"הכנס שם",null,null,null,""]
[null,"סה\"כ",{"$f":"IF(LEN(C13)>0,SUM(C13:C15),\"\")","v":""},{"$f":"IF(LEN(D13)>0,SUM(D13:D15),\"\")","v":""},"",""]
[]
["expected",null,{"$f":"C11","v":"הכנס שם"}]
[null,null,{"$f":"C12","v":"הכנס שם"},{"$f":"D12","v":"הכנס שם"},{"$f":"E12","v":"הכנס שם"},"סה\"כ"]
[{"$f":"A13","v":"הכנס שם"},{"$f":"B13","v":"הכנס שם"},{"$f":"IF(LEN(C13)>0,(C$16*$F13)/$F$16,\"\")","v":""},{"$f":"IF(LEN(D13)>0,(D$16*$F13)/$F$16,\"\")","v":""},"",{"$f":"IF(LEN(C13)>0,F13,\"\")","v":""}]
[null,{"$f":"B14","v":"הכנס שם"},{"$f":"IF(LEN(C14)>0,(C$16*$F14)/$F$16,\"\")","v":""},"","",{"$f":"IF(LEN(C14)>0,F14,\"\")","v":""}]
[null,{"$f":"B15","v":"הכנס שם"},{"$f":"IF(LEN(C15)>0,(C$16*$F15)/$F$16,\"\")","v":""},"","",""]
[null,"סה\"כ",{"$f":"IF(LEN(C13)>0,C16,\"\")","v":""},{"$f":"IF(LEN(D13)>0,D16,\"\")","v":""},"",""]
[]
[null,"הפרשים",{"$f":"IF(LEN(C13)>0,((C13-C20)^2)/C20,\"\")","v":""},{"$f":"IF(LEN(D13)>0,((D13-D20)^2)/D20,\"\")","v":""},"",null,{"$f":"IF(COUNT(C13:C15)>1,4,\"\")","v":""},"df"," "]
[null,null,{"$f":"IF(LEN(C14)>0,((C14-C21)^2)/C21,\"\")","v":""},"","",null,{"$f":"IF(LEN(C13)>0,SUM(C25:E27),\"\")","v":""},"c2","ערך סטטיסטי"]
[null,null,{"$f":"IF(LEN(C15)>0,((C15-C22)^2)/C22,\"\")","v":""},"","",null,{"$f":"IF(LEN(C13)>0,CHIINV(0.05,G25),\"\")","v":""},"crit","ערך קריטי 0.05",null,{"$f":"IF(COUNT(C15:C16)>1,IF(G26>G27,\"מובהק - יש די ראיות  להגיד  שיש  קשר  בין  המשתנים  ברמת מובהקות  של  \",\"לא מובהק - אין  די ראיות להגיד שיש קשר בין המשתנים ברמת מובהקות של 0.05  \"),\"\")","v":""},null,null,null,null,null,null,{"$f":"IF(G26>G27,G29,\"\")","v":""}]
[null,null,null,null,null,null,{"$f":"IF(LEN(C13)>0,CHIINV(0.01,G25),\"\")","v":""},"crit","ערך קריטי 0.01"]
[null,null,null,null,null,null,{"$f":"IF(COUNT(C15:C16)>1,CHIDIST(G26,G25),\"\")","v":""},"P","( Sig ) מובהקות דו צדדית "," (a') ",null,null,null,"כתיבה מדעית ",null,null,{"$f":"IF(COUNT(C13:C15)>1,IF(G29<0.01,CONCATENATE(Q31,\" < 0.01\"),IF(G29<0.05,CONCATENATE(Q31,\" < 0.05\"),CONCATENATE(Q31, \" > 0.05\"))),\"\")","v":""},null,null,{"$f":"CONCATENATE(Q31,TEXT(G29,\"0.00\"))","v":""}]
[null,null,"משתנה 1",null,null,null,"מדד על שם קרמר",null,{"$f":"IF(COUNT(C13:E15)=9,SQRT((G26/(F16*2))),\"\")","v":""}]
[null,null,{"$f":"C12","v":"הכנס שם"},{"$f":"D12","v":"הכנס שם"},{"$f":"E12","v":"הכנס שם"},{"$f":"F12","v":"סה\"כ"},null,null,"פרשנות ",null,null,null,null,null,null,null,{"$f":"IF(COUNT(C15:C16)>1,CONCATENATE(H26,\"(\",G25,\")=\",LEFT(G26,5),\",  R=\"),\"\")","v":""}]
[null,"N",{"$f":"IF(LEN(C13)>0,C13,\"\")","v":""},{"$f":"IF(LEN(D13)>0,D13,\"\")","v":""},"","",null,null,"כדי לתת פרשנות משמעותית  לתוצאות יש לבטא את הערכים באחוזים "]
[{"$f":"B13","v":"הכנס שם"},"אחוז משורה",{"$f":"IF(LEN(C13)>0,C13/$F13,\"\")","v":""},{"$f":"IF(LEN(D13)>0,D13/$F13,\"\")","v":""},"",null,null,null,"ולהשוות את הקטגוריות הרלוונטיות "]
[null,"אחוז מעמודה",{"$f":"IF(LEN(C13)>0,C13/C$16,\"\")","v":""},{"$f":"IF(LEN(D13)>0,D13/D$16,\"\")","v":""},"",{"$f":"IF(LEN(C13)>0,F13/F$16,\"\")","v":""}]
[null,"אחוז מהס\"כ",{"$f":"IF(LEN(C13)>0,C13/$F$16,\"\")","v":""},{"$f":"IF(LEN(D13)>0,D13/$F$16,\"\")","v":""},"",null,null,"משמעות:"]
[null,"N",{"$f":"IF(LEN(C13)>0,C14,\"\")","v":""},{"$f":"IF(LEN(D13)>0,D14,\"\")","v":""},"","",null,"אם הערך הסטטיסטי גדול יותר מהערך הקריטי המשמעות שיש די ראיות לדחות את השערת האפס ולהגיד שיש קשר בין המשתנים"]
[{"$f":"B14","v":"הכנס שם"},"אחוז משורה",{"$f":"IF(LEN(C14)>0,C14/$F14,\"\")","v":""},{"$f":"IF(LEN(D14)>0,D14/$F14,\"\")","v":""},""]
[null,"אחוז מעמודה",{"$f":"IF(LEN(C14)>0,C14/C$16,\"\")","v":""},{"$f":"IF(LEN(D14)>0,D14/D$16,\"\")","v":""},"",{"$f":"IF(C$13>0,F14/F$16,\"\")","v":""},null,"המשמעות של  P - רמת המבוהקות של המבחן -  האומרת שבמידה וקובעים שיש קשר בין המשתנים בכמה אחוז מהמדגמים ניתן לדאוג"]
[null,"אחוז מהס\"כ",{"$f":"IF(LEN(C14)>0,C14/$F$16,\"\")","v":""},{"$f":"IF(LEN(D14)>0,D14/$F$16,\"\")","v":""},"",null,null,"אם הערך שיוצא הוא מעל 0.05 (כלומר 5%) המשמעות היא שיש סיכוי מ 5 אחוז לטעות בקביעה שיש קשר בין המשתנים ונקבע שאין די ראיות להגיד שיש קשר בין המשתנים"]
[null,"N",{"$f":"IF(LEN(C13)>0,C15,\"\")","v":""},{"$f":"IF(LEN(D13)>0,D15,\"\")","v":""},"",""]
[{"$f":"B15","v":"הכנס שם"},"אחוז משורה",{"$f":"IF(LEN(C13)>0,C15/$F15,\"\")","v":""},{"$f":"IF(LEN(D13)>0,D15/$F15,\"\")","v":""},"",null,null,{"$f":"IF(COUNT(C13:E15)>0,\"מספר התאים שהערך הצפוי שלהם קטן מ 5 הוא \",\"\")","v":""},null,null,{"$f":"IF(COUNT(C13:E15)>0,COUNTIF(C20:E22,\"<5\"),\"\")","v":""}]
[null,"אחוז מעמודה",{"$f":"IF(LEN(C$13)>0,C15/C$16,\"\")","v":""},{"$f":"IF(LEN(D$13)>0,D15/D$16,\"\")","v":""},"",{"$f":"IF(LEN(C$13)>0,F15/F$16,\"\")","v":""}]
[null,"אחוז מהס\"כ",{"$f":"IF(LEN(C$13)>0,C15/$F$16,\"\")","v":""},{"$f":"IF(LEN(D$13)>0,D15/$F$16,\"\")","v":""},""]
[null,"סה\"כ",{"$f":"IF(LEN(C$13)>0,C16,\"\")","v":""},{"$f":"IF(LEN(D$13)>0,D16,\"\")","v":""},"",""]
[null,null,{"$f":"IF(LEN(C13)>0,C16/$F$16,\"\")","v":""},{"$f":"IF(LEN(D13)>0,D16/$F$16,\"\")","v":""},""]
[]
[]
["observed","משתנה","הכנס שם"]
[null,null,"הכנס שם",null,"הכנס שם","סה\"כ"]
["הכנס שם","הכנס שם",{"$f":"IF(COUNT(C13:C15)>1,C13/C$16,\"\")","v":""},{"$f":"IF(COUNT(D13:D15)>1,D13/D$16,\"\")","v":""},"",{"$f":"IF(C$50>0,SUM(C50:E50),\"\")","v":0}]
[null,"הכנס שם",{"$f":"IF(COUNT(C13:C15)>1,C14/C$16,\"\")","v":""},{"$f":"IF(COUNT(D13:D15)>1,D14/D$16,\"\")","v":""},"",{"$f":"IF(C$50>0,SUM(C51:E51),\"\")","v":0}]
[null,"הכנס שם",{"$f":"IF(COUNT(C13:C15)>1,C15/C$16,\"\")","v":""},{"$f":"IF(COUNT(D13:D15)>1,D15/D$16,\"\")","v":""},"",{"$f":"IF(C$50>0,SUM(C52:E52),\"\")","v":0}]
[null,"סה\"כ",{"$f":"IF(COUNT(C13:C15)>1,C16/C$16,\"\")","v":""},{"$f":"IF(COUNT(D13:D15)>1,D16/D$16,\"\")","v":""},"",{"$f":"IF(C53>0,SUM(F50:F52),\"\")","v":0}]

{"sheet":"chi 3  X3  (2)","index":57,"n_rows":53,"n_cols":20,"rows_kept":53,"cut":false,"hidden":false,"merged":[[47,2,47,4],[49,0,50,0],[0,0,0,9],[10,2,10,4],[12,0,13,0],[17,2,17,4],[19,0,20,0],[29,2,29,4]]}
["מבחן חי בריבוע לבדיקת קשר/הבדלים בין משתנים קטגורייליים   3X3"]
["הוראות"]
["הכנס את שמות המשתנים   בתיבות הצהובות  C11 A13"]
["הכנס שמות לערכים בתיבות האפורות  בשורה 12 ובעמודה B"]
["הכנס את הערכים (שכיחויות ) בטבלה בתאים הכתומים C13:E15"]
["תוצאות המבחן יופיעו באופן אוטומטי"]
["להדפסת התוצאות לחץ על הדפסה "]
["לעיבוד נוסף לחץ על נקה ",null,null,null,null,null,null,null,null,"החלט איזה תצוגה מתאימה  לנתונים שלך מבחינת המשמעות והפרשנות שלהם "]
[]
[]
["observed","משתנה","הכנס שם"]
[null,null,"הכנס שם","הכנס שם","הכנס שם","סה\"כ"]
["הכנס שם","הכנס שם",null,null,null,{"$f":"IF(LEN(C13)>0,SUM(C13:E13),\"\")","v":""}]
[null,"הכנס שם",null,null,null,{"$f":"IF(LEN(C14)>0,SUM(C14:E14),\"\")","v":""}]
[null,"הכנס שם",null,null,null,""]
[null,"סה\"כ",{"$f":"IF(LEN(C13)>0,SUM(C13:C15),\"\")","v":""},{"$f":"IF(LEN(D13)>0,SUM(D13:D15),\"\")","v":""},"",""]
[]
["expected",null,{"$f":"C11","v":"הכנס שם"}]
[null,null,{"$f":"C12","v":"הכנס שם"},{"$f":"D12","v":"הכנס שם"},{"$f":"E12","v":"הכנס שם"},"סה\"כ"]
[{"$f":"A13","v":"הכנס שם"},{"$f":"B13","v":"הכנס שם"},null,null,null,{"$f":"IF(LEN(C20)>0,SUM(C20:E20),\"\")","v":""}]
[null,{"$f":"B14","v":"הכנס שם"},null,null,null,{"$f":"IF(LEN(C21)>0,SUM(C21:E21),\"\")","v":""}]
[null,{"$f":"B15","v":"הכנס שם"},null,null,null,""]
[null,"סה\"כ",{"$f":"IF(LEN(C20)>0,SUM(C20:C22),\"\")","v":""},{"$f":"IF(LEN(D20)>0,SUM(D20:D22),\"\")","v":""},"",""]
[]
[null,"הפרשים",{"$f":"IF(C13>0,((C13-C20)^2)/C20,\"\")","v":""},{"$f":"IF(D13>0,((D13-D20)^2)/D20,\"\")","v":""},{"$f":"IF(E13>0,((E13-E20)^2)/E20,\"\")","v":""},null,{"$f":"IF(COUNT(C13:C15)>1,4,\"\")","v":""},"df"," "]
[null,null,{"$f":"IF(C14>0,((C14-C21)^2)/C21,\"\")","v":""},{"$f":"IF(D14>0,((D14-D21)^2)/D21,\"\")","v":""},"",null,{"$f":"IF(C13>0,SUM(C25:E27),\"\")","v":""},"c2","ערך סטטיסטי"]
[null,null,{"$f":"IF(C15>0,((C15-C22)^2)/C22,\"\")","v":""},"","",null,{"$f":"IF(C13>0,CHIINV(0.05,G25),\"\")","v":""},"crit","ערך קריטי 0.05",null,{"$f":"IF(COUNT(C15:C16)>1,IF(G26>G27,\"מובהק - יש די ראיות  להגיד  שיש  קשר  בין  המשתנים  ברמת מובהקות  של  \",\"לא מובהק - אין  די ראיות להגיד שיש קשר בין המשתנים ברמת מובהקות של 0.05  \"),\"\")","v":""},null,null,null,null,null,null,{"$f":"IF(G26>G27,G29,\"\")","v":""}]
[null,null,null,null,null,null,{"$f":"IF(C13>0,CHIINV(0.01,G25),\"\")","v":""},"crit","ערך קריטי 0.01"]
[null,null,null,null,null,null,{"$f":"IF(COUNT(C15:C16)>1,CHIDIST(G26,G25),\"\")","v":""},"P","( Sig ) מובהקות דו צדדית "," (a') ",null,null,null,"כתיבה מדעית ",null,null,{"$f":"IF(COUNT(C13:C15)>1,IF(G29<0.01,CONCATENATE(Q31,\" < 0.01\"),IF(G29<0.05,CONCATENATE(Q31,\" < 0.05\"),CONCATENATE(Q31, \" > 0.05\"))),\"\")","v":""},null,null,{"$f":"CONCATENATE(Q31,TEXT(G29,\"0.00\"))","v":""}]
[null,null,"משתנה 1"]
[null,null,{"$f":"C12","v":"הכנס שם"},{"$f":"D12","v":"הכנס שם"},{"$f":"E12","v":"הכנס שם"},{"$f":"F12","v":"סה\"כ"},null,null,"פרשנות ",null,null,null,null,null,null,null,{"$f":"IF(COUNT(C15:C16)>1,CONCATENATE(H26,\"(\",G25,\")=\",LEFT(G26,5),\",  R=\"),\"\")","v":""}]
[null,"N",{"$f":"IF($C$13>0,C13,\"\")","v":""},{"$f":"IF($C$13>0,D13,\"\")","v":""},{"$f":"IF($C$13>0,E13,\"\")","v":""},{"$f":"IF($C$13>0,F13,\"\")","v":""},null,null,"כדי לתת פרשנות משמעותית  לתוצאות יש לבטא את הערכים באחוזים "]
[{"$f":"B13","v":"הכנס שם"},"אחוז משורה",{"$f":"IF(C13>0,C13/$F13,\"\")","v":""},{"$f":"IF(D13>0,D13/$F13,\"\")","v":""},{"$f":"IF(E13>0,E13/$F13,\"\")","v":""},{"$f":"SUM(F32)","v":0},null,null,"ולהשוות את הקטגוריות הרלוונטיות "]
[null,"אחוז מעמודה",{"$f":"IF(C13>0,C13/C$16,\"\")","v":""},{"$f":"IF(D13>0,D13/D$16,\"\")","v":""},{"$f":"IF(E13>0,E13/E$16,\"\")","v":""},{"$f":"IF(C13>0,F13/F$16,\"\")","v":""}]
[null,"אחוז מהס\"כ",{"$f":"IF(C13>0,C13/$F$16,\"\")","v":""},{"$f":"IF(D13>0,D13/$F$16,\"\")","v":""},{"$f":"IF(E13>0,E13/$F$16,\"\")","v":""},null,null,"משמעות:"]
[null,"N",{"$f":"IF($C$13>0,C14,\"\")","v":""},{"$f":"IF($C$13>0,D14,\"\")","v":""},{"$f":"IF($C$13>0,E14,\"\")","v":""},{"$f":"IF($C$13>0,F14,\"\")","v":""},null,"אם הערך הסטטיסטי גדול יותר מהערך הקריטי המשמעות שיש די ראיות לדחות את השערת האפס ולהגיד שיש קשר בין המשתנים"]
[{"$f":"B14","v":"הכנס שם"},"אחוז משורה",{"$f":"IF(C14>0,C14/$F14,\"\")","v":""},{"$f":"IF(D14>0,D14/$F14,\"\")","v":""},{"$f":"IF(E14>0,E14/$F14,\"\")","v":""}]
[null,"אחוז מעמודה",{"$f":"IF(C14>0,C14/C$16,\"\")","v":""},{"$f":"IF(D14>0,D14/D$16,\"\")","v":""},{"$f":"IF(E14>0,E14/E$16,\"\")","v":""},{"$f":"IF(C$13>0,F14/F$16,\"\")","v":""},null,"המשמעות של  P - רמת המבוהקות של המבחן -  האומרת שבמידה וקובעים שיש קשר בין המשתנים בכמה אחוז מהמדגמים ניתן לדאוג"]
[null,"אחוז מהס\"כ",{"$f":"IF(C14>0,C14/$F$16,\"\")","v":""},{"$f":"IF(D14>0,D14/$F$16,\"\")","v":""},{"$f":"IF(E14>0,E14/$F$16,\"\")","v":""},null,null,"אם הערך שיוצא הוא מעל 0.05 (כלומר 5%) המשמעות היא שיש סיכוי מ 5 אחוז לטעות בקביעה שיש קשר בין המשתנים ונקבע שאין די ראיות להגיד שיש קשר בין המשתנים"]
[null,"N",{"$f":"IF($C$13>0,C15,\"\")","v":""},{"$f":"IF($C$13>0,D15,\"\")","v":""},{"$f":"IF($C$13>0,E15,\"\")","v":""},""]
[{"$f":"B15","v":"הכנס שם"},"אחוז משורה",{"$f":"IF(C13>0,C15/$F15,\"\")","v":""},{"$f":"IF(D13>0,D15/$F15,\"\")","v":""},{"$f":"IF(E13>0,E15/$F15,\"\")","v":""}]
[null,"אחוז מעמודה",{"$f":"IF(C$13>0,C15/C$16,\"\")","v":""},{"$f":"IF(D$13>0,D15/D$16,\"\")","v":""},{"$f":"IF(E$13>0,E15/E$16,\"\")","v":""},{"$f":"IF(C$13>0,F15/F$16,\"\")","v":""}]
[null,"אחוז מהס\"כ",{"$f":"IF(C$13>0,C15/$F$16,\"\")","v":""},{"$f":"IF(D$13>0,D15/$F$16,\"\")","v":""},{"$f":"IF(E$13>0,E15/$F$16,\"\")","v":""}]
[null,"סה\"כ",{"$f":"IF(C$13>0,C16,\"\")","v":""},{"$f":"IF(D$13>0,D16,\"\")","v":""},"",{"$f":"IF(F13>0,F16,\"\")","v":""}]
[null,null,{"$f":"IF(C13>0,C16/$F$16,\"\")","v":""},{"$f":"IF(D13>0,D16/$F$16,\"\")","v":""},""]
[]
[]
["observed","משתנה","הכנס שם"]
[null,null,"הכנס שם",null,"הכנס שם","סה\"כ"]
["הכנס שם","הכנס שם",{"$f":"IF(COUNT(C13:C15)>1,C13/C$16,\"\")","v":""},{"$f":"IF(COUNT(D13:D15)>1,D13/D$16,\"\")","v":""},"",{"$f":"IF(C50>0,SUM(C50:E50),\"\")","v":0}]
[null,"הכנס שם",{"$f":"IF(COUNT(C14:C16)>1,C14/C$16,\"\")","v":""},"","",{"$f":"IF(C51>0,SUM(C51:E51),\"\")","v":0}]
[null,"הכנס שם","","","",0]
[null,"סה\"כ","","","",0]

{"sheet":"chi 3  X4 ","index":58,"n_rows":53,"n_cols":21,"rows_kept":53,"cut":false,"hidden":false,"merged":[[47,2,47,5],[49,0,50,0],[0,0,0,10],[10,2,10,5],[12,0,13,0],[17,2,17,5],[19,0,20,0],[29,2,29,5],[29,7,29,8]]}
["מבחן חי בריבוע לבדיקת קשר/הבדלים בין משתנים קטגורייליים   4X3"]
["הוראות"]
["הכנס את שמות המשתנים   בתיבות הצהובות  C11 A13"]
["הכנס שמות לערכים בתיבות האפורות  בשורה 12 ובעמודה B"]
["הכנס את הערכים (שכיחויות ) בטבלה בתאים הכתומים C13:F15"]
["תוצאות המבחן יופיעו באופן אוטומטי"]
["להדפסת התוצאות לחץ על הדפסה ",null,null,null,null,null,null,null,null,"החלט איזה תצוגה מתאימה  לנתונים שלך מבחינת המשמעות והפרשנות שלהם "]
["לעיבוד נוסף לחץ על נקה "]
[]
[]
["observed","משתנה","הכנס שם"]
[null,null,"הכנס שם","הכנס שם","הכנס שם","הכנס שם","סה\"כ"]
["הכנס שם","הכנס שם",null,null,null,null,{"$f":"IF(LEN(C13)>0,SUM(C13:F13),\"\")","v":""}]
[null,"הכנס שם",null,null,null,null,{"$f":"IF(LEN(C14)>0,SUM(C14:F14),\"\")","v":""}]
[null,"הכנס שם",null,null,null,null,""]
[null,"סה\"כ",{"$f":"IF(LEN(C13)>0,SUM(C13:C15),\"\")","v":""},{"$f":"IF(LEN(D13)>0,SUM(D13:D15),\"\")","v":""},"","",""]
[]
["expected",null,{"$f":"C11","v":"הכנס שם"}]
[null,null,{"$f":"C12","v":"הכנס שם"},{"$f":"D12","v":"הכנס שם"},{"$f":"E12","v":"הכנס שם"},{"$f":"F12","v":"הכנס שם"},"סה\"כ"]
[{"$f":"A13","v":"הכנס שם"},{"$f":"B13","v":"הכנס שם"},{"$f":"IF(LEN(C13)>0,(C$16*$G13)/$G$16,\"\")","v":""},{"$f":"IF(LEN(D13)>0,(D$16*$G13)/$G$16,\"\")","v":""},"","",{"$f":"G13","v":""}]
[null,{"$f":"B14","v":"הכנס שם"},{"$f":"IF(LEN(C14)>0,(C$16*$G14)/$G$16,\"\")","v":""},"","","",{"$f":"G14","v":""}]
[null,{"$f":"B15","v":"הכנס שם"},{"$f":"IF(LEN(C15)>0,(C$16*$G15)/$G$16,\"\")","v":""},"","","",{"$f":"G15","v":""}]
[null,"סה\"כ",{"$f":"IF(LEN(C13)>0,C16,\"\")","v":""},{"$f":"IF(LEN(D13)>0,D16,\"\")","v":""},{"$f":"IF(LEN(E13)>0,E16,\"\")","v":""},"",{"$f":"G16","v":""}]
[]
[null,"הפרשים",{"$f":"IF(LEN(C13)>0,((C13-C20)^2)/C20,\"\")","v":""},{"$f":"IF(LEN(D13)>0,((D13-D20)^2)/D20,\"\")","v":""},{"$f":"IF(LEN(E13)>0,((E13-E20)^2)/E20,\"\")","v":""},"",null,{"$f":"IF(COUNT(C13:C15)>1,6,\"\")","v":""},"df","דרגות חופש  "]
[null,null,{"$f":"IF(LEN(C14)>0,((C14-C21)^2)/C21,\"\")","v":""},{"$f":"IF(LEN(D14)>0,((D14-D21)^2)/D21,\"\")","v":""},"","",null,{"$f":"IF(LEN(C13)>0,SUM(C25:F27),\"\")","v":""},"c2","ערך סטטיסטי"]
[null,null,{"$f":"IF(LEN(C15)>0,((C15-C22)^2)/C22,\"\")","v":""},{"$f":"IF(LEN(D15)>0,((D15-D22)^2)/D22,\"\")","v":""},"","",null,{"$f":"IF(LEN(C13)>0,CHIINV(0.05,H25),\"\")","v":""},"crit","ערך קריטי 0.05",null,{"$f":"IF(COUNT(C15:C16)>1,IF(H26>H27,\"מובהק - יש די ראיות  להגיד  שיש  קשר  בין  המשתנים  ברמת מובהקות  של  \",\"לא מובהק - אין  די ראיות להגיד שיש קשר בין המשתנים ברמת מובהקות של 0.05  \"),\"\")","v":""},null,null,null,null,null,null,{"$f":"IF(H26>H27,H29,\"\")","v":""}]
[null,null,null,null,null,null,null,{"$f":"IF(LEN(C13)>0,CHIINV(0.01,H25),\"\")","v":""},"crit","ערך קריטי 0.01"]
[null,null,null,null,null,null,null,{"$f":"IF(COUNT(C15:C16)>1,CHIDIST(H26,H25),\"\")","v":""},"P","( Sig ) מובהקות דו צדדית "," (a') ",null,null,null,"כתיבה מדעית ",null,null,{"$f":"IF(COUNT(C13:C15)>1,IF(H29<0.01,CONCATENATE(R31,\" < 0.01\"),IF(H29<0.05,CONCATENATE(R31,\" < 0.05\"),CONCATENATE(R31, \" > 0.05\"))),\"\")","v":""},null,null,{"$f":"CONCATENATE(R31,TEXT(H29,\"0.00\"))","v":""}]
[null,null,"משתנה 1",null,null,null,null,"מדד על שם קרמר",null,{"$f":"IF(COUNT(C13:F15)=12,SQRT((H26/(G16*2))),\"\")","v":""}]
[null,null,{"$f":"C12","v":"הכנס שם"},{"$f":"D12","v":"הכנס שם"},{"$f":"E12","v":"הכנס שם"},{"$f":"F12","v":"הכנס שם"},{"$f":"G12","v":"סה\"כ"},null,null,"פרשנות ",null,null,null,null,null,null,null,{"$f":"IF(COUNT(C15:C16)>1,CONCATENATE(I26,\"(\",H25,\")=\",LEFT(H26,5),\",  R\"),\"\")","v":""}]
[null,"N",{"$f":"IF(LEN(C13)>0,C13,\"\")","v":""},{"$f":"IF(LEN(D13)>0,D13,\"\")","v":""},"","","",null,null,"כדי לתת פרשנות משמעותית  לתוצאות יש לבטא את הערכים באחוזים "]
[{"$f":"B13","v":"הכנס שם"},"אחוז משורה",{"$f":"IF(LEN(C13)>0,C13/$G13,\"\")","v":""},{"$f":"IF(LEN(D13)>0,D13/$G13,\"\")","v":""},"","",null,null,null,"ולהשוות את הקטגוריות הרלוונטיות "]
[null,"אחוז מעמודה",{"$f":"IF(LEN(C13)>0,C13/C$16,\"\")","v":""},{"$f":"IF(LEN(D13)>0,D13/D$16,\"\")","v":""},"","",""]
[null,"אחוז מהס\"כ",{"$f":"IF(LEN(C13)>0,C13/$G$16,\"\")","v":""},{"$f":"IF(LEN(D13)>0,D13/$G$16,\"\")","v":""},"","",null,null,"משמעות:"]
[null,"N",{"$f":"IF(LEN(C13)>0,C14,\"\")","v":""},{"$f":"IF(LEN(D13)>0,D14,\"\")","v":""},"","","",null,"אם הערך הסטטיסטי גדול יותר מהערך הקריטי המשמעות שיש די ראיות לדחות את השערת האפס ולהגיד שיש קשר בין המשתנים"]
[{"$f":"B14","v":"הכנס שם"},"אחוז משורה",{"$f":"IF(LEN(C14)>0,C14/$G14,\"\")","v":""},{"$f":"IF(LEN(D14)>0,D14/$G14,\"\")","v":""},"",""]
[null,"אחוז מעמודה",{"$f":"IF(LEN(C14)>0,C14/C$16,\"\")","v":""},{"$f":"IF(LEN(D14)>0,D14/D$16,\"\")","v":""},"","","",null,"המשמעות של  P - רמת המבוהקות של המבחן -  האומרת שבמידה וקובעים שיש קשר בין המשתנים בכמה אחוז מהמדגמים ניתן לדאוג"]
[null,"אחוז מהס\"כ",{"$f":"IF(LEN(C14)>0,C14/$G$16,\"\")","v":""},{"$f":"IF(LEN(D14)>0,D14/$G$16,\"\")","v":""},"","",null,null,"אם הערך שיוצא הוא מעל 0.05 (כלומר 5%) המשמעות היא שיש סיכוי מ 5 אחוז לטעות בקביעה שיש קשר בין המשתנים ונקבע שאין די ראיות להגיד שיש קשר בין המשתנים"]
[null,"N",{"$f":"IF(LEN(C13)>0,C15,\"\")","v":""},{"$f":"IF(LEN(D13)>0,D15,\"\")","v":""},"","",""]
[{"$f":"B15","v":"הכנס שם"},"אחוז משורה",{"$f":"IF(LEN(C15)>0,C15/$G15,\"\")","v":""},{"$f":"IF(LEN(D13)>0,D15/$G15,\"\")","v":""},"","",null,null,{"$f":"IF(COUNT(C13:F15)>0,\"מספר התאים שהערך הצפוי שלהם קטן מ 5 הוא \",\"\")","v":""},null,null,{"$f":"IF(COUNT(C13:F15)>0,COUNTIF(C20:F22,\"<5\"),\"\")","v":""}]
[null,"אחוז מעמודה",{"$f":"IF(LEN(C15)>0,C15/C$16,\"\")","v":""},{"$f":"IF(LEN(D$13)>0,D15/D$16,\"\")","v":""},{"$f":"IF(LEN(E$13)>0,E15/E$16,\"\")","v":""},{"$f":"IF(LEN(F$13)>0,F15/F$16,\"\")","v":""},{"$f":"IF(C$13>0,G15/G$16,\"\")","v":""}]
[null,"אחוז מהס\"כ",{"$f":"IF(LEN(C15)>0,C15/$G$16,\"\")","v":""},{"$f":"IF(LEN(D15)>0,D15/$G$16,\"\")","v":""},"",""]
[null,"סה\"כ",{"$f":"IF(LEN(C13)>0,C16,\"\")","v":""},{"$f":"IF(LEN(D13)>0,D16,\"\")","v":""},"","",{"$f":"IF(G13>0,G16,\"\")","v":""}]
[null,null,{"$f":"IF(COUNT(C13:F15)>1,C16/$G$16,\"\")","v":""},{"$f":"IF(COUNT(D13:G15)>1,D16/$G$16,\"\")","v":""},"",""]
[]
[]
["observed","משתנה","הכנס שם"]
[null,null,"הכנס שם","הכנס שם","הכנס שם","הכנס שם","סה\"כ"]
["הכנס שם","הכנס שם",{"$f":"IF(COUNT(C$13:C$15)>1,C13/C$16,\"\")","v":""},{"$f":"IF(COUNT(D$13:D$15)>1,D13/D$16,\"\")","v":""},"","",""]
[null,"הכנס שם",{"$f":"IF(COUNT(C$13:C$15)>1,C14/C$16,\"\")","v":""},"","","",""]
[null,"הכנס שם",{"$f":"IF(COUNT(C$13:C$15)>1,C15/C$16,\"\")","v":""},"","","",""]
[null,"סה\"כ",{"$f":"IF(LEN(C13)>0,SUM(C50:C52),\"\")","v":""},{"$f":"IF(LEN(D13)>0,SUM(D50:D52),\"\")","v":""},"","",""]

{"sheet":"chi 3  X4  (2)","index":59,"n_rows":53,"n_cols":21,"rows_kept":53,"cut":false,"hidden":false,"merged":[[47,2,47,5],[49,0,50,0],[0,0,0,10],[10,2,10,5],[12,0,13,0],[17,2,17,5],[19,0,20,0],[29,2,29,5]]}
["מבחן חי בריבוע לבדיקת קשר/הבדלים בין משתנים קטגורייליים   4X3"]
["הוראות"]
["הכנס את שמות המשתנים   בתיבות הצהובות  C11 A13"]
["הכנס שמות לערכים בתיבות האפורות  בשורה 12 ובעמודה B"]
["הכנס את הערכים (שכיחויות ) בטבלה בתאים הכתומים C13:F15"]
["תוצאות המבחן יופיעו באופן אוטומטי"]
["להדפסת התוצאות לחץ על הדפסה ",null,null,null,null,null,null,null,null,"החלט איזה תצוגה מתאימה  לנתונים שלך מבחינת המשמעות והפרשנות שלהם "]
["לעיבוד נוסף לחץ על נקה "]
[]
[]
["observed","משתנה","הכנס שם"]
[null,null,"הכנס שם","הכנס שם","הכנס שם","הכנס שם","סה\"כ"]
["הכנס שם","הכנס שם",null,null,null,null,{"$f":"IF(LEN(C13)>0,SUM(C13:F13),\"\")","v":""}]
[null,"הכנס שם",null,null,null,null,{"$f":"IF(LEN(C14)>0,SUM(C14:F14),\"\")","v":""}]
[null,"הכנס שם",null,null,null,null,""]
[null,"סה\"כ",{"$f":"IF(LEN(C13)>0,SUM(C13:C15),\"\")","v":""},{"$f":"IF(LEN(D13)>0,SUM(D13:D15),\"\")","v":""},"","",""]
[]
["expected",null,{"$f":"C11","v":"הכנס שם"}]
[null,null,{"$f":"C12","v":"הכנס שם"},{"$f":"D12","v":"הכנס שם"},{"$f":"E12","v":"הכנס שם"},{"$f":"F12","v":"הכנס שם"},"סה\"כ"]
[{"$f":"A13","v":"הכנס שם"},{"$f":"B13","v":"הכנס שם"},{"$f":"IF(LEN(C13)>0,(C$16*$G13)/$G$16,\"\")","v":""},{"$f":"IF(LEN(D13)>0,(D$16*$G13)/$G$16,\"\")","v":""},"","",{"$f":"G13","v":""}]
[null,{"$f":"B14","v":"הכנס שם"},{"$f":"IF(LEN(C14)>0,(C$16*$G14)/$G$16,\"\")","v":""},"","","",{"$f":"G14","v":""}]
[null,{"$f":"B15","v":"הכנס שם"},{"$f":"IF(LEN(C15)>0,(C$16*$G15)/$G$16,\"\")","v":""},"","","",{"$f":"G15","v":""}]
[null,"סה\"כ",{"$f":"IF(LEN(C13)>0,C16,\"\")","v":""},{"$f":"IF(LEN(D13)>0,D16,\"\")","v":""},"","",{"$f":"G16","v":""}]
[]
[null,"הפרשים",{"$f":"IF(LEN(C13)>0,((C13-C20)^2)/C20,\"\")","v":""},{"$f":"IF(LEN(D13)>0,((D13-D20)^2)/D20,\"\")","v":""},"","",null,{"$f":"IF(COUNT(C13:C15)>1,6,\"\")","v":""},"df","דרגות חופש  "]
[null,null,{"$f":"IF(LEN(C14)>0,((C14-C21)^2)/C21,\"\")","v":""},"","","",null,{"$f":"IF(C13>0,SUM(C25:F27),\"\")","v":""},"c2","ערך סטטיסטי"]
[null,null,{"$f":"IF(LEN(C15)>0,((C15-C22)^2)/C22,\"\")","v":""},"","","",null,{"$f":"IF(C13>0,CHIINV(0.05,H25),\"\")","v":""},"crit","ערך קריטי 0.05",null,{"$f":"IF(COUNT(C15:C16)>1,IF(H26>H27,\"מובהק - יש די ראיות  להגיד  שיש  קשר  בין  המשתנים  ברמת מובהקות  של  \",\"לא מובהק - אין  די ראיות להגיד שיש קשר בין המשתנים ברמת מובהקות של 0.05  \"),\"\")","v":""},null,null,null,null,null,null,{"$f":"IF(H26>H27,H29,\"\")","v":""}]
[null,null,null,null,null,null,null,{"$f":"IF(C13>0,CHIINV(0.01,H25),\"\")","v":""},"crit","ערך קריטי 0.01"]
[null,null,null,null,null,null,null,{"$f":"IF(COUNT(C15:C16)>1,CHIDIST(H26,H25),\"\")","v":""},"P","( Sig ) מובהקות דו צדדית "," (a') ",null,null,null,"כתיבה מדעית ",null,null,{"$f":"IF(COUNT(C13:C15)>1,IF(H29<0.01,CONCATENATE(R31,\" < 0.01\"),IF(H29<0.05,CONCATENATE(R31,\" < 0.05\"),CONCATENATE(R31, \" > 0.05\"))),\"\")","v":""},null,null,{"$f":"CONCATENATE(R31,TEXT(H29,\"0.00\"))","v":""}]
[null,null,"משתנה 1"]
[null,null,{"$f":"C12","v":"הכנס שם"},{"$f":"D12","v":"הכנס שם"},{"$f":"E12","v":"הכנס שם"},{"$f":"F12","v":"הכנס שם"},{"$f":"G12","v":"סה\"כ"},null,null,"פרשנות ",null,null,null,null,null,null,null,{"$f":"IF(COUNT(C15:C16)>1,CONCATENATE(I26,\"(\",H25,\")=\",LEFT(H26,5),\",  R\"),\"\")","v":""}]
[null,"N",{"$f":"IF(LEN(C13)>0,C13,\"\")","v":""},{"$f":"IF(LEN(D13)>0,D13,\"\")","v":""},"","",{"$f":"IF(LEN(C13)>0,G13,\"\")","v":""},null,null,"כדי לתת פרשנות משמעותית  לתוצאות יש לבטא את הערכים באחוזים "]
[{"$f":"B13","v":"הכנס שם"},"אחוז משורה",{"$f":"IF(LEN(C13)>0,C13/$G13,\"\")","v":""},{"$f":"IF(LEN(D13)>0,D13/$G13,\"\")","v":""},"","",null,null,null,"ולהשוות את הקטגוריות הרלוונטיות "]
[null,"אחוז מעמודה",{"$f":"IF(LEN(C13)>0,C13/C$16,\"\")","v":""},{"$f":"IF(LEN(D13)>0,D13/D$16,\"\")","v":""},"","",{"$f":"IF(LEN(C13)>0,G13/G$16,\"\")","v":""}]
[null,"אחוז מהס\"כ",{"$f":"IF(LEN(C13)>0,C13/$G$16,\"\")","v":""},{"$f":"IF(LEN(D13)>0,D13/$G$16,\"\")","v":""},"","",null,null,"משמעות:"]
[null,"N",{"$f":"IF(LEN(C13)>0,C14,\"\")","v":""},{"$f":"IF($C$13>0,D14,\"\")","v":""},{"$f":"IF($C$13>0,E14,\"\")","v":""},{"$f":"IF($C$13>0,F14,\"\")","v":""},{"$f":"IF(LEN(C17)>0,G17,\"\")","v":""},null,"אם הערך הסטטיסטי גדול יותר מהערך הקריטי המשמעות שיש די ראיות לדחות את השערת האפס ולהגיד שיש קשר בין המשתנים"]
[{"$f":"B14","v":"הכנס שם"},"אחוז משורה",{"$f":"IF(C14>0,C14/$G14,\"\")","v":""},{"$f":"IF(D14>0,D14/$G14,\"\")","v":""},{"$f":"IF(E14>0,E14/$G14,\"\")","v":""},{"$f":"IF(F14>0,F14/$G14,\"\")","v":""}]
[null,"אחוז מעמודה",{"$f":"IF(C14>0,C14/C$16,\"\")","v":""},{"$f":"IF(D14>0,D14/D$16,\"\")","v":""},{"$f":"IF(E14>0,E14/E$16,\"\")","v":""},{"$f":"IF(F14>0,F14/F$16,\"\")","v":""},{"$f":"IF(C$13>0,G14/G$16,\"\")","v":""},null,"המשמעות של  P - רמת המבוהקות של המבחן -  האומרת שבמידה וקובעים שיש קשר בין המשתנים בכמה אחוז מהמדגמים ניתן לדאוג"]
[null,"אחוז מהס\"כ",{"$f":"IF(C14>0,C14/$G$16,\"\")","v":""},{"$f":"IF(D14>0,D14/$G$16,\"\")","v":""},{"$f":"IF(E14>0,E14/$G$16,\"\")","v":""},{"$f":"IF(F14>0,F14/$G$16,\"\")","v":""},null,null,"אם הערך שיוצא הוא מעל 0.05 (כלומר 5%) המשמעות היא שיש סיכוי מ 5 אחוז לטעות בקביעה שיש קשר בין המשתנים ונקבע שאין די ראיות להגיד שיש קשר בין המשתנים"]
[null,"N",{"$f":"IF($C$13>0,C15,\"\")","v":""},{"$f":"IF($C$13>0,D15,\"\")","v":""},{"$f":"IF($C$13>0,E15,\"\")","v":""},{"$f":"IF($C$13>0,F15,\"\")","v":""},{"$f":"IF(LEN(C21)>0,G21,\"\")","v":""}]
[{"$f":"B15","v":"הכנס שם"},"אחוז משורה",{"$f":"IF(C13>0,C15/$G15,\"\")","v":""},{"$f":"IF(D13>0,D15/$G15,\"\")","v":""},{"$f":"IF(E13>0,E15/$G15,\"\")","v":""},{"$f":"IF(F13>0,F15/$G15,\"\")","v":""}]
[null,"אחוז מעמודה",{"$f":"IF(C$13>0,C15/C$16,\"\")","v":""},{"$f":"IF(D$13>0,D15/D$16,\"\")","v":""},{"$f":"IF(E$13>0,E15/E$16,\"\")","v":""},{"$f":"IF(F$13>0,F15/F$16,\"\")","v":""},{"$f":"IF(C$13>0,G15/G$16,\"\")","v":""}]
[null,"אחוז מהס\"כ",{"$f":"IF(C$13>0,C15/$G$16,\"\")","v":""},{"$f":"IF(D$13>0,D15/$G$16,\"\")","v":""},{"$f":"IF(E$13>0,E15/$G$16,\"\")","v":""},{"$f":"IF(F$13>0,F15/$G$16,\"\")","v":""}]
[null,"סה\"כ",{"$f":"IF(C$13>0,C16,\"\")","v":""},{"$f":"IF(D$13>0,D16,\"\")","v":""},{"$f":"IF(E$13>0,E16,\"\")","v":""},"",{"$f":"IF(G13>0,G16,\"\")","v":""}]
[null,null,{"$f":"IF(C13>0,C16/$G$16,\"\")","v":""},{"$f":"IF(D13>0,D16/$G$16,\"\")","v":""},{"$f":"IF(E13>0,E16/$G$16,\"\")","v":""},""]
[]
[]
["observed","משתנה","הכנס שם"]
[null,null,"הכנס שם","הכנס שם","הכנס שם","הכנס שם","סה\"כ"]
["הכנס שם","הכנס שם",{"$f":"IF(COUNT(C13:C15)>1,C13/C$16,\"\")","v":""},{"$f":"IF(COUNT(D13:D15)>1,D13/D$16,\"\")","v":""},"","",{"$f":"IF(C50>0,SUM(C50:F50),\"\")","v":0}]
[null,"הכנס שם",{"$f":"IF(COUNT(C14:C16)>1,C14/C$16,\"\")","v":""},"","","",{"$f":"IF(C51>0,SUM(C51:F51),\"\")","v":0}]
[null,"הכנס שם","","","","",0]
[null,"סה\"כ",{"$f":"IF(C50>0,SUM(C50:C52),\"\")","v":0},{"$f":"IF(D50>0,SUM(D50:D52),\"\")","v":0},{"$f":"IF(E50>0,SUM(E50:E52),\"\")","v":0},{"$f":"IF(F50>0,SUM(F50:F52),\"\")","v":0},{"$f":"IF(C50>0,SUM(C53:F53),\"\")","v":0}]

{"sheet":"chi 3  X5 ","index":60,"n_rows":53,"n_cols":22,"rows_kept":53,"cut":false,"hidden":false,"merged":[[47,2,47,6],[49,0,50,0],[0,0,0,11],[10,2,10,6],[12,0,13,0],[17,2,17,6],[19,0,20,0],[29,2,29,6],[29,8,29,9]]}
["מבחן חי בריבוע לבדיקת קשר/הבדלים בין משתנים קטגורייליים   5X3"]
["הוראות"]
["הכנס את שמות המשתנים   בתיבות הצהובות  C11 A13"]
["הכנס שמות לערכים בתיבות האפורות  בשורה 12 ובעמודה B"]
["הכנס את הערכים (שכיחויות ) בטבלה בתאים הכתומים C13:G5"]
["תוצאות המבחן יופיעו באופן אוטומטי"]
["להדפסת התוצאות לחץ על הדפסה "]
["לעיבוד נוסף לחץ על נקה "]
[]
[null,null,null,null,null,null,null,null,null,null,"החלט איזה תצוגה מתאימה  לנתונים שלך מבחינת המשמעות והפרשנות שלהם "]
["observed","משתנה","הכנס שם"]
[null,null,"הכנס שם","הכנס שם","הכנס שם","הכנס שם","הכנס שם","סה\"כ"]
["הכנס שם","הכנס שם",null,null,null,null,null,{"$f":"IF(LEN(C13)>0,SUM(C13:G13),\"\")","v":""}]
[null,"הכנס שם",null,null,null,null,null,{"$f":"IF(LEN(C14)>0,SUM(C14:G14),\"\")","v":""}]
[null,"הכנס שם",null,null,null,null,null,""]
[null,"סה\"כ",{"$f":"IF(LEN(C13)>0,SUM(C13:C15),\"\")","v":""},{"$f":"IF(LEN(D13)>0,SUM(D13:D15),\"\")","v":""},"","","",""]
[]
["expected",null,{"$f":"C11","v":"הכנס שם"}]
[null,null,{"$f":"C12","v":"הכנס שם"},{"$f":"D12","v":"הכנס שם"},{"$f":"E12","v":"הכנס שם"},{"$f":"F12","v":"הכנס שם"},{"$f":"G12","v":"הכנס שם"},"סה\"כ"]
[{"$f":"A13","v":"הכנס שם"},{"$f":"B13","v":"הכנס שם"},{"$f":"IF(LEN(C13)>0,(C$16*$H13)/$H$16,\"\")","v":""},{"$f":"IF(LEN(D13)>0,(D$16*$H13)/$H$16,\"\")","v":""},"","","",{"$f":"H13","v":""}]
[null,{"$f":"B14","v":"הכנס שם"},{"$f":"IF(LEN(C14)>0,(C$16*$H14)/$H$16,\"\")","v":""},"","","","",{"$f":"H14","v":""}]
[null,{"$f":"B15","v":"הכנס שם"},"","","","","",{"$f":"H15","v":""}]
[null,"סה\"כ",{"$f":"IF(LEN(C13)>0,C16,\"\")","v":""},{"$f":"IF(LEN(D13)>0,D16,\"\")","v":""},"","","",{"$f":"H16","v":""}]
[]
[null,"הפרשים",{"$f":"IF(LEN(C13)>0,((C13-C20)^2)/C20,\"\")","v":""},{"$f":"IF(LEN(D13)>0,((D13-D20)^2)/D20,\"\")","v":""},"","","",null,{"$f":"IF(COUNT(D13:D15)>1,8,\"\")","v":""},"df","דרגות חופש  "]
[null,null,{"$f":"IF(LEN(C14)>0,((C14-C21)^2)/C21,\"\")","v":""},"","","","",null,{"$f":"IF(LEN(C13)>0,SUM(C25:G27),\"\")","v":""},"c2","ערך סטטיסטי"]
[null,null,{"$f":"IF(LEN(C15)>0,((C15-C22)^2)/C22,\"\")","v":""},"","","","",null,{"$f":"IF(LEN(C13)>0,CHIINV(0.05,I25),\"\")","v":""},"crit","ערך קריטי 0.05",null,{"$f":"IF(COUNT(C15:C16)>1,IF(I26>I27,\"מובהק - יש די ראיות  להגיד  שיש  קשר  בין  המשתנים  ברמת מובהקות  של  \",\"לא מובהק - אין  די ראיות להגיד שיש קשר בין המשתנים ברמת מובהקות של 0.05  \"),\"\")","v":""},null,null,null,null,null,null,{"$f":"IF(I26>I27,I29,\"\")","v":""}]
[null,null,null,null,null,null,null,null,{"$f":"IF(LEN(C13)>0,CHIINV(0.01,I25),\"\")","v":""},"crit","ערך קריטי 0.01"]
[null,null,null,null,null,null,null,null,{"$f":"IF(COUNT(C15:C16)>1,CHIDIST(I26,I25),\"\")","v":""},"P","( Sig ) מובהקות דו צדדית "," (a') ",null,null,null,"כתיבה מדעית ",null,null,{"$f":"IF(COUNT(C13:C15)>1,IF(I29<0.01,CONCATENATE(S31,\" < 0.01\"),IF(I29<0.05,CONCATENATE(S31,\" < 0.05\"),CONCATENATE(S31, \" > 0.05\"))),\"\")","v":""},null,null,{"$f":"CONCATENATE(S31,TEXT(I29,\"0.00\"))","v":""}]
[null,null,"משתנה 1",null,null,null,null,null,"מדד על שם קרמר",null,{"$f":"IF(COUNT(C13:G15)=15,SQRT((I26/(H16*2))),\"\")","v":""}]
[null,null,{"$f":"C12","v":"הכנס שם"},"הכנס שם","הכנס שם","הכנס שם","הכנס שם","סה\"כ",null,null,"פרשנות ",null,null,null,null,null,null,null,{"$f":"IF(COUNT(C15:C16)>1,CONCATENATE(J26,\"(\",I25,\")=\",LEFT(I26,5),\",  R=\"),\"\")","v":""}]
[null,"N",{"$f":"IF(LEN(C13)>0,C13,\"\")","v":""},{"$f":"IF(LEN(D13)>0,D13,\"\")","v":""},"","","","",null,null,"כדי לתת פרשנות משמעותית  לתוצאות יש לבטא את הערכים באחוזים "]
[{"$f":"B13","v":"הכנס שם"},"אחוז משורה",{"$f":"IF(LEN(C13)>0,C13/$H13,\"\")","v":""},{"$f":"IF(LEN(D13)>0,D13/$H13,\"\")","v":""},"","","",null,null,null,"ולהשוות את הקטגוריות הרלוונטיות "]
[null,"אחוז מעמודה",{"$f":"IF(LEN(C13)>0,C13/C$16,\"\")","v":""},{"$f":"IF(LEN(D13)>0,D13/D$16,\"\")","v":""},"","","",""]
[null,"אחוז מהס\"כ",{"$f":"IF(LEN(C13)>0,C13/$H$16,\"\")","v":""},{"$f":"IF(LEN(D13)>0,D13/$H$16,\"\")","v":""},"","","",null,null,"משמעות:"]
[null,"N",{"$f":"IF(LEN(C14)>0,C14,\"\")","v":""},{"$f":"IF(LEN(D14)>0,D14,\"\")","v":""},"","","","",null,"אם הערך הסטטיסטי גדול יותר מהערך הקריטי המשמעות שיש די ראיות לדחות את השערת האפס ולהגיד שיש קשר בין המשתנים"]
[{"$f":"B14","v":"הכנס שם"},"אחוז משורה",{"$f":"IF(LEN(C14)>0,C14/$H14,\"\")","v":""},{"$f":"IF(LEN(D14)>0,D14/$H14,\"\")","v":""},"","",""]
[null,"אחוז מעמודה",{"$f":"IF(LEN(C14)>0,C14/C$16,\"\")","v":""},{"$f":"IF(LEN(D14)>0,D14/D$16,\"\")","v":""},"","","",{"$f":"IF(LEN(H14)>0,H14/H$16,\"\")","v":""},null,"המשמעות של  P - רמת המבוהקות של המבחן -  האומרת שבמידה וקובעים שיש קשר בין המשתנים בכמה אחוז מהמדגמים ניתן לדאוג"]
[null,"אחוז מהס\"כ",{"$f":"IF(LEN(C14)>0,C14/$H$16,\"\")","v":""},{"$f":"IF(LEN(D14)>0,D14/$H$16,\"\")","v":""},"","","",null,null,"אם הערך שיוצא הוא מעל 0.05 (כלומר 5%) המשמעות היא שיש סיכוי מ 5 אחוז לטעות בקביעה שיש קשר בין המשתנים ונקבע שאין די ראיות להגיד שיש קשר בין המשתנים"]
[null,"N",{"$f":"IF(LEN(C15)>0,C15,\"\")","v":""},{"$f":"IF(LEN(D15)>0,D15,\"\")","v":""},"","","",""]
[{"$f":"B15","v":"הכנס שם"},"אחוז משורה",{"$f":"IF(LEN(C13)>0,C15/$H15,\"\")","v":""},{"$f":"IF(LEN(D13)>0,D15/$H15,\"\")","v":""},"","","",null,null,{"$f":"IF(COUNT(D13:G15)>0,\"מספר התאים שהערך הצפוי שלהם קטן מ 5 הוא \",\"\")","v":""},null,null,{"$f":"IF(COUNT(D13:G15)>0,COUNTIF(C20:G22,\"<5\"),\"\")","v":""}]
[null,"אחוז מעמודה",{"$f":"IF(LEN(C13)>0,C15/C$16,\"\")","v":""},{"$f":"IF(LEN(D13)>0,D15/D$16,\"\")","v":""},"","","",""]
[null,"אחוז מהס\"כ",{"$f":"IF(LEN(C$13)>0,C15/$H$16,\"\")","v":""},{"$f":"IF(LEN(D$13)>0,D15/$H$16,\"\")","v":""},"","",""]
[null,"סה\"כ",{"$f":"IF(LEN(C16)>0,C16,\"\")","v":""},{"$f":"IF(LEN(D16)>0,D16,\"\")","v":""},"","","",""]
[null,null,{"$f":"IF(LEN(C13)>0,C16/$H$16,\"\")","v":""},{"$f":"IF(LEN(D13)>0,D16/$H$16,\"\")","v":""},"","",""]
[]
[]
["observed","משתנה","הכנס שם"]
[null,null,"הכנס שם","הכנס שם","הכנס שם","הכנס שם","הכנס שם","סה\"כ"]
["הכנס שם","הכנס שם",{"$f":"IF(COUNT(C13:C15)>1,C13/C$16,\"\")","v":""},{"$f":"IF(COUNT(D13:D15)>1,D13/D$16,\"\")","v":""},"","","",""]
[null,"הכנס שם",{"$f":"IF(COUNT(C14:C16)>1,C14/C$16,\"\")","v":""},"","","","",""]
[null,"הכנס שם",{"$f":"IF(COUNT(C15:C17)>1,C15/C$16,\"\")","v":""},"","","","",""]
[null,"סה\"כ",{"$f":"IF(COUNT(C15:C17)>0,SUM(C50:C52),\"\")","v":""},{"$f":"IF(COUNT(D15:D17)>0,SUM(D50:D52),\"\")","v":""},"","","",""]

{"sheet":"chi 3  X5  (2)","index":61,"n_rows":53,"n_cols":22,"rows_kept":53,"cut":false,"hidden":false,"merged":[[47,2,47,6],[49,0,50,0],[0,0,0,11],[10,2,10,6],[12,0,13,0],[17,2,17,6],[19,0,20,0],[29,2,29,6]]}
["מבחן חי בריבוע לבדיקת קשר/הבדלים בין משתנים קטגורייליים   5X3"]
["הוראות"]
["הכנס את שמות המשתנים   בתיבות הצהובות  C11 A13"]
["הכנס שמות לערכים בתיבות האפורות  בשורה 12 ובעמודה B"]
["הכנס את הערכים (שכיחויות ) בטבלה בתאים הכתומים C13:G5"]
["תוצאות המבחן יופיעו באופן אוטומטי"]
["להדפסת התוצאות לחץ על הדפסה "]
["לעיבוד נוסף לחץ על נקה "]
[]
[null,null,null,null,null,null,null,null,null,null,"החלט איזה תצוגה מתאימה  לנתונים שלך מבחינת המשמעות והפרשנות שלהם "]
["observed","משתנה","הכנס שם"]
[null,null,"הכנס שם","הכנס שם","הכנס שם","הכנס שם","הכנס שם","סה\"כ"]
["הכנס שם","הכנס שם",null,null,null,null,null,{"$f":"IF(LEN(C13)>0,SUM(C13:G13),\"\")","v":""}]
[null,"הכנס שם",null,null,null,null,null,{"$f":"IF(LEN(C14)>0,SUM(C14:G14),\"\")","v":""}]
[null,"הכנס שם",null,null,null,null,null,""]
[null,"סה\"כ",{"$f":"IF(LEN(C13)>0,SUM(C13:C15),\"\")","v":""},{"$f":"IF(LEN(D13)>0,SUM(D13:D15),\"\")","v":""},"","","",""]
[]
["expected",null,{"$f":"C11","v":"הכנס שם"}]
[null,null,{"$f":"C12","v":"הכנס שם"},{"$f":"D12","v":"הכנס שם"},{"$f":"E12","v":"הכנס שם"},{"$f":"F12","v":"הכנס שם"},{"$f":"G12","v":"הכנס שם"},"סה\"כ"]
[{"$f":"A13","v":"הכנס שם"},{"$f":"B13","v":"הכנס שם"},{"$f":"IF(LEN(C13)>0,(C$16*$H13)/$H$16,\"\")","v":""},{"$f":"IF(LEN(D13)>0,(D$16*$H13)/$H$16,\"\")","v":""},"","","",{"$f":"H13","v":""}]
[null,{"$f":"B14","v":"הכנס שם"},{"$f":"IF(LEN(C14)>0,(C$16*$H14)/$H$16,\"\")","v":""},"","","","",{"$f":"H14","v":""}]
[null,{"$f":"B15","v":"הכנס שם"},"","","","","",{"$f":"H15","v":""}]
[null,"סה\"כ",{"$f":"IF(LEN(C13)>0,C16,\"\")","v":""},{"$f":"IF(LEN(D13)>0,D16,\"\")","v":""},"","","",{"$f":"H16","v":""}]
[]
[null,"הפרשים",{"$f":"IF(C13>0,((C13-C20)^2)/C20,\"\")","v":""},{"$f":"IF(D13>0,((D13-D20)^2)/D20,\"\")","v":""},{"$f":"IF(E13>0,((E13-E20)^2)/E20,\"\")","v":""},{"$f":"IF(F13>0,((F13-F20)^2)/F20,\"\")","v":""},{"$f":"IF(G13>0,((G13-G20)^2)/G20,\"\")","v":""},null,{"$f":"IF(COUNT(D13:D15)>1,8,\"\")","v":""},"df","דרגות חופש  "]
[null,null,{"$f":"IF(C14>0,((C14-C21)^2)/C21,\"\")","v":""},"","","","",null,{"$f":"IF(C13>0,SUM(C25:G27),\"\")","v":""},"c2","ערך סטטיסטי"]
[null,null,"","","","","",null,{"$f":"IF(C13>0,CHIINV(0.05,I25),\"\")","v":""},"crit","ערך קריטי 0.05",null,{"$f":"IF(COUNT(C15:C16)>1,IF(I26>I27,\"מובהק - יש די ראיות  להגיד  שיש  קשר  בין  המשתנים  ברמת מובהקות  של  \",\"לא מובהק - אין  די ראיות להגיד שיש קשר בין המשתנים ברמת מובהקות של 0.05  \"),\"\")","v":""},null,null,null,null,null,null,{"$f":"IF(I26>I27,I29,\"\")","v":""}]
[null,null,null,null,null,null,null,null,{"$f":"IF(C13>0,CHIINV(0.01,I25),\"\")","v":""},"crit","ערך קריטי 0.01"]
[null,null,null,null,null,null,null,null,{"$f":"IF(COUNT(C15:C16)>1,CHIDIST(I26,I25),\"\")","v":""},"P","( Sig ) מובהקות דו צדדית "," (a') ",null,null,null,"כתיבה מדעית ",null,null,{"$f":"IF(COUNT(C13:C15)>1,IF(I29<0.01,CONCATENATE(S31,\" < 0.01\"),IF(I29<0.05,CONCATENATE(S31,\" < 0.05\"),CONCATENATE(S31, \" > 0.05\"))),\"\")","v":""},null,null,{"$f":"CONCATENATE(S31,TEXT(I29,\"0.00\"))","v":""}]
[null,null,"משתנה 1"]
[null,null,{"$f":"C12","v":"הכנס שם"},"הכנס שם","הכנס שם","הכנס שם","הכנס שם","סה\"כ",null,null,"פרשנות ",null,null,null,null,null,null,null,{"$f":"IF(COUNT(C15:C16)>1,CONCATENATE(J26,\"(\",I25,\")=\",LEFT(I26,5),\",  R=\"),\"\")","v":""}]
[null,"N",{"$f":"IF($C$13>0,C13,\"\")","v":""},"","","","","",null,null,"כדי לתת פרשנות משמעותית  לתוצאות יש לבטא את הערכים באחוזים "]
[{"$f":"B13","v":"הכנס שם"},"אחוז משורה",{"$f":"IF(C13>0,C13/$H13,\"\")","v":""},{"$f":"IF(D13>0,D13/$H13,\"\")","v":""},{"$f":"IF(E13>0,E13/$H13,\"\")","v":""},{"$f":"IF(F13>0,F13/$H13,\"\")","v":""},{"$f":"IF(G13>0,G13/$H13,\"\")","v":""},null,null,null,"ולהשוות את הקטגוריות הרלוונטיות "]
[null,"אחוז מעמודה",{"$f":"IF(C13>0,C13/C$16,\"\")","v":""},{"$f":"IF(D13>0,D13/D$16,\"\")","v":""},{"$f":"IF(E13>0,E13/E$16,\"\")","v":""},{"$f":"IF(F13>0,F13/F$16,\"\")","v":""},{"$f":"IF(G13>0,G13/G$16,\"\")","v":""},{"$f":"IF(C13>0,H13/H$16,\"\")","v":""}]
[null,"אחוז מהס\"כ",{"$f":"IF(C13>0,C13/$H$16,\"\")","v":""},{"$f":"IF(D13>0,D13/$H$16,\"\")","v":""},{"$f":"IF(E13>0,E13/$H$16,\"\")","v":""},{"$f":"IF(F13>0,F13/$H$16,\"\")","v":""},{"$f":"IF(G13>0,G13/$H$16,\"\")","v":""},null,null,"משמעות:"]
[null,"N",{"$f":"IF($C$13>0,C14,\"\")","v":""},"","","","","",null,"אם הערך הסטטיסטי גדול יותר מהערך הקריטי המשמעות שיש די ראיות לדחות את השערת האפס ולהגיד שיש קשר בין המשתנים"]
[{"$f":"B14","v":"הכנס שם"},"אחוז משורה",{"$f":"IF(C14>0,C14/$H14,\"\")","v":""},{"$f":"IF(D14>0,D14/$H14,\"\")","v":""},{"$f":"IF(E14>0,E14/$H14,\"\")","v":""},{"$f":"IF(F14>0,F14/$H14,\"\")","v":""},{"$f":"IF(G14>0,G14/$H14,\"\")","v":""}]
[null,"אחוז מעמודה",{"$f":"IF(C14>0,C14/C$16,\"\")","v":""},{"$f":"IF(D14>0,D14/D$16,\"\")","v":""},{"$f":"IF(E14>0,E14/E$16,\"\")","v":""},{"$f":"IF(F14>0,F14/F$16,\"\")","v":""},{"$f":"IF(G14>0,G14/G$16,\"\")","v":""},{"$f":"IF(C$13>0,H14/H$16,\"\")","v":""},null,"המשמעות של  P - רמת המבוהקות של המבחן -  האומרת שבמידה וקובעים שיש קשר בין המשתנים בכמה אחוז מהמדגמים ניתן לדאוג"]
[null,"אחוז מהס\"כ",{"$f":"IF(C14>0,C14/$H$16,\"\")","v":""},{"$f":"IF(D14>0,D14/$H$16,\"\")","v":""},{"$f":"IF(E14>0,E14/$H$16,\"\")","v":""},{"$f":"IF(F14>0,F14/$H$16,\"\")","v":""},{"$f":"IF(G14>0,G14/$H$16,\"\")","v":""},null,null,"אם הערך שיוצא הוא מעל 0.05 (כלומר 5%) המשמעות היא שיש סיכוי מ 5 אחוז לטעות בקביעה שיש קשר בין המשתנים ונקבע שאין די ראיות להגיד שיש קשר בין המשתנים"]
[null,"N",{"$f":"IF($C$13>0,C15,\"\")","v":""},{"$f":"IF($C$13>0,D15,\"\")","v":""},{"$f":"IF($C$13>0,E15,\"\")","v":""},{"$f":"IF($C$13>0,F15,\"\")","v":""},{"$f":"IF($C$13>0,G15,\"\")","v":""},""]
[{"$f":"B15","v":"הכנס שם"},"אחוז משורה",{"$f":"IF(C13>0,C15/$H15,\"\")","v":""},{"$f":"IF(D13>0,D15/$H15,\"\")","v":""},{"$f":"IF(E13>0,E15/$H15,\"\")","v":""},{"$f":"IF(F13>0,F15/$H15,\"\")","v":""},{"$f":"IF(G13>0,G15/$H15,\"\")","v":""}]
[null,"אחוז מעמודה",{"$f":"IF(C$13>0,C15/C$16,\"\")","v":""},{"$f":"IF(D$13>0,D15/D$16,\"\")","v":""},{"$f":"IF(E$13>0,E15/E$16,\"\")","v":""},{"$f":"IF(F$13>0,F15/F$16,\"\")","v":""},{"$f":"IF(G$13>0,G15/G$16,\"\")","v":""},{"$f":"IF(C$13>0,H15/H$16,\"\")","v":""}]
[null,"אחוז מהס\"כ",{"$f":"IF(C$13>0,C15/$H$16,\"\")","v":""},{"$f":"IF(D$13>0,D15/$H$16,\"\")","v":""},{"$f":"IF(E$13>0,E15/$H$16,\"\")","v":""},{"$f":"IF(F$13>0,F15/$H$16,\"\")","v":""},{"$f":"IF(G$13>0,G15/$H$16,\"\")","v":""}]
[null,"סה\"כ",{"$f":"IF(C$13>0,C16,\"\")","v":""},{"$f":"IF(D$13>0,D16,\"\")","v":""},{"$f":"IF(E$13>0,E16,\"\")","v":""},{"$f":"IF(F$13>0,F16,\"\")","v":""},"",{"$f":"IF(H13>0,H16,\"\")","v":""}]
[null,null,{"$f":"IF(C13>0,C16/$H$16,\"\")","v":""},{"$f":"IF(D13>0,D16/$H$16,\"\")","v":""},{"$f":"IF(E13>0,E16/$H$16,\"\")","v":""},{"$f":"IF(F13>0,F16/$H$16,\"\")","v":""},""]
[]
[]
["observed","משתנה","הכנס שם"]
[null,null,"הכנס שם","הכנס שם","הכנס שם","הכנס שם","הכנס שם","סה\"כ"]
["הכנס שם","הכנס שם",{"$f":"IF(COUNT(C13:C15)>1,C13/C$16,\"\")","v":""},{"$f":"IF(COUNT(D13:D15)>1,D13/D$16,\"\")","v":""},"","","",{"$f":"IF(C50>0,SUM(C50:G50),\"\")","v":0}]
[null,"הכנס שם",{"$f":"IF(COUNT(C14:C16)>1,C14/C$16,\"\")","v":""},"","","","",{"$f":"IF(C51>0,SUM(C51:G51),\"\")","v":0}]
[null,"הכנס שם","","","","","",0]
[null,"סה\"כ",{"$f":"IF(C50>0,SUM(C50:C52),\"\")","v":0},{"$f":"IF(D50>0,SUM(D50:D52),\"\")","v":0},{"$f":"IF(E50>0,SUM(E50:E52),\"\")","v":0},{"$f":"IF(F50>0,SUM(F50:F52),\"\")","v":0},{"$f":"IF(G50>0,SUM(G50:G52),\"\")","v":0},{"$f":"IF(C50>0,SUM(C53:G53),\"\")","v":0}]

{"sheet":"2way indep","index":62,"n_rows":75,"n_cols":37,"rows_kept":75,"cut":false,"hidden":false,"merged":[[52,28,52,30],[52,26,52,27],[30,21,30,24],[4,10,4,11],[10,0,10,5],[10,7,10,12],[10,14,10,19],[29,26,29,27]]}
[" ניתוח שונות דו/רב כיווני  למשתנים בלתי תלויים  two way anova "]
[null,null,null,null,null,null,null,null,null,null,null,null,"מס קטגוריות",null,null,null,null,null,null,null,null,null,null,"סטטיסטיקה תיאורית "]
["הוראות",null,null,null,null,null,null,null,null,null,"שם גורם 1 ",null,{"$f":"IF(COUNT(B13,I13,P13)>0,COUNT(B13,I13,P13),\"\")","v":""},null,null,null,null,null,null,null,null,null,null,"ממוצעים"]
["הכנס  שמות לקבוצות     ",null,null,null,null,null,null,null,null,null,"שם גורם 2",null,{"$f":"IF(COUNT(B13:F13)>0,COUNT(B13:F13),\"\")","v":""},null,null,null,null,null,null,null,null,null,null,null,{"$f":"B12","v":"קטגורייה 1"},{"$f":"C12","v":"קטגורייה 2"},"קטגורייה 3","קטגורייה 4","קטגורייה 5","סה\"כ",null,"סטיות תקן",{"$f":"Y4","v":"קטגורייה 1"},{"$f":"Z4","v":"קטגורייה 2"},"קטגורייה 3","קטגורייה 4","קטגורייה 5"]
["הכנס את הנתונים של הנבדקים בכל אחת מהקבוצות",null,null,null,null,null,null,null,null,null,"מס נבדקים בכל קבוצה n",null,{"$f":"COUNT(B13:B63)","v":0},null,null,null,null,null,null,null,null,null,null,"קטגורייה 1",{"$f":"IF(COUNT(B13:B27)>0,AVERAGE(B13:B63),\"\")","v":""},{"$f":"IF(COUNT(C13:C27)>0,AVERAGE(C13:C63),\"\")","v":""},"","","",{"$f":"IF(COUNT(Y5:AC5)>0,AVERAGE(B13:F63),\"\")","v":""},null,{"$f":"X5","v":"קטגורייה 1"},{"$f":"IF(COUNT(B13:B27)>0,STDEV(B13:B63),\"\")","v":""},{"$f":"IF(COUNT(C13:C27)>0,STDEV(C13:C63),\"\")","v":""},{"$f":"IF(COUNT(D13:D27)>0,STDEV(D13:D63),\"\")","v":""},{"$f":"IF(COUNT(E13:E27)>0,STDEV(E13:E63),\"\")","v":""},{"$f":"IF(COUNT(F13:F27)>0,STDEV(F13:F63),\"\")","v":""}]
["תוצאות  המבחן הסטטיסטי יופיעו באופן אוטומטי . בדוק את התוצאות  ותן פשרנות בהתאם ",null,null,null,null,null,null,null,null,null,null,null,null,null,null,null,null,null,null,null,null,null,null,"קטגורייה 2",{"$f":"IF(COUNT(I13:I27)>0,AVERAGE(I13:I63),\"\")","v":""},{"$f":"IF(COUNT(J13:J27)>0,AVERAGE(J13:J63),\"\")","v":""},"","","",{"$f":"IF(COUNT(Y6:AC6)>0,AVERAGE(I13:M63),\"\")","v":""},null,{"$f":"X6","v":"קטגורייה 2"},{"$f":"IF(COUNT(I13:I27)>0,STDEV(I13:I63),\"\")","v":""},{"$f":"IF(COUNT(J13:J27)>0,STDEV(J13:J63),\"\")","v":""},{"$f":"IF(COUNT(K13:K27)>0,STDEV(K13:K63),\"\")","v":""},{"$f":"IF(COUNT(L13:L27)>0,STDEV(L13:L63),\"\")","v":""},{"$f":"IF(COUNT(M13:M27)>0,STDEV(M13:M63),\"\")","v":""}]
["להדפסת התוצאות לחץ על הדפסה ",null,null,null,null,null,null,null,null,null,null,null,null,null,null,null,null,null,null,null,null,null,null,"קטגורייה 3",{"$f":"IF(COUNT(P13:P27)>0,AVERAGE(P13:P63),\"\")","v":""},{"$f":"IF(COUNT(Q13:Q27)>0,AVERAGE(Q13:Q63),\"\")","v":""},"","","",{"$f":"IF(COUNT(Y7:AC7)>0,AVERAGE(P13:T63),\"\")","v":""},null,"קטגורייה 3",{"$f":"IF(COUNT(P13:P27)>0,STDEV(P13:P63),\"\")","v":""},{"$f":"IF(COUNT(Q13:Q27)>0,STDEV(Q13:Q63),\"\")","v":""},{"$f":"IF(COUNT(R13:R27)>0,STDEV(R13:R63),\"\")","v":""},{"$f":"IF(COUNT(S13:S27)>0,STDEV(S13:S63),\"\")","v":""},{"$f":"IF(COUNT(T13:T27)>0,STDEV(T13:T63),\"\")","v":""}]
["לעיבוד נוסף לחץ על נקה ",null,null,null,null,null,null,null,null,null,null,null,null,null,null,null,null,null,null,null,null,null,null,"סה\"כ",{"$f":"IF(COUNT(Y5:Y7)>0,AVERAGE(B13:B63,I13:I63,P13:P63),\"\")","v":""},{"$f":"IF(COUNT(Z5:Z7)>0,AVERAGE(C13:C63,J13:J63,Q13:Q63),\"\")","v":""},{"$f":"IF(COUNT(AA5:AA7)>0,AVERAGE(D13:D63,K13:K63,R13:R63),\"\")","v":""},{"$f":"IF(COUNT(AB5:AB7)>0,AVERAGE(E13:E63,L13:L63,S13:S63),\"\")","v":""},{"$f":"IF(COUNT(AC5:AC7)>0,AVERAGE(F13:F63,M13:M63,T13:T63),\"\")","v":""},{"$f":"IF(COUNT(Y8:AC8)>0,AVERAGE(B13:F63,I13:M63,P13:T63),\"\")","v":""}]
[]
[]
["קטוגורייה 1",null,null,null,null,null,null,"קטוגורייה 2",null,null,null,null,null,null,"קטוגורייה 3",null,null,null,null,null,null,null,null,"סכומים ",{"$f":"Y4","v":"קטגורייה 1"},{"$f":"Z4","v":"קטגורייה 2"},"קטגורייה 3","קטגורייה 4","קטגורייה 5","סה\"כ"]
["מס' נבדק ","קטגורייה 1","קטגורייה 2","קטגורייה 3","קטגורייה 4","קטגורייה 5",null,"מס' נבדק ",{"$f":"B12","v":"קטגורייה 1"},{"$f":"C12","v":"קטגורייה 2"},"קטגורייה 3","קטגורייה 4","קטגורייה 5",null,"מס' נבדק ",{"$f":"B12","v":"קטגורייה 1"},{"$f":"C12","v":"קטגורייה 2"},{"$f":"D12","v":"קטגורייה 3"},{"$f":"E12","v":"קטגורייה 4"},{"$f":"F12","v":"קטגורייה 5"},null,null,null,"קטגורייה 1",{"$f":"IF(COUNT(B13:B27)>0,SUM(B13:B63),\"\")","v":""},{"$f":"IF(COUNT(C13:C27)>0,SUM(C13:C63),\"\")","v":""},"","","",{"$f":"IF(COUNT(Y5:AC5)>0,SUM(B13:F63),\"\")","v":""}]
[1,null,null,null,null,null,null,1,null,null,null,null,null,null,1,null,null,null,null,null,null,null,null,"קטגורייה 2",{"$f":"IF(COUNT(I13:I27)>0,SUM(I13:I63),\"\")","v":""},{"$f":"IF(COUNT(J13:J27)>0,SUM(J13:J63),\"\")","v":""},"","","",{"$f":"IF(COUNT(Y6:AC6)>0,SUM(I13:M63),\"\")","v":""}]
[2,null,null,null,null,null,null,2,null,null,null,null,null,null,2,null,null,null,null,null,null,null,null,"קטגורייה 3",{"$f":"IF(COUNT(P13:P27)>0,SUM(P13:P63),\"\")","v":""},{"$f":"IF(COUNT(Q13:Q27)>0,SUM(Q13:Q63),\"\")","v":""},"","","",{"$f":"IF(COUNT(Y7:AC7)>0,SUM(P13:T63),\"\")","v":""}]
[3,null,null,null,null,null,null,3,null,null,null,null,null,null,3,null,null,null,null,null,null,null,null,"סה\"כ",{"$f":"IF(COUNT(Y5:Y7)>0,SUM(B13:B63,I13:I63,P13:P63),\"\")","v":""},{"$f":"IF(COUNT(Z5:Z7)>0,SUM(C13:C63,J13:J63,Q13:Q63),\"\")","v":""},{"$f":"IF(COUNT(AA5:AA7)>0,SUM(D13:D63,K13:K63,R13:R63),\"\")","v":""},{"$f":"IF(COUNT(AB5:AB7)>0,SUM(E13:E63,L13:L63,S13:S63),\"\")","v":""},{"$f":"IF(COUNT(AC5:AC7)>0,SUM(F13:F63,M13:M63,T13:T63),\"\")","v":""},{"$f":"IF(COUNT(Y8:AC8)>0,SUM(B13:F63,I13:M63,P13:T63),\"\")","v":""}]
[4,null,null,null,null,null,null,4,null,null,null,null,null,null,4]
[5,null,null,null,null,null,null,5,null,null,null,null,null,null,5,null,null,null,null,null,null,null,null,{"$f":"IF(LEN(AD15)>0,AD15^2/COUNT(B13:F63,I13:M63,P13:T63),\"\")","v":""},"(SSx)2 /N ","A","קו בסיס"]
[6,null,null,null,null,null,null,6,null,null,null,null,null,null,6,null,null,null,null,null,null,null,null,{"$f":"IF(LEN(AD15)>0,SUMSQ(B13:F63,I13:M63,P13:T63),\"\")","v":""},"SSx2","B","שונות כללית"]
[7,null,null,null,null,null,null,7,null,null,null,null,null,null,7,null,null,null,null,null,null,null,null,{"$f":"IF(COUNT(AD12:AD14)>0,SUMSQ(AD12:AD14)/(M5*M4),\"\")","v":""},"S(SS Aj)2/(nq)","C",{"$f":"IF(LEN(L3)>0,L3,\"גורם1\")","v":"גורם1"}]
[8,null,null,null,null,null,null,8,null,null,null,null,null,null,8,null,null,null,null,null,null,null,null,{"$f":"IF(COUNT(Y15:AC15)>0,SUMSQ(Y15:AC15)/(M5*M3),\"\")","v":""},"S(SS Bk)2/(np)","D",{"$f":"IF(LEN(L4)>0,L4,\"גורם 2 \")","v":"גורם 2 "}]
[9,null,null,null,null,null,null,9,null,null,null,null,null,null,9,null,null,null,null,null,null,null,null,{"$f":"IF(COUNT(Y12:AC14)>0,SUMSQ(Y12:AC14)/M5,\"\")","v":""},"SS(S AB)2/n","E","אינטראקציה"]
[10,null,null,null,null,null,null,10,null,null,null,null,null,null,10]
[11,null,null,null,null,null,null,11,null,null,null,null,null,null,11]
[12,null,null,null,null,null,null,12,null,null,null,null,null,null,12]
[13,null,null,null,null,null,null,13,null,null,null,null,null,null,13]
[14,null,null,null,null,null,null,14,null,null,null,null,null,null,14]
[15,null,null,null,null,null,null,15,null,null,null,null,null,null,15]
[16,null,null,null,null,null,null,16,null,null,null,null,null,null,16]
[17,null,null,null,null,null,null,17,null,null,null,null,null,null,17]
[18,null,null,null,null,null,null,18,null,null,null,null,null,null,18,null,null,null,null,null,null,null,null,null,null,null,"Critic F"]
[19,null,null,null,null,null,null,19,null,null,null,null,null,null,19,null,null,null,null,null,null,"חלוקת השונות של אותו גורם בשונות הכללית פחות השונויות המסוברות ע\"י הגורמים האחרים ",null,null,null,"eta2",0.01,0.05,"sig","F","MS","d.f","SS","d.f",null,"SV"]
[20,null,null,null,null,null,null,20,null,null,null,null,null,null,20,null,null,null,null,null,null,null,null,null,null,{"$f":"IF(COUNT(B$13:C$14,I$13:J$14)>0,AG32/(AG$36-AG34-AG33),\"\")","v":""},{"$f":"IF(COUNT(B$13:C$14,I$13:J$14)>0,FINV(0.01,AF32,AF$35),\"\")","v":""},{"$f":"IF(COUNT(B$13:C$14,I$13:J$14)>0,FINV(0.05,AF32,AF$35),\"\")","v":""},{"$f":"IF(COUNT(B$13:C$14,I$13:J$14)>0,FDIST(AD32,AF32,AF$35),\"\")","v":""},{"$f":"IF(COUNT(B$13:C$14,I$13:J$14)>0,AE32/AE$35,\"\")","v":""},{"$f":"IF(COUNT(B$13:C$14,I$13:J$14)>0,AG32/AF32,\"\")","v":""},{"$f":"IF(COUNT(B13:C14,I13:J14)>0,M3-1,\"\")","v":""},{"$f":"IF(COUNT(B13:F16)>0,X19-X17,\"\")","v":""},"q-1","C-A","A","גורם A"]
[21,null,null,null,null,null,null,21,null,null,null,null,null,null,21,null,null,null,null,null,null,null,null,null,"SS כושר / (SSTOT -SS אינטראקציה - SS סוג שיעור )",{"$f":"IF(COUNT(B$13:C$14,I$13:J$14)>0,AG33/(AG$36-AG34-AG32),\"\")","v":""},{"$f":"IF(COUNT(B$13:C$14,I$13:J$14)>0,FINV(0.01,AF33,AF$35),\"\")","v":""},{"$f":"IF(COUNT(B$13:C$14,I$13:J$14)>0,FINV(0.05,AF33,AF$35),\"\")","v":""},{"$f":"IF(COUNT(B$13:C$14,I$13:J$14)>0,FDIST(AD33,AF33,AF$35),\"\")","v":""},{"$f":"IF(COUNT(B$13:C$14,I$13:J$14)>0,AE33/AE$35,\"\")","v":""},{"$f":"IF(COUNT(B$13:C$14,I$13:J$14)>0,AG33/AF33,\"\")","v":""},{"$f":"IF(COUNT(B13:C14,I13:J14)>0,M4-1,\"\")","v":""},{"$f":"IF(COUNT(B13:C14,I13:J14)>0,X20-X17,\"\")","v":""},"p-1","D-A","B","גורם B"]
[22,null,null,null,null,null,null,22,null,null,null,null,null,null,22,null,null,null,null,null,null,null,null,null,"SS סוג שעור / (SSTOT -SS אינטראקציה - SS כושר )",{"$f":"IF(COUNT(B$13:C$14,I$13:J$14)>0,AG34/(AG$36-AG32-AG33),\"\")","v":""},"","","","",{"$f":"IF(COUNT(B$13:C$14,I$13:J$14)>0,AG34/AF34,\"\")","v":""},{"$f":"IF(COUNT(B13:C14,I13:J14)>0,AF33*AF32,\"\")","v":""},{"$f":"IF(COUNT(B13:C14,I13:J14)>0,X21-X20-X19+X17,\"\")","v":""},"(q-1)(p-1) ","E-C-D+A","AB","איטראקציה A X B"]
[23,null,null,null,null,null,null,23,null,null,null,null,null,null,23,null,null,null,null,null,null,null,null,null,"SS אינטאקציה / (SSTOT -SS סוג שיעור - SS כושר )",null,null,null,null,null,{"$f":"IF(COUNT(B$13:C$14,I$13:J$14)>0,AG35/AF35,\"\")","v":""},{"$f":"IF(COUNT(B13:C14,I13:J14)>0,M4*M3*(M5-1),\"\")","v":""},{"$f":"IF(COUNT(B13:C14,I13:J14)>0,X18-X21,\"\")","v":""},"qp(n-1) ","B-E","within","שגיאה"]
[24,null,null,null,null,null,null,24,null,null,null,null,null,null,24,null,null,null,null,null,null,null,null,null,null,null,null,null,null,null,null,{"$f":"SUM(AF32:AF35)","v":0},{"$f":"IF(COUNT(B13:C14,I13:J14)>0,X18-X17,\"\")","v":""},"qpn-1 ","B-A","total","סה\"כ"]
[25,null,null,null,null,null,null,25,null,null,null,null,null,null,25,null,null,null,null,null,null,null,"פרשנות",null,null,null,null,null,null,null,null,{"$f":"IF(M5>0,(M5*M4*M3)-1,\"\")","v":""},{"$f":"SUM(AG32:AG35)","v":0}]
[26,null,null,null,null,null,null,26,null,null,null,null,null,null,26,null,null,null,null,null,null,null,"גרום A "]
[27,null,null,null,null,null,null,27,null,null,null,null,null,null,27,null,null,null,null,null,null,null,{"$f":"IF(COUNT(B$13:V$28)>1,IF(AC32>0.05,\"  אין די ראיות לקבוע שהקבוצות שונות זו מזו \",IF(M3>2,\"יש די ראיות לקבוע שהקבוצות שונות ויש לבצע מבחן מעקב כדי לקבוע מי שונה ממי\",\" יש די ראיות לקבוע שהקבוצות שונות ויש להסתכל על הממוצעים כדי לקבוע לטובת מי\")),\"\"\"\")","v":"  אין די ראיות לקבוע שהקבוצות שונות זו מזו "}]
[28,null,null,null,null,null,null,28,null,null,null,null,null,null,28,null,null,null,null,null,null,null,{"$f":"IF(COUNT(M5)>2,CONCATENATE(TEXT(Z32*100,\"#.##\"),\"  \",\"אחוז מההבדלים במשתנה התלוי ניתן להסביר כתוצאה מהשייכות לקבוצות יתר השונות מוסברת באמצעות גורמים אחרים \"),\"\")","v":""}]
[29,null,null,null,null,null,null,29,null,null,null,null,null,null,29]
[30,null,null,null,null,null,null,30,null,null,null,null,null,null,30,null,null,null,null,null,null,null,"גרום B "]
[31,null,null,null,null,null,null,31,null,null,null,null,null,null,31,null,null,null,null,null,null,null,{"$f":"IF(COUNT(B$13:V$28)>1,IF(AC33>0.05,\"  אין די ראיות לקבוע שהקבוצות שונות זו מזו \",IF(M4>2,\"יש די ראיות לקבוע שהקבוצות שונות ויש לבצע מבחן מעקב כדי לקבוע מי שונה ממי\",\" יש די ראיות לקבוע שהקבוצות שונות ויש להסתכל על הממוצעים כדי לקבוע לטובת מי\")),\"\"\"\")","v":"  אין די ראיות לקבוע שהקבוצות שונות זו מזו "}]
[32,null,null,null,null,null,null,32,null,null,null,null,null,null,32,null,null,null,null,null,null,null,{"$f":"IF(COUNT(M5)>1,CONCATENATE(TEXT(Z33*100,\"#.##\"),\"  \",\"אחוז מההבדלים במשתנה התלוי ניתן להסביר כתוצאה מהשייכות לקבוצות יתר השונות מוסברת באמצעות גורמים אחרים \"),\"\")","v":""}]
[33,null,null,null,null,null,null,33,null,null,null,null,null,null,33]
[34,null,null,null,null,null,null,34,null,null,null,null,null,null,34,null,null,null,null,null,null,null,"גורם האינטראקציה "]
[35,null,null,null,null,null,null,35,null,null,null,null,null,null,35,null,null,null,null,null,null,null,{"$f":"IF(COUNT(B$13:V$28)>1,IF(AC34>0.05,\"  אין די ראיות לקבוע שהקבוצות שונות זו מזו \",IF(AF34>1,\"יש די ראיות לקבוע שהאינטראקציה מבוהקות ויש לפרק אותה כדי למצוא מהיכן היא נובעת \",\" יש די ראיות לקבוע שהקבוצות שונות ויש להסתכל על הממוצעים כדי לקבוע לטובת מי\")),\"\"\"\")","v":"  אין די ראיות לקבוע שהקבוצות שונות זו מזו "}]
[36,null,null,null,null,null,null,36,null,null,null,null,null,null,36,null,null,null,null,null,null,null,{"$f":"IF(COUNT(M5)>1,CONCATENATE(TEXT(Z34*100,\"#.##\"),\"  \",\"אחוז מההבדלים במשתנה התלוי ניתן להסביר כתוצאה מקיום האינטראקציה בין המשתנים - אפקט דיפרציאלי    \"),\"\")","v":""}]
[37,null,null,null,null,null,null,37,null,null,null,null,null,null,37]
[38,null,null,null,null,null,null,38,null,null,null,null,null,null,38]
[39,null,null,null,null,null,null,39,null,null,null,null,null,null,39,null,null,null,null,null,null,null,null,null,"פוסט הוק ( post hoc  ) ע\"ש tukey עבור מספר נבדקים  שווה ",null,null,null,"Tukey"]
[40,null,null,null,null,null,null,40,null,null,null,null,null,null,40]
[41,null,null,null,null,null,null,41,null,null,null,null,null,null,41,null,null,null,null,null,null,null,null,null,null,null,"גורם 2",null,"גורם 1"]
[42,null,null,null,null,null,null,42,null,null,null,null,null,null,42]
[43,null,null,null,null,null,null,43,null,null,null,null,null,null,43,null,null,null,null,null,null,null,null,null,null,null,"MSw/n","q","HSD","q"]
[44,null,null,null,null,null,null,44,null,null,null,null,null,null,44,null,null,null,null,null,null,null,null,null,null,null,{"$f":"IF(M5>0,SQRT(AE35/(M5*M3))*AB56,\"\")","v":""},{"$f":"IF(M5>0,INDEX('q new'!M4:U25,MATCH(AF35,'q new'!L4:L25),MATCH(AF33+1,'q new'!M3:U3)),\"\")","v":""},{"$f":"IF(M5>0,SQRT((AE35/(M5*M4)))*AD56,\"\")","v":""},{"$f":"IF(M5>0,INDEX('q new'!M4:U25,MATCH(AF35,'q new'!L4:L25),MATCH(AF32+1,'q new'!M3:U3)),\"\")","v":""},"I 0.05="]
[45,null,null,null,null,null,null,45,null,null,null,null,null,null,45,null,null,null,null,null,null,null,null,null,null,null,{"$f":"IF(M5>0,SQRT(AE35/(M5*M3))*AB57,\"\")","v":""},{"$f":"IF(M5>0,INDEX('q new'!X4:AF25,MATCH(AF35,'q new'!W4:W25),MATCH(AF33+1,'q new'!X3:AF3)),\"\")","v":""},{"$f":"IF(M5>0,SQRT((AE35/(M5*M4)))*AD57,\"\")","v":""},{"$f":"IF(M5>0,INDEX('q new'!X4:AF25,MATCH(AF35,'q new'!W4:W25),MATCH(AF32+1,'q new'!X3:AF3)),\"\")","v":""},"I 0.01="]
[46,null,null,null,null,null,null,46,null,null,null,null,null,null,46]
[47,null,null,null,null,null,null,47,null,null,null,null,null,null,47,null,null,null,null,null,null,null,null,null,null,null,"גורם 1"]
[48,null,null,null,null,null,null,48,null,null,null,null,null,null,48,null,null,null,null,null,null,null,null,null,null,null,null,"טבלת הפרשי ממוצעים "]
[49,null,null,null,null,null,null,49,null,null,null,null,null,null,49,null,null,null,null,null,null,null,null,null,null,null,null,null,{"$f":"AD5","v":""},{"$f":"AD6","v":""},{"$f":"AD7","v":""}]
[50,null,null,null,null,null,null,50,null,null,null,null,null,null,50,null,null,null,null,null,null,null,null,null,null,null,null,"ממוצע",{"$f":"IF(LEN(Y11)>0,Y11,\"\")","v":"קטגורייה 1"},{"$f":"IF(LEN(Z11)>0,Z11,\"\")","v":"קטגורייה 2"},{"$f":"IF(LEN(AA11)>0,AA11,\"\")","v":"קטגורייה 3"}]
[51,null,null,null,null,null,null,51,null,null,null,null,null,null,51,null,null,null,null,null,null,null,null,null,null,null,{"$f":"AC61","v":""},{"$f":"IF(LEN(Y11)>0,Y11,\"\")","v":"קטגורייה 1"},{"$f":"IF(AND(LEN(AC$61)>0,LEN($AA63)>0),AC$61-$AA63,\"\")","v":""},"",""]
["ממוצע",{"$f":"IF(COUNT(B13:B63)>0,AVERAGE(B13:B63),\"\")","v":""},{"$f":"IF(COUNT(C13:C63)>0,AVERAGE(C13:C63),\"\")","v":""},{"$f":"IF(COUNT(D13:D63)>0,AVERAGE(D13:D63),\"\")","v":""},{"$f":"IF(COUNT(E13:E63)>0,AVERAGE(E13:E63),\"\")","v":""},{"$f":"IF(COUNT(F13:F63)>0,AVERAGE(F13:F63),\"\")","v":""},null,"ממוצע",{"$f":"IF(COUNT(I13:I63)>0,AVERAGE(I13:I63),\"\")","v":""},{"$f":"IF(COUNT(J13:J63)>0,AVERAGE(J13:J63),\"\")","v":""},{"$f":"IF(COUNT(K13:K63)>0,AVERAGE(K13:K63),\"\")","v":""},{"$f":"IF(COUNT(L13:L63)>0,AVERAGE(L13:L63),\"\")","v":""},{"$f":"IF(COUNT(M13:M63)>0,AVERAGE(M13:M63),\"\")","v":""},null,"ממוצע",{"$f":"IF(COUNT(P13:P63)>0,AVERAGE(P13:P63),\"\")","v":""},{"$f":"IF(COUNT(Q13:Q63)>0,AVERAGE(Q13:Q63),\"\")","v":""},{"$f":"IF(COUNT(R13:R63)>0,AVERAGE(R13:R63),\"\")","v":""},{"$f":"IF(COUNT(S13:S63)>0,AVERAGE(S13:S63),\"\")","v":""},{"$f":"IF(COUNT(T13:T63)>0,AVERAGE(T13:T63),\"\")","v":""},null,null,null,null,null,null,{"$f":"AD61","v":""},{"$f":"IF(LEN(Z11)>0,Z11,\"\")","v":"קטגורייה 2"},"","",""]
["סטיית תקן",{"$f":"IF(COUNT(B13:B63)>0,STDEV(B13:B63),\"\")","v":""},{"$f":"IF(COUNT(C13:C63)>0,STDEV(C13:C63),\"\")","v":""},{"$f":"IF(COUNT(D13:D63)>0,STDEV(D13:D63),\"\")","v":""},{"$f":"IF(COUNT(E13:E63)>0,STDEV(E13:E63),\"\")","v":""},{"$f":"IF(COUNT(F13:F63)>0,STDEV(F13:F63),\"\")","v":""},null,"סטיית תקן",{"$f":"IF(COUNT(I13:I63)>0,STDEV(I13:I63),\"\")","v":""},{"$f":"IF(COUNT(J13:J63)>0,STDEV(J13:J63),\"\")","v":""},{"$f":"IF(COUNT(K13:K63)>0,STDEV(K13:K63),\"\")","v":""},{"$f":"IF(COUNT(L13:L63)>0,STDEV(L13:L63),\"\")","v":""},{"$f":"IF(COUNT(M13:M63)>0,STDEV(M13:M63),\"\")","v":""},null,"סטיית תקן",{"$f":"IF(COUNT(P13:P63)>0,STDEV(P13:P63),\"\")","v":""},{"$f":"IF(COUNT(Q13:Q63)>0,STDEV(Q13:Q63),\"\")","v":""},{"$f":"IF(COUNT(R13:R63)>0,STDEV(R13:R63),\"\")","v":""},{"$f":"IF(COUNT(S13:S63)>0,STDEV(S13:S63),\"\")","v":""},{"$f":"IF(COUNT(T13:T63)>0,STDEV(T13:T63),\"\")","v":""},null,null,null,null,null,null,{"$f":"AE61","v":""},{"$f":"IF(LEN(AA11)>0,AA11,\"\")","v":"קטגורייה 3"},"","",""]
["N",{"$f":"IF(COUNT(B13:B63)>0,COUNT(B13:B63),\"\")","v":""},{"$f":"IF(COUNT(C13:C63)>0,COUNT(C13:C63),\"\")","v":""},{"$f":"IF(COUNT(D13:D63)>0,COUNT(D13:D63),\"\")","v":""},{"$f":"IF(COUNT(E13:E63)>0,COUNT(E13:E63),\"\")","v":""},{"$f":"IF(COUNT(F13:F63)>0,COUNT(F13:F63),\"\")","v":""},null,"N",{"$f":"IF(COUNT(I13:I63)>0,COUNT(I13:I63),\"\")","v":""},{"$f":"IF(COUNT(J13:J63)>0,COUNT(J13:J63),\"\")","v":""},{"$f":"IF(COUNT(K13:K63)>0,COUNT(K13:K63),\"\")","v":""},{"$f":"IF(COUNT(L13:L63)>0,COUNT(L13:L63),\"\")","v":""},{"$f":"IF(COUNT(M13:M63)>0,COUNT(M13:M63),\"\")","v":""},null,"N",{"$f":"IF(COUNT(P13:P63)>0,COUNT(P13:P63),\"\")","v":""},{"$f":"IF(COUNT(Q13:Q63)>0,COUNT(Q13:Q63),\"\")","v":""},{"$f":"IF(COUNT(R13:R63)>0,COUNT(R13:R63),\"\")","v":""},{"$f":"IF(COUNT(S13:S63)>0,COUNT(S13:S63),\"\")","v":""},{"$f":"IF(COUNT(T13:T63)>0,COUNT(T13:T63),\"\")","v":""}]
[null,null,null,null,null,null,null,null,null,null,null,null,null,null,null,null,null,null,null,null,null,null,null,null,null,null,"גורם 2"]
[]
[null,null,null,null,null,null,null,null,null,null,null,null,null,null,null,null,null,null,null,null,null,null,null,null,null,null,null,null,{"$f":"Y8","v":""},{"$f":"Z8","v":""},{"$f":"AA8","v":""},{"$f":"AB8","v":""},{"$f":"AC8","v":""}]
[null,null,null,null,null,null,null,null,null,null,null,null,null,null,null,null,null,null,null,null,null,null,null,null,null,null,null,"ממוצע",{"$f":"IF(LEN(B12)>0,B12,\"\")","v":"קטגורייה 1"},{"$f":"IF(LEN(C12)>0,C12,\"\")","v":"קטגורייה 2"},"קטגורייה 3","קטגורייה 4","קטגורייה 5"]
[null,null,null,null,null,null,null,null,null,null,null,null,null,null,null,null,null,null,null,null,null,null,null,null,null,null,{"$f":"AC70","v":"קטגורייה 1"},{"$f":"AC69","v":""},{"$f":"IF(AND(LEN(AC$69)>0,LEN($AB71)>0),AC$69-$AB71,\"\")","v":""},{"$f":"IF(AND(LEN(AD$69)>0,LEN($AB71)>0),AD$69-$AB71,\"\")","v":""},"","",""]
[null,null,null,null,null,null,null,null,null,null,null,null,null,null,null,null,null,null,null,null,null,null,null,null,null,null,{"$f":"AD70","v":"קטגורייה 2"},{"$f":"AD69","v":""},{"$f":"IF(AND(LEN(AC$69)>0,LEN($AB72)>0),AC$69-$AB72,\"\")","v":""},"","","",""]
[null,null,null,null,null,null,null,null,null,null,null,null,null,null,null,null,null,null,null,null,null,null,null,null,null,null,{"$f":"AE70","v":"קטגורייה 3"},{"$f":"AE69","v":""},"","","","",""]
[null,null,null,null,null,null,null,null,null,null,null,null,null,null,null,null,null,null,null,null,null,null,null,null,null,null,{"$f":"AF70","v":"קטגורייה 4"},{"$f":"AF69","v":""},"","","","",""]
[null,null,null,null,null,null,null,null,null,null,null,null,null,null,null,null,null,null,null,null,null,null,null,null,null,null,{"$f":"AG70","v":"קטגורייה 5"},{"$f":"AG69","v":""},{"$f":"IF(AND(LEN(AC$69)>0,LEN($AB75)>0),AC$69-$AB75,\"\")","v":""},"","","",""]

{"sheet":"2way rep ","index":63,"n_rows":79,"n_cols":47,"rows_kept":79,"cut":false,"hidden":false,"merged":[[4,11,4,12],[10,0,10,5],[10,8,10,13],[10,16,10,21]]}
[" ניתוח שונות דו/רב כיווני  למשתנים  תלויים - ניתוח שונות רב כיווני עם מדידות חוזרות    two way avova with repeated mesuers "]
[null,null,null,null,null,null,null,null,null,null,null,null,null,"מס קטגוריות",null,null,null,null,null,null,null,null,null,null,null,null,"סטטיסטיקה תיאורית ",null,null,null,null,null,{"$f":"5*14+40","v":110}]
["הוראות",null,null,null,null,null,null,null,null,null,null,"שם גורם 1 ",null,{"$f":"IF(COUNT(B13,J13,R13)>0,COUNT(B13,J13,R13),\"\")","v":""}]
["הכנס  שמות לקבוצות     ",null,null,null,null,null,null,null,null,null,null,"שם גורם 2",null,{"$f":"IF(COUNT(B13:F13)>0,COUNT(B13:F13),\"\")","v":""},null,null,null,null,null,null,null,null,null,null,null,null,"ממוצעים","קטגורייה1","קטגורייה2","קטגורייה3","קטגורייה4","קטגורייה5","סה\"כ"]
["הכנס את הנתונים של הנבדקים בכל אחת מהקבוצות",null,null,null,null,null,null,null,null,null,null,"מס נבדקים בכל קבוצה n",null,{"$f":"COUNT(B13:B63)","v":0},null,null,null,null,null,null,null,null,null,null,null,null,"קטגורייה 1",{"$f":"IF(COUNT(B13:B27)>0,AVERAGE(B13:B63),\"\")","v":""},{"$f":"IF(COUNT(C13:C27)>0,AVERAGE(C13:C63),\"\")","v":""},{"$f":"IF(COUNT(D13:D27)>0,AVERAGE(D13:D63),\"\")","v":""},{"$f":"IF(COUNT(E13:E27)>0,AVERAGE(E13:E63),\"\")","v":""},{"$f":"IF(COUNT(F13:F27)>0,AVERAGE(F13:F63),\"\")","v":""},{"$f":"IF(COUNT(AB5:AF5)>0,AVERAGE(B13:F63),\"\")","v":""}]
["תוצאות  המבחן הסטטיסטי יופיעו באופן אוטומטי . בדוק את התוצאות  ותן פשרנות בהתאם ",null,null,null,null,null,null,null,null,null,null,null,null,null,null,null,null,null,null,null,null,null,null,null,null,null,"קטגורייה 2",{"$f":"IF(COUNT(J13:J27)>0,AVERAGE(J13:J63),\"\")","v":""},{"$f":"IF(COUNT(K13:K27)>0,AVERAGE(K13:K63),\"\")","v":""},{"$f":"IF(COUNT(L13:L27)>0,AVERAGE(L13:L63),\"\")","v":""},{"$f":"IF(COUNT(M13:M27)>0,AVERAGE(M13:M63),\"\")","v":""},{"$f":"IF(COUNT(N13:N27)>0,AVERAGE(N13:N63),\"\")","v":""},{"$f":"IF(COUNT(AB6:AF6)>0,AVERAGE(J13:N63),\"\")","v":""}]
["להדפסת התוצאות לחץ על הדפסה ",null,null,null,null,null,null,null,null,null,null,null,null,null,null,null,null,null,null,null,null,null,null,null,null,null,"קטגורייה 3",{"$f":"IF(COUNT(R13:R27)>0,AVERAGE(R13:R63),\"\")","v":""},{"$f":"IF(COUNT(S13:S27)>0,AVERAGE(S13:S63),\"\")","v":""},{"$f":"IF(COUNT(T13:T27)>0,AVERAGE(T13:T63),\"\")","v":""},{"$f":"IF(COUNT(U13:U27)>0,AVERAGE(U13:U63),\"\")","v":""},{"$f":"IF(COUNT(V13:V27)>0,AVERAGE(V13:V63),\"\")","v":""},{"$f":"IF(COUNT(AB7:AF7)>0,AVERAGE(R13:V63),\"\")","v":""}]
["לעיבוד נוסף לחץ על נקה ",null,null,null,null,null,null,null,null,null,null,null,null,null,null,null,null,null,null,null,null,null,null,null,null,null,"סה\"כ",{"$f":"IF(COUNT(AB5:AB7)>0,AVERAGE(B12:B63,J13:J63,R13:R63),\"\")","v":""},{"$f":"IF(COUNT(AC5:AC7)>0,AVERAGE(C12:C63,K13:K63,S13:S63),\"\")","v":""},{"$f":"IF(COUNT(AD5:AD7)>0,AVERAGE(D12:D63,L13:L63,T13:T63),\"\")","v":""},{"$f":"IF(COUNT(AE5:AE7)>0,AVERAGE(E12:E63,M13:M63,U13:U63),\"\")","v":""},{"$f":"IF(COUNT(AF5:AF7)>0,AVERAGE(F12:F63,N13:N63,V13:V63),\"\")","v":""},{"$f":"IF(COUNT(AB8:AF8)>0,AVERAGE(B13:F63,J13:N63,R13:V63),\"\")","v":""}]
[]
[]
["קטוגורייה 1",null,null,null,null,null,{"$f":"SUM(B13:F13)","v":0},null,"קטוגורייה 2",null,null,null,null,null,{"$f":"SUM(J13:M13)","v":0},null,"קטוגורייה 3",null,null,null,null,null,null,null,null,null,"סכומים ","קטגורייה1","קטגורייה2","קטגורייה3","קטגורייה4","קטגורייה5","סה\"כ",null,null,null,null,null,null,null,null,null,"עיקיבות גורם 2"]
["מס' נבדק ","קטגורייה 1","קטגורייה 2","קטגורייה 3","קטגורייה 4","קטגורייה 5","עקביות קטגוריה 1",null,"מס' נבדק ",{"$f":"B12","v":"קטגורייה 1"},{"$f":"C12","v":"קטגורייה 2"},"קטגורייה 3","קטגורייה 4","קטגורייה 5","עקביות קטגוריה 2",null,"מס' נבדק ","קטגורייה 1","קטגורייה 2","קטגורייה 3","קטגורייה 4","קטגורייה 5","עקביות קטגוריה 3","עיקביות כללית",null,null,"קטגורייה 1",{"$f":"IF(COUNT(B13:B27)>0,SUM(B13:B63),\"\")","v":""},{"$f":"IF(COUNT(C13:C27)>0,SUM(C13:C63),\"\")","v":""},{"$f":"IF(COUNT(D13:D27)>0,SUM(D13:D63),\"\")","v":""},{"$f":"IF(COUNT(E13:E27)>0,SUM(E13:E63),\"\")","v":""},{"$f":"IF(COUNT(F13:F27)>0,SUM(F13:F63),\"\")","v":""},{"$f":"IF(COUNT(AB5:AF5)>0,SUM(B13:F63),\"\")","v":""},null,null,null,null,null,null,null,null,null,"קטגורייה 1","קטגורייה 2","קטגורייה 3","קטגורייה 4","קטגורייה 5"]
[1,null,null,null,null,null,{"$f":"IF(COUNT(B13:F13)>0,SUM(B13:F13),\"\")","v":""},null,1,null,null,null,null,null,{"$f":"IF(COUNT(J13:N13)>0,SUM(J13:N13),\"\")","v":""},null,1,null,null,null,null,null,{"$f":"IF(COUNT(R13:V13)>0,SUM(R13:V13),\"\")","v":""},{"$f":"IF(COUNT(B13,J13,R13)>0,SUM(G13,O13,W13),\"\")","v":""},null,null,"קטגורייה 2",{"$f":"IF(COUNT(J13:J27)>0,SUM(J13:J63),\"\")","v":""},{"$f":"IF(COUNT(K13:K27)>0,SUM(K13:K63),\"\")","v":""},{"$f":"IF(COUNT(L13:L27)>0,SUM(L13:L63),\"\")","v":""},{"$f":"IF(COUNT(M13:M27)>0,SUM(M13:M63),\"\")","v":""},{"$f":"IF(COUNT(N13:N27)>0,SUM(N13:N63),\"\")","v":""},{"$f":"IF(COUNT(AB6:AF6)>0,SUM(J13:N63),\"\")","v":""},null,null,null,null,null,null,null,null,null,{"$f":"IF(COUNT(B13,J13,R13)>0,SUM(B13,J13,R13),\"\")","v":""},{"$f":"IF(COUNT(C13,K13,S13)>0,SUM(C13,K13,S13),\"\")","v":""},{"$f":"IF(COUNT(D13,L13,T13)>0,SUM(D13,L13,T13),\"\")","v":""},{"$f":"IF(COUNT(E13,M13,U13)>0,SUM(E13,M13,U13),\"\")","v":""},""]
[2,null,null,null,null,null,"",null,2,null,null,null,null,null,"",null,2,null,null,null,null,null,{"$f":"IF(COUNT(R14:V14)>0,SUM(R14:V14),\"\")","v":""},{"$f":"IF(COUNT(B14,J14,R14)>0,SUM(G14,O14,W14),\"\")","v":""},null,null,"קטגורייה 3",{"$f":"IF(COUNT(R13:R27)>0,SUM(R13:R63),\"\")","v":""},{"$f":"IF(COUNT(S13:S27)>0,SUM(S13:S63),\"\")","v":""},{"$f":"IF(COUNT(T13:T27)>0,SUM(T13:T63),\"\")","v":""},{"$f":"IF(COUNT(U13:U27)>0,SUM(U13:U63),\"\")","v":""},{"$f":"IF(COUNT(V13:V27)>0,SUM(V13:V63),\"\")","v":""},{"$f":"IF(COUNT(AB7:AF7)>0,SUM(R13:V63),\"\")","v":""},null,null,null,null,null,null,null,null,null,"","","","",""]
[3,null,null,null,null,null,"",null,3,null,null,null,null,null,"",null,3,null,null,null,null,null,"","",null,null,"סה\"כ",{"$f":"IF(COUNT(AB5:AB7)>0,SUM(B12:B63,J13:J63,R13:R63),\"\")","v":""},{"$f":"IF(COUNT(AC5:AC7)>0,SUM(C12:C63,K13:K63,S13:S63),\"\")","v":""},{"$f":"IF(COUNT(AD5:AD7)>0,SUM(D12:D63,L13:L63,T13:T63),\"\")","v":""},{"$f":"IF(COUNT(AE5:AE7)>0,SUM(E12:E63,M13:M63,U13:U63),\"\")","v":""},{"$f":"IF(COUNT(AF5:AF7)>0,SUM(F12:F63,N13:N63,V13:V63),\"\")","v":""},{"$f":"IF(COUNT(AB8:AF8)>0,SUM(B13:F63,J13:N63,R13:V63),\"\")","v":""},null,null,null,null,null,null,null,null,null,"","","","",""]
[4,null,null,null,null,null,"",null,4,null,null,null,null,null,"",null,4,null,null,null,null,null,"","",null,null,null,null,null,null,null,null,null,null,null,null,null,null,null,null,null,null,"","","","",""]
[5,null,null,null,null,null,"",null,5,null,null,null,null,null,"",null,5,null,null,null,null,null,"","",null,null,{"$f":"IF(LEN(AG15)>0,AG15^2/COUNT(B13:F63,J13:N63,R13:V63),\"\")","v":""},"(SSx)2 /N ","A","קו בסיס",null,null,{"$f":"AG15","v":""},null,null,null,null,null,null,null,null,null,"","","","",""]
[6,null,null,null,null,null,"",null,6,null,null,null,null,null,"",null,6,null,null,null,null,null,"","",null,null,{"$f":"IF(LEN(AG15)>0,SUMSQ(B13:F63,J13:N63,R13:V63),\"\")","v":""},"SSx2","B","שונות כללית",null,null,null,null,null,null,null,null,null,null,null,null,"","","","",""]
[7,null,null,null,null,null,"",null,7,null,null,null,null,null,"",null,7,null,null,null,null,null,"","",null,null,{"$f":"IF(COUNT(AG12:AG14)>0,SUMSQ(AG12:AG14)/(N5*N4),\"\")","v":""},"S(SS Aj)2/(nq)","C",{"$f":"IF(LEN(M3)>0,M3,\"גורם1\")","v":"גורם1"},null,null,null,null,null,null,null,null,null,null,null,null,"","","","",""]
[8,null,null,null,null,null,"",null,8,null,null,null,null,null,"",null,8,null,null,null,null,null,"","",null,null,{"$f":"IF(COUNT(AB15:AF15)>0,SUMSQ(AB15:AF15)/(N5*N3),\"\")","v":""},"S(SS Bk)2/(np)","D",{"$f":"IF(LEN(M4)>0,M4,\"גורם 2 \")","v":"גורם 2 "},null,null,null,null,null,null,null,null,null,null,null,null,"","","","",""]
[9,null,null,null,null,null,"",null,9,null,null,null,null,null,"",null,9,null,null,null,null,null,"","",null,null,{"$f":"IF(COUNT(AB12:AF14)>0,SUMSQ(AB12:AF14)/N5,\"\")","v":""},"SS(S AB)2/n","E","אינטראקציה",null,null,null,null,null,null,null,null,null,null,null,null,"","","","",""]
[10,null,null,null,null,null,"",null,10,null,null,null,null,null,"",null,10,null,null,null,null,null,"","",null,null,{"$f":"IF(LEN(X13)>0,SUMSQ(X13:X63)/(N4*N3),\"\")","v":""},"S(SS P)2/(qp)","F","עיקביות כללית",null,null,null,null,null,null,null,null,null,null,null,null,"","","","",""]
[11,null,null,null,null,null,"",null,11,null,null,null,null,null,"",null,11,null,null,null,null,null,"","",null,null,{"$f":"IF(LEN(X13)>0,SUMSQ(G13:G63,O13:O63,W13:W63)/(N4),\"\")","v":""},"S(SS PA)2/(q)","G","עיקביות על פני גורם 1 ",null,null,null,null,null,null,null,null,null,null,null,null,"","","","",""]
[12,null,null,null,null,null,"",null,12,null,null,null,null,null,"",null,12,null,null,null,null,null,"","",null,null,{"$f":"IF(LEN(X13)>0,SUMSQ(AQ13:AU63)/(N3),\"\")","v":""},"S(SS PB)2/(p)","H","עיקביות על פני גורם 2",null,null,null,null,null,null,null,null,null,null,null,null,"","","","",""]
[13,null,null,null,null,null,"",null,13,null,null,null,null,null,"",null,13,null,null,null,null,null,"","",null,null,null,null,null,null,null,null,null,null,null,null,null,null,null,null,null,null,"","","","",""]
[14,null,null,null,null,null,"",null,14,null,null,null,null,null,"",null,14,null,null,null,null,null,"","",null,null,null,null,null,null,null,null,null,null,null,null,null,null,null,null,null,null,"","","","",""]
[15,null,null,null,null,null,"",null,15,null,null,null,null,null,"",null,15,null,null,null,null,null,"","",null,null,null,null,null,null,null,null,null,null,null,null,null,null,null,null,null,null,"","","","",""]
[16,null,null,null,null,null,"",null,16,null,null,null,null,null,"",null,16,null,null,null,null,null,"","",null,null,null,null,null,null,null,null,null,null,null,null,null,null,null,null,null,null,"","","","",""]
[17,null,null,null,null,null,"",null,17,null,null,null,null,null,"",null,17,null,null,null,null,null,"","",null,null,null,null,null,null,null,null,null,null,null,null,null,null,null,null,null,null,"","","",{"$f":"IF(COUNT(E29,M29,U29)>0,SUM(E29,M29,U29),\"\")","v":""},""]
[18,null,null,null,null,null,"",null,18,null,null,null,null,null,"",null,18,null,null,null,null,null,"","",null,null,null,"Critic F",null,null,null,null,null,null,null,null,null,null,null,null,null,null,"","","","",""]
[19,null,null,null,null,null,"",null,19,null,null,null,null,null,"",null,19,null,null,null,null,null,"","",null,null,"eta2",0.01,0.05,"sig","F","MS","d.f","SS","d.f","SS","SV","SV",null,null,null,null,"","","","",""]
[20,null,null,null,null,null,"",null,20,null,null,null,null,null,"",null,20,null,null,null,null,null,"","",null,null,{"$f":"IF(LEN(X13)>0,AH32/(AH32+AH33),\"\")","v":""},{"$f":"IF(COUNT(B$13:C$14,J$13:K$14)>0,FINV(0.01,AG32,AG33),\"\")","v":""},{"$f":"IF(COUNT(B$13:C$14,J$13:K$14)>0,FINV(0.05,AG32,AG33),\"\")","v":""},{"$f":"IF(COUNT(B$13:C$14,J$13:K$14)>0,FDIST(AE32,AG32,AG33),\"\")","v":""},{"$f":"IF(COUNT(B$13:C$14,J$13:K$14)>0,AF32/AF33,\"\")","v":""},{"$f":"IF(LEN(AH32)>0,AH32/AG32,\"\")","v":""},{"$f":"IF(COUNT(B13:C14,J13:K14)>0,N3-1,\"\")","v":""},{"$f":"IF(COUNT(B13:F16)>0,AA19-AA17,\"\")","v":""},"p-1","C-A","A","A","גורם A",null,null,null,"","","","",""]
[21,null,null,null,null,null,"",null,21,null,null,null,null,null,"",null,21,null,null,null,null,null,"","",null,null,null,null,null,null,null,{"$f":"IF(LEN(AH33)>0,AH33/AG33,\"\")","v":""},{"$f":"IF(LEN(X13)>0,(N5-1)*(N3-1),\"\")","v":""},{"$f":"IF(LEN(X13)>0,AA23-AA22-AA19+AA17,\"\")","v":""},"(p-1)(n-1)","G-F-C+A","AxSs w/in grps","error 1 ","שגיאה גורם A ",null,null,null,"","","","",""]
[22,null,null,null,null,null,"",null,22,null,null,null,null,null,"",null,22,null,null,null,null,null,"","",null,null,{"$f":"IF(LEN(X13)>0,AH34/(AH34+AH35),\"\")","v":""},{"$f":"IF(COUNT(B$13:C$14,J$13:K$14)>0,FINV(0.01,AG34,AG35),\"\")","v":""},{"$f":"IF(COUNT(B$13:C$14,J$13:K$14)>0,FINV(0.05,AG34,AG35),\"\")","v":""},{"$f":"IF(COUNT(B$13:C$14,J$13:K$14)>0,FDIST(AE34,AG34,AG35),\"\")","v":""},{"$f":"IF(COUNT(B$13:C$14,J$13:K$14)>0,AF34/AF35,\"\")","v":""},"",{"$f":"IF(COUNT(B13:C14,J13:K14)>0,N4-1,\"\")","v":""},{"$f":"IF(COUNT(B13:C14,J13:K14)>0,AA20-AA17,\"\")","v":""},"q-1","D-A","B","B","גורם B",null,null,null,"","","","",""]
[23,null,null,null,null,null,"",null,23,null,null,null,null,null,"",null,23,null,null,null,null,null,"","",null,null,null,null,null,null,null,"",{"$f":"IF(LEN(X13)>0,(N4-1)*(N5-1),\"\")","v":""},{"$f":"IF(LEN(X13)>0,AA24-AA22-AA20+AA17,\"\")","v":""},"(q-1)(n-1)","H-F-D+A","BxSs w/in grps","error 2","שגיאה גורם B ",null,null,null,"","","","",""]
[24,null,null,null,null,null,"",null,24,null,null,null,null,null,"",null,24,null,null,null,null,null,"","",null,null,{"$f":"IF(LEN(X13),AH36/(AH36+AH37),\"\")","v":""},{"$f":"IF(COUNT(B$13:C$14,J$13:K$14)>0,FINV(0.01,AG36,AG37),\"\")","v":""},{"$f":"IF(COUNT(B$13:C$14,J$13:K$14)>0,FINV(0.05,AG36,AG37),\"\")","v":""},{"$f":"IF(COUNT(B$13:C$14,J$13:K$14)>0,FDIST(AE36,AG36,AG37),\"\")","v":""},{"$f":"IF(COUNT(B$13:C$14,J$13:K$14)>0,AF36/AF37,\"\")","v":""},"",{"$f":"IF(LEN(X13)>0,AG34*AG32,\"\")","v":""},{"$f":"IF(LEN(X13)>0,AA21-AA20-AA19+AA17,\"\")","v":""},"(p-1)(q-1)","E-C-D+A","AB","AB","איטראקציה A X B",null,null,null,"","","","",""]
[25,null,null,null,null,null,"",null,25,null,null,null,null,null,"",null,25,null,null,null,null,null,"","",null,null,null,null,null,null,null,"",{"$f":"IF(LEN(X13)>0,AG32*AG34*(N5-1),\"\")","v":""},{"$f":"IF(LEN(X13)>0,AA18+AA22-AA23-AA24+AA19+AA20-AA21-AA17,\"\")","v":""},"(p-1)(q-1)(n-1)","B+F-G-H+C+D-E-A","ABxSs w/in grps","error 3","שגיאה אינטראקציה",null,null,null,"","","","",""]
[26,null,null,null,null,null,"",null,26,null,null,null,null,null,"",null,26,null,null,null,null,null,"","",null,null,null,null,null,null,null,null,{"$f":"SUM(AG32:AG37)","v":0},null,null,null,null,"total","סה\"כ",null,null,null,"","","","",""]
[27,null,null,null,null,null,"",null,27,null,null,null,null,null,"",null,27,null,null,null,null,null,"","",null,null,null,null,null,null,null,null,null,null,null,null,null,null,null,null,null,null,"","","","",""]
[28,null,null,null,null,null,"",null,28,null,null,null,null,null,"",null,28,null,null,null,null,null,"","",null,"פרשנות",null,null,null,null,null,null,null,null,null,null,null,{"$f":"IF(N5>0,(N5*N4*N3)-1,\"\")","v":""},null,null,null,null,"","","","",""]
[29,null,null,null,null,null,"",null,29,null,null,null,null,null,"",null,29,null,null,null,null,null,"","",null,null,null,null,null,null,null,null,null,null,null,null,null,null,null,null,null,null,"","","","",""]
[30,null,null,null,null,null,"",null,30,null,null,null,null,null,"",null,30,null,null,null,null,null,"","",null,"גרום A ",null,null,null,null,null,null,null,null,null,null,null,null,null,null,null,null,"","","","",""]
[31,null,null,null,null,null,"",null,31,null,null,null,null,null,"",null,31,null,null,null,null,null,"","",null,{"$f":"IF(COUNT(B$13:Y$28)>1,IF(AD32>0.05,\"  אין די ראיות לקבוע שהקבוצות שונות זו מזו \",IF(N3>2,\"יש די ראיות לקבוע שהקבוצות שונות ויש לבצע מבחן מעקב כדי לקבוע מי שונה ממי\",\" יש די ראיות לקבוע שהקבוצות שונות ויש להסתכל על הממוצעים כדי לקבוע לטובת מי\")),\"\"\"\")","v":"  אין די ראיות לקבוע שהקבוצות שונות זו מזו "},null,null,null,null,null,null,null,null,null,null,null,null,null,null,null,null,"","","","",""]
[32,null,null,null,null,null,"",null,32,null,null,null,null,null,"",null,32,null,null,null,null,null,"","",null,{"$f":"IF(COUNT(N5)>2,CONCATENATE(TEXT(AA32*100,\"#.##\"),\"  \",\"אחוז מההבדלים במשתנה התלוי ניתן להסביר כתוצאה מהשייכות לקבוצות יתר השונות מוסברת באמצעות גורמים אחרים \"),\"\")","v":""},null,null,null,null,null,null,null,null,null,null,null,null,null,null,null,null,"","","","",""]
[33,null,null,null,null,null,"",null,33,null,null,null,null,null,"",null,33,null,null,null,null,null,"","",null,null,null,null,null,null,null,null,null,null,null,null,null,null,null,null,null,null,{"$f":"IF(COUNT(B45,J45,R45)>0,SUM(B45,J45,R45),\"\")","v":""},{"$f":"IF(COUNT(C45,K45,S45)>0,SUM(C45,K45,S45),\"\")","v":""},{"$f":"IF(COUNT(D45,L45,T45)>0,SUM(D45,L45,T45),\"\")","v":""},{"$f":"IF(COUNT(E45,M45,U45)>0,SUM(E45,M45,U45),\"\")","v":""},""]
[34,null,null,null,null,null,"",null,34,null,null,null,null,null,"",null,34,null,null,null,null,null,"","",null,"גרום B ",null,null,null,null,null,null,null,null,null,null,null,null,null,null,null,null,"","","","",""]
[35,null,null,null,null,null,"",null,35,null,null,null,null,null,"",null,35,null,null,null,null,null,"","",null,{"$f":"IF(COUNT(B$13:Y$28)>1,IF(AD34>0.05,\"  אין די ראיות לקבוע שהקבוצות שונות זו מזו \",IF(N4>2,\"יש די ראיות לקבוע שהקבוצות שונות ויש לבצע מבחן מעקב כדי לקבוע מי שונה ממי\",\" יש די ראיות לקבוע שהקבוצות שונות ויש להסתכל על הממוצעים כדי לקבוע לטובת מי\")),\"\"\"\")","v":"  אין די ראיות לקבוע שהקבוצות שונות זו מזו "},null,null,null,null,null,null,null,null,null,null,null,null,null,null,null,null,"","","","",""]
[36,null,null,null,null,null,"",null,36,null,null,null,null,null,"",null,36,null,null,null,null,null,"","",null,{"$f":"IF(COUNT(N5)>1,CONCATENATE(TEXT(AA33*100,\"#.##\"),\"  \",\"אחוז מההבדלים במשתנה התלוי ניתן להסביר כתוצאה מהשייכות לקבוצות יתר השונות מוסברת באמצעות גורמים אחרים \"),\"\")","v":""},null,null,null,null,null,null,null,null,null,null,null,null,null,null,null,null,"","","","",""]
[37,null,null,null,null,null,"",null,37,null,null,null,null,null,"",null,37,null,null,null,null,null,"","",null,null,null,null,null,null,null,null,null,null,null,null,null,null,null,null,null,null,"","","","",""]
[38,null,null,null,null,null,"",null,38,null,null,null,null,null,"",null,38,null,null,null,null,null,"","",null,"גורם האינטראקציה ",null,null,null,null,null,null,null,null,null,null,null,null,null,null,null,null,"","","","",""]
[39,null,null,null,null,null,"",null,39,null,null,null,null,null,"",null,39,null,null,null,null,null,"","",null,{"$f":"IF(COUNT(B$13:Y$28)>1,IF(AD36>0.05,\"  אין די ראיות לקבוע שהקבוצות שונות זו מזו \",IF(AG36>1,\"יש די ראיות לקבוע שהאינטראקציה מבוהקות ויש לפרק אותה כדי למצוא מהיכן היא נובעת \",\" יש די ראיות לקבוע שהקבוצות שונות ויש להסתכל על הממוצעים כדי לקבוע לטובת מי\")),\"\"\"\")","v":"  אין די ראיות לקבוע שהקבוצות שונות זו מזו "},null,null,null,null,null,null,null,null,null,null,null,null,null,null,null,null,"","","","",""]
[40,null,null,null,null,null,"",null,40,null,null,null,null,null,"",null,40,null,null,null,null,null,"","",null,{"$f":"IF(COUNT(N5)>1,CONCATENATE(TEXT(AA34*100,\"#.##\"),\"  \",\"אחוז מההבדלים במשתנה התלוי ניתן להסביר כתוצאה מקיום האינטראקציה בין המשתנים - אפקט דיפרציאלי    \"),\"\")","v":""},null,null,null,null,null,null,null,null,null,null,null,null,null,null,null,null,"","","","",""]
[41,null,null,null,null,null,"",null,41,null,null,null,null,null,"",null,41,null,null,null,null,null,"","",null,null,null,null,null,null,null,null,null,null,null,null,null,null,null,null,null,null,"","","","",""]
[42,null,null,null,null,null,"",null,42,null,null,null,null,null,"",null,42,null,null,null,null,null,"","",null,null,null,null,null,null,null,null,null,null,null,null,null,null,null,null,null,null,"","","","",""]
[43,null,null,null,null,null,"",null,43,null,null,null,null,null,"",null,43,null,null,null,null,null,"","",null,null,null,"פוסט הוק ( post hoc  ) ע\"ש tukey עבור מספר נבדקים  שווה ",null,null,null,"Tukey",null,null,null,null,null,null,null,null,null,null,"","","","",""]
[44,null,null,null,null,null,"",null,44,null,null,null,null,null,"",null,44,null,null,null,null,null,"","",null,null,null,null,null,null,null,null,null,null,null,null,null,null,null,null,null,null,"","","","",""]
[45,null,null,null,null,null,"",null,45,null,null,null,null,null,"",null,45,null,null,null,null,null,"","",null,null,null,null,null,"גורם 2",null,"גורם 1",null,null,null,null,null,null,null,null,null,null,"","","","",""]
[46,null,null,null,null,null,"",null,46,null,null,null,null,null,"",null,46,null,null,null,null,null,"","",null,null,null,null,null,null,null,null,null,null,null,null,null,null,null,null,null,null,"","","","",""]
[47,null,null,null,null,null,"",null,47,null,null,null,null,null,"",null,47,null,null,null,null,null,"","",null,null,null,null,null,"HSD","q","HSD","q",null,null,null,null,null,null,null,null,null,"","","","",""]
[48,null,null,null,null,null,"",null,48,null,null,null,null,null,"",null,48,null,null,null,null,null,"","",null,null,null,null,null,{"$f":"IF(LEN(AG34)>0,SQRT(AF35/(N5*N3))*AE60,\"\")","v":""},{"$f":"IF(LEN(AG34)>0,INDEX('q new'!M4:U25,MATCH(AG35,'q new'!L4:L25),MATCH(AG34+1,'q new'!M3:U3)),\"\")","v":""},{"$f":"IF(LEN(AG32)>0,SQRT((AF33/(N5*N4)))*AG60,\"\")","v":""},{"$f":"IF(LEN(AG32)>0,INDEX('q new'!M4:U25,MATCH(AG33,'q new'!L4:L25),MATCH(AG32+1,'q new'!M3:U3)),\"\")","v":""},"I 0.05=",null,null,null,null,null,null,null,null,"","","","",""]
[49,null,null,null,null,null,"",null,49,null,null,null,null,null,"",null,49,null,null,null,null,null,"","",null,null,null,null,null,{"$f":"IF(LEN(AG36)>0,SQRT(AF35/(N5*N3))*AE61,\"\")","v":""},{"$f":"IF(LEN(AG34)>0,INDEX('q new'!X4:AF25,MATCH(AG35,'q new'!W4:W25),MATCH(AG34+1,'q new'!X3:AF3)),\"\")","v":""},{"$f":"IF(LEN(AG32)>0,SQRT((AF35/(N5*N4)))*AG61,\"\")","v":""},{"$f":"IF(LEN(AG32)>0,INDEX('q new'!X4:AF25,MATCH(AG33,'q new'!W4:W25),MATCH(AG32+1,'q new'!M3:U3)),\"\")","v":""},"I 0.01=",null,null,null,null,null,null,null,null,"","","",{"$f":"IF(COUNT(E61,M61,U61)>0,SUM(E61,M61,U61),\"\")","v":""},""]
[50,null,null,null,null,null,"",null,50,null,null,null,null,null,"",null,50,null,null,null,null,null,"","",null,null,null,null,null,null,null,null,null,null,null,null,null,null,null,null,null,null,"","","","",""]
[51,null,null,null,null,null,"",null,51,null,null,null,null,null,"",null,51,null,null,null,null,null,"","",null,null,null,null,null,"גורם 1",null,null,null,null,null,null,null,null,null,null,null,null,"","","","",""]
["ממוצע",{"$f":"IF(COUNT(B13:B63)>0,AVERAGE(B13:B63),\"\")","v":""},{"$f":"IF(COUNT(C13:C63)>0,AVERAGE(C13:C63),\"\")","v":""},{"$f":"IF(COUNT(D13:D63)>0,AVERAGE(D13:D63),\"\")","v":""},{"$f":"IF(COUNT(E13:E63)>0,AVERAGE(E13:E63),\"\")","v":""},{"$f":"IF(COUNT(F13:F63)>0,AVERAGE(F13:F63),\"\")","v":""},null,null,"ממוצע",{"$f":"IF(COUNT(J13:J63)>0,AVERAGE(J13:J63),\"\")","v":""},{"$f":"IF(COUNT(K13:K63)>0,AVERAGE(K13:K63),\"\")","v":""},{"$f":"IF(COUNT(L13:L63)>0,AVERAGE(L13:L63),\"\")","v":""},{"$f":"IF(COUNT(M13:M63)>0,AVERAGE(M13:M63),\"\")","v":""},{"$f":"IF(COUNT(N13:N63)>0,AVERAGE(N13:N63),\"\")","v":""},null,null,"ממוצע",{"$f":"IF(COUNT(R13:R63)>0,AVERAGE(R13:R63),\"\")","v":""},{"$f":"IF(COUNT(S13:S63)>0,AVERAGE(S13:S63),\"\")","v":""},{"$f":"IF(COUNT(T13:T63)>0,AVERAGE(T13:T63),\"\")","v":""},{"$f":"IF(COUNT(U13:U63)>0,AVERAGE(U13:U63),\"\")","v":""},{"$f":"IF(COUNT(V13:V63)>0,AVERAGE(V13:V63),\"\")","v":""},null,null,null,null,null,null,null,null,"טבלת הפרשי ממוצעים "]
["סטיית תקן",{"$f":"IF(COUNT(B13:B63)>0,STDEV(B13:B63),\"\")","v":""},{"$f":"IF(COUNT(C13:C63)>0,STDEV(C13:C63),\"\")","v":""},{"$f":"IF(COUNT(D13:D63)>0,STDEV(D13:D63),\"\")","v":""},{"$f":"IF(COUNT(E13:E63)>0,STDEV(E13:E63),\"\")","v":""},{"$f":"IF(COUNT(F13:F63)>0,STDEV(F13:F63),\"\")","v":""},null,null,"סטיית תקן",{"$f":"IF(COUNT(J13:J63)>0,STDEV(J13:J63),\"\")","v":""},{"$f":"IF(COUNT(K13:K63)>0,STDEV(K13:K63),\"\")","v":""},{"$f":"IF(COUNT(L13:L63)>0,STDEV(L13:L63),\"\")","v":""},{"$f":"IF(COUNT(M13:M63)>0,STDEV(M13:M63),\"\")","v":""},{"$f":"IF(COUNT(N13:N63)>0,STDEV(N13:N63),\"\")","v":""},null,null,"סטיית תקן",{"$f":"IF(COUNT(R13:R63)>0,STDEV(R13:R63),\"\")","v":""},{"$f":"IF(COUNT(S13:S63)>0,STDEV(S13:S63),\"\")","v":""},{"$f":"IF(COUNT(T13:T63)>0,STDEV(T13:T63),\"\")","v":""},{"$f":"IF(COUNT(U13:U63)>0,STDEV(U13:U63),\"\")","v":""},{"$f":"IF(COUNT(V13:V63)>0,STDEV(V13:V63),\"\")","v":""},null,null,null,null,null,null,null,null,null,{"$f":"AG5","v":""},{"$f":"AG6","v":""},{"$f":"AG7","v":""}]
["N",{"$f":"IF(COUNT(B13:B63)>0,COUNT(B13:B63),\"\")","v":""},{"$f":"IF(COUNT(C13:C63)>0,COUNT(C13:C63),\"\")","v":""},{"$f":"IF(COUNT(D13:D63)>0,COUNT(D13:D63),\"\")","v":""},{"$f":"IF(COUNT(E13:E63)>0,COUNT(E13:E63),\"\")","v":""},{"$f":"IF(COUNT(F13:F63)>0,COUNT(F13:F63),\"\")","v":""},null,null,"N",{"$f":"IF(COUNT(J13:J63)>0,COUNT(J13:J63),\"\")","v":""},{"$f":"IF(COUNT(K13:K63)>0,COUNT(K13:K63),\"\")","v":""},{"$f":"IF(COUNT(L13:L63)>0,COUNT(L13:L63),\"\")","v":""},{"$f":"IF(COUNT(M13:M63)>0,COUNT(M13:M63),\"\")","v":""},{"$f":"IF(COUNT(N13:N63)>0,COUNT(N13:N63),\"\")","v":""},null,null,"N",{"$f":"IF(COUNT(R13:R63)>0,COUNT(R13:R63),\"\")","v":""},{"$f":"IF(COUNT(S13:S63)>0,COUNT(S13:S63),\"\")","v":""},{"$f":"IF(COUNT(T13:T63)>0,COUNT(T13:T63),\"\")","v":""},{"$f":"IF(COUNT(U13:U63)>0,COUNT(U13:U63),\"\")","v":""},{"$f":"IF(COUNT(V13:V63)>0,COUNT(V13:V63),\"\")","v":""},null,null,null,null,null,null,null,null,"ממוצע",{"$f":"IF(LEN(AB11)>0,AB11,\"\")","v":"קטגורייה1"},{"$f":"IF(LEN(AC11)>0,AC11,\"\")","v":"קטגורייה2"},{"$f":"IF(LEN(AD11)>0,AD11,\"\")","v":"קטגורייה3"}]
[null,null,null,null,null,null,null,null,null,null,null,null,null,null,null,null,null,null,null,null,null,null,null,null,null,null,null,null,null,{"$f":"AF65","v":""},{"$f":"IF(LEN(AB11)>0,AB11,\"\")","v":"קטגורייה1"},{"$f":"IF(AND(LEN(AF$65)>0,LEN($AD67)>0),AF$65-$AD67,\"\")","v":""},"",""]
[null,null,null,null,null,null,null,null,null,null,null,null,null,null,null,null,null,null,null,null,null,null,null,null,null,null,null,null,null,{"$f":"AG65","v":""},{"$f":"IF(LEN(AC11)>0,AC11,\"\")","v":"קטגורייה2"},"","",""]
[null,null,null,null,null,null,null,null,null,null,null,null,null,null,null,null,null,null,null,null,null,null,null,null,null,null,null,null,null,{"$f":"AH65","v":""},{"$f":"IF(LEN(AD11)>0,AD11,\"\")","v":"קטגורייה3"},"","",""]
[]
[null,null,null,null,null,null,null,null,null,null,null,null,null,null,null,null,null,null,null,null,null,null,null,null,null,null,null,null,null,"גורם 2"]
[]
[null,null,null,null,null,null,null,null,null,null,null,null,null,null,null,null,null,null,null,null,null,null,null,null,null,null,null,null,null,null,null,{"$f":"AB4","v":"קטגורייה1"},{"$f":"AC4","v":"קטגורייה2"},"קטגורייה3","קטגורייה4","קטגורייה5"]
[null,null,null,null,null,null,null,null,null,null,null,null,null,null,null,null,null,null,null,null,null,null,null,null,null,null,null,null,null,null,"ממוצע",{"$f":"IF(LEN(AB8)>0,AB8,\"\")","v":""},{"$f":"IF(LEN(AC8)>0,AC8,\"\")","v":""},"","",""]
[null,null,null,null,null,null,null,null,null,null,null,null,null,null,null,null,null,null,null,null,null,null,null,null,null,null,null,null,null,{"$f":"AF73","v":"קטגורייה1"},{"$f":"AF74","v":""},{"$f":"IF(AND(LEN(AF$74)>0,LEN($AE75)>0),AF$74-$AE75,\"\")","v":""},"",{"$f":"IF(AND(LEN(AH$74)>0,LEN($AE75)>0),AH$74-$AE75,\"\")","v":""},"",""]
[null,null,null,null,null,null,null,null,null,null,null,null,null,null,null,null,null,null,null,null,null,null,null,null,null,null,null,null,null,{"$f":"AG73","v":"קטגורייה2"},{"$f":"AG74","v":""},"","","","",""]
[null,null,null,null,null,null,null,null,null,null,null,null,null,null,null,null,null,null,null,null,null,null,null,null,null,null,null,null,null,{"$f":"AH73","v":"קטגורייה3"},{"$f":"AH74","v":""},"","","","",""]
[null,null,null,null,null,null,null,null,null,null,null,null,null,null,null,null,null,null,null,null,null,null,null,null,null,null,null,null,null,{"$f":"AI73","v":"קטגורייה4"},{"$f":"AI74","v":""},"","","","",""]
[null,null,null,null,null,null,null,null,null,null,null,null,null,null,null,null,null,null,null,null,null,null,null,null,null,null,null,null,null,{"$f":"AJ73","v":"קטגורייה5"},{"$f":"AJ74","v":""},"","","","",""]

{"sheet":"REG","index":64,"n_rows":48,"n_cols":23,"rows_kept":48,"cut":false,"hidden":false,"merged":[[15,0,15,12],[16,0,16,1],[17,0,27,0]]}
[" ניתוח שונות דו/רב כיווני  למשתנים  תלויים - ניתוח שונות רב כיווני עם מדידות חוזרות    two way avova with repeated mesuers "]
[]
[null,null,null,null,null,null,null,null,null,null,null,{"$f":"B18","v":"משתנה תלוי"}]
[" ","ממוצע","סטיית תקן ","N "]
["משתנה תלוי"]
["בלתי תלוי 1"]
["בלתי תלוי 2"]
["בלתי תלוי 3"]
["בלתי תלוי 4"]
["בלתי תלוי 5",null,null,null,null,null,null,null,null,null,null,{"$f":"INDIRECT(ADDRESS(K13,K12,1,1))","v":0},null,{"$f":"CONCATENATE(\"=\",L10)","v":"=0"}]
["בלתי תלוי 6"]
["בלתי תלוי 7",null,null,null,null,null,null,null,null,null,{"$f":"COLUMN(C19)","v":3}]
["בלתי תלוי 8",null,null,null,null,"המשתנה הראשון  שיכנס ",null,null,{"$f":"VLOOKUP(1,U18:W27,2)","v":"בלתי תלוי 10"},{"$f":"MAX(W18:W27)","v":0},{"$f":"ROW(W18)","v":18}]
["בלתי תלוי 9"]
["בלתי תלוי 10"]
["Correlations"]
[" ",null,{"$f":"B18","v":"משתנה תלוי"},{"$f":"B19","v":"בלתי תלוי 1"},{"$f":"B20","v":"בלתי תלוי 2"},{"$f":"B21","v":"בלתי תלוי 3"},{"$f":"B22","v":"בלתי תלוי 4"},{"$f":"B23","v":"בלתי תלוי 5"},{"$f":"B24","v":"בלתי תלוי 6"},{"$f":"B25","v":"בלתי תלוי 7"},{"$f":"B26","v":"בלתי תלוי 8"},{"$f":"B27","v":"בלתי תלוי 9"},{"$f":"B28","v":"בלתי תלוי 10"}]
["Pearson Correlation",{"$f":"A5","v":"משתנה תלוי"},null,null,null,null,null,null,null,null,null,null,null,null,null,null,null,null,null,null,{"$f":"RANK(W18,W$18:W$27)","v":1},{"$f":"B19","v":"בלתי תלוי 1"},{"$f":"ABS(C19)","v":0}]
[null,{"$f":"A6","v":"בלתי תלוי 1"},null,null,null,null,null,null,null,null,null,null,null,null,null,null,null,null,null,null,{"$f":"RANK(W19,W$18:W$27)","v":1},"בלתי תלוי 2",0]
[null,"בלתי תלוי 2",null,null,null,null,null,null,null,null,null,null,null,null,null,null,null,null,null,null,1,"בלתי תלוי 3",0]
[null,"בלתי תלוי 3",null,null,null,null,null,null,null,null,null,null,null,null,null,null,null,null,null,null,1,"בלתי תלוי 4",0]
[null,"בלתי תלוי 4",null,null,null,null,null,null,null,null,null,null,null,null,null,null,null,null,null,null,1,"בלתי תלוי 5",0]
[null,"בלתי תלוי 5",null,null,null,null,null,null,null,null,null,null,null,null,null,null,null,null,null,null,1,"בלתי תלוי 6",0]
[null,"בלתי תלוי 6",null,null,null,null,null,null,null,null,null,null,null,null,null,null,null,null,null,null,1,"בלתי תלוי 7",0]
[null,"בלתי תלוי 7",null,null,null,null,null,null,null,null,null,null,null,null,null,null,null,null,null,null,1,"בלתי תלוי 8",0]
[null,"בלתי תלוי 8",null,null,null,null,null,null,null,null,null,null,null,null,null,null,null,null,null,null,1,"בלתי תלוי 9",0]
[null,"בלתי תלוי 9",null,null,null,null,null,null,null,null,null,null,null,null,null,null,null,null,null,null,1,"בלתי תלוי 10",0]
[null,"בלתי תלוי 10"]
[null,null,null,null,null,null,null,null,null,null,null,"Excluded Variablese"]
[null,null,"(C33-(F33*F34))/((SQRT(1-F33^2)))*(SQRT(1-(F34^2)))",null,null,null,null,null,null,null,null,"Model",null,"Beta In","t","Sig.","Partial Correlation","Collinearity Statistics"]
[{"$f":"B31*C5/C6","v":{"$error":"#DIV/0!"}},{"$f":"(C19-C20*D20)/(1-D20^2)","v":0},"points",{"$f":"(0.707-0.719*0.411)","v":0.411491},{"$f":"SQRT(1-(0.719^2))","v":0.69501007186946584},{"$f":"SQRT(1-(0.411^2))","v":0.911635343764161},{"$f":"E31*F31","v":0.63359574578827471},{"$f":"D31/G31","v":0.64945353995085964},null,null,null,null,null,null,null,null,null,"Tolerance","VIF","Minimum Tolerance"]
["b","b",null,"מונה","מכנה1","מכנה2","מכנה","מתאם חלקי","מתאם חלקי למחצה","תוספת בריבוע",null,"1","rebound",0.30990093617693121,2.7528606515682448,9.5277897792299098E-3,0.43215308287532728,0.99237133874293659,1.007687305103679,0.99237133874293659]
[{"$f":"B33*C$5/C7","v":{"$error":"#NAME?"}},{"$f":"D33/(1-D20^2)","v":{"$error":"#NAME?"}},"rebound",{"$f":"b","v":{"$error":"#NAME?"}},{"$f":"SQRT(1-C$19^2)","v":1},{"$f":"SQRT(1-D20^2)","v":1},{"$f":"E33*F33","v":1},{"$f":"D33/G33","v":{"$error":"#NAME?"}},{"$f":"D33/F33","v":{"$error":"#NAME?"}},{"$f":"I33^2","v":{"$error":"#NAME?"}},null,null,"per_2PT",6.8464427302339953E-2,0.32942374319441525,0.74391726681193537,5.7251255349659816E-2,0.35684928137433986,2.8023035275528159,0.35684928137433986]
[{"$f":"B34*C8/C$5","v":{"$error":"#DIV/0!"}},0,"per_2PT",{"$f":"C21-C$19*D21","v":0},{"$f":"SQRT(1-C$19^2)","v":1},1,1,0,0,0,null,null,"per_3PT",0.17844267458847093,1.1434133510424478,0.26109422735493021,0.19521329559124331,0.61075368577516675,1.6373212692622607,0.61075368577516675]
[{"$f":"B35*C9/C6","v":{"$error":"#DIV/0!"}},0,"per_3PT",0,1,1,1,0,0,0,null,null,"per_1FTS",-5.1104253748472965E-3,-3.6746900769161303E-2,0.97090820761044316,-6.3966834771775703E-3,0.79954033722121565,1.2507186360046292,0.79954033722121565]
[{"$f":"B36*C10/C7","v":{"$error":"#DIV/0!"}},0,"per_1FTS",0,1,1,1,0,0,0,null,null,"assis",0.16705154163507502,1.0694708254844374,0.29261818548327845,0.18302618162106296,0.61259044849345234,1.6324120012959824,0.61259044849345234]
[null,0,"assis",0,1,1,1,0,0,0,null,null,"hatifa",6.1165806037477746E-2,0.48941100644606883,0.62778825383716819,8.4888007470281496E-2,0.98292420779525613,1.0173724403868796,0.98292420779525613]
[null,0,"hatifa",0,1,1,1,0,0,0,null,null,"ibud",-7.2170147428497144E-2,-0.53763166517267458,0.5944387423336166,-9.3182456067880753E-2,0.85074201119270676,1.1754444788709086,0.85074201119270676]
[null,0,"ibud",0,1,1,1,0,0,0,null,null,"hasima",0.16585484520272978,1.3577819910519109,0.18374534323524383,0.23002164727918939,0.98158033698301572,1.0187653137730925,0.98158033698301572]
[null,0,"hasima",0,1,1,1,0,0,0,null,null,"Fouls",-5.5597390910043808E-2,-0.39205712601669157,0.69753664587869302,-6.8089993504709734E-2,0.76542478491309729,1.3064640964213554,0.76542478491309729]
[null,0,"Fouls",0,1,1,1,0,0,0,null,"2","per_2PT",-9.4384062803460136E-2,-0.47412692647992788,0.63862871399918586,-8.3521739290997168E-2,0.32498790356725055,3.0770376036259686,0.32498790356725055]
[null,null,null,null,null,null,null,null,null,null,null,null,"per_3PT",0.15760152149812998,1.1001846921693708,0.27945944629003644,0.19090992329454864,0.60897808910304763,1.6420952048913307,0.60442708016071123]
[null,null,null,null,null,null,null,null,null,null,null,null,"per_1FTS",0.12357442022158639,0.92708569986443656,0.36082205323395655,0.16172959046079866,0.71086524747326574,1.4067363731093185,0.71086524747326574]
[null,null,null,null,null,null,null,null,null,null,null,null,"assis",-2.3160085218021535E-2,-0.14059818459004905,0.88906869595733351,-2.4846809121648484E-2,0.47766829240044512,2.0935029934154956,0.47766829240044512]
[null,null,null,null,null,null,null,null,null,null,null,null,"hatifa",-3.6588505295542043E-2,-0.30397796688678119,0.76311257758034479,-5.3658804193277891E-2,0.89260253584254556,1.1203194701391699,0.89260253584254556]
[null,null,null,null,null,null,null,null,null,null,null,null,"ibud",-0.27102192355601767,-2.1049771001736106,4.323464612287644E-2,-0.34874842501802195,0.68719681167301971,1.4551871938483578,0.68719681167301971]
[null,null,null,null,null,null,null,null,null,null,null,null,"hasima",5.4052819983894697E-2,0.43539041095605729,0.6662017819496755,7.673991384485751E-2,0.83651045698614124,1.1954423183218705,0.83651045698614124]
[null,null,null,null,null,null,null,null,null,null,null,null,"Fouls",-2.9157742913719465E-2,-0.22353639823927249,0.82453900444074324,-3.9485209385755629E-2,0.76107342651287879,1.3139336694250987,0.76107342651287879]

{"sheet":"Sheet14","index":65,"n_rows":0,"n_cols":0,"rows_kept":0,"cut":false,"hidden":false,"merged":[]}

{"sheet":"Sheet15","index":66,"n_rows":0,"n_cols":0,"rows_kept":0,"cut":false,"hidden":false,"merged":[]}

{"sheet":"Sheet16","index":67,"n_rows":0,"n_cols":0,"rows_kept":0,"cut":false,"hidden":false,"merged":[]}

{"sheet":"chiall","index":68,"n_rows":49,"n_cols":21,"rows_kept":49,"cut":false,"hidden":false,"merged":[[34,3,35,4]]}
["מבחן c2 ל 2 מדגמים"]
[]
["מיועד להערכת הקשר בין שתי התפלגות של נתונים קטגוריים (סולם שמי/ו סידורי ). "]
["מאפשר לנתח נתונים המייצגים יותר מ 2 קטגוריות או יותר"]
["השערת האפס: שכיחויות הקטגוריות בממד א' מתפלגות באופן דומה (ההשערה הנגדית = באופן שונה) בקטגוריות של ממד ב'. "]
[]
["הכנס שכיחויות לטבלת ה observed"]
[]
["observed","משתנה 1"]
[null,"קטגוריה1","קטגוריה2","קטגוריה3","קטגוריה4","קטגוריה5","קטגוריה6","קטגוריה7","סה\"כ"]
["קטגוריה1",null,null,null,null,null,null,null,{"$f":"IF(COUNT(B11:H11)>0,SUM(B11:H11),\"\")","v":""},{"$f":"IF(COUNT(B11:H11)>0,COUNT(B11:H11),\"\")","v":""}]
["קטגוריה2",null,null,null,null,null,null,null,{"$f":"IF(COUNT(B12:H12)>0,SUM(B12:H12),\"\")","v":""}]
["קטגוריה3",null,null,null,null,null,null,null,""]
["קטגוריה4",null,null,null,null,null,null,null,""]
["קטגוריה5",null,null,null,null,null,null,null,""]
["קטגוריה6",null,null,null,null,null,null,null,""]
["קטגוריה7",null,null,null,null,null,null,null,""]
["סה\"כ",{"$f":"IF(COUNT(B11:B17)>1,SUM(B11:B17),\"\")","v":""},{"$f":"IF(COUNT(C11:C17)>1,SUM(C11:C17),\"\")","v":""},"","","","","",""]
[null,{"$f":"IF(COUNT(B11:B17)>0,COUNT(B11:B17),\"\")","v":""}]
[null,null,null,null,null,null,null,null,null,{"$f":"IF(AND(J11>1,B19>1),SUM(J11,B19),\"no\")","v":0}]
["expected","משתנה 1",null,null,null,null,null,null,null,null,"diff","משתנה 1"]
[null,"קטגוריה1","קטגוריה2","קטגוריה3","קטגוריה4","קטגוריה5","קטגוריה6","קטגוריה7","סה\"כ",null,null,"קטגוריה1","קטגוריה2","קטגוריה3","קטגוריה4","קטגוריה5","קטגוריה6","קטגוריה7","סה\"כ"]
["קטגוריה1",{"$f":"IF(LEN(B11)=0,\"\",IF(AND($J$11>1,$B$19>1),(($I11*B$18)/$I$18),IF($J$11=1,$B$18/$B$19,IF($B$19=1,$I$11/$J$11,))))","v":""},{"$f":"IF(LEN(C11)=0,\"\",IF(AND($J$11>1,$B$19>1),(($I11*C$18)/$I$18),IF($J$11=1,$B$18/$B$19,IF($B$19=1,$I$11/$J$11,))))","v":""},"","","","","",{"$f":"IF(COUNT(B23:H23)>0,SUM(B23:H23),\"\")","v":""},{"$f":"IF(COUNT(B23:H23)>1,COUNT(B23:H23),\"\")","v":""},"קטגוריה1",{"$f":"IF(B11>0,(B11-B23)^2/B23,\"\")","v":""},{"$f":"IF(C11>0,(C11-C23)^2/C23,\"\")","v":""},"","","","","",{"$f":"IF(COUNT(L23:R23)>0,SUM(L23:R23),\"\")","v":""}]
["קטגוריה2",{"$f":"IF(LEN(B12)=0,\"\",IF(AND($J$11>1,$B$19>1),(($I12*B$18)/$I$18),IF($J$11=1,$B$18/$B$19,IF($B$19=1,$I$11/$J$11,))))","v":""},"","","","","","",{"$f":"IF(COUNT(B24:H24)>0,SUM(B24:H24),\"\")","v":""},null,"קטגוריה2",{"$f":"IF(B12>0,(B12-B24)^2/B24,\"\")","v":""},"","","","","","",{"$f":"IF(COUNT(L24:R24)>0,SUM(L24:R24),\"\")","v":""}]
["קטגוריה3","","","","","","","","",null,"קטגוריה3","","","","","","","",""]
["קטגוריה4","","","","","","","","",null,"קטגוריה4","","","","","","","",""]
["קטגוריה5","","","","","","","","",null,"קטגוריה5","","","","","","","",""]
["קטגוריה6","","","","","","","","",null,"קטגוריה6","","","","","","","",""]
["קטגוריה7","","","","","","","","",null,"קטגוריה7","","","","","","","",""]
["סה\"כ",{"$f":"IF(COUNT(B23:B29)>1,SUM(B23:B29),\"\")","v":""},{"$f":"IF(COUNT(C23:C29)>1,SUM(C23:C29),\"\")","v":""},"","","","","","",null,"סה\"כ",{"$f":"IF(COUNT(L23:L29)>1,SUM(L23:L29),\"\")","v":""},{"$f":"IF(COUNT(M23:M29)>1,SUM(M23:M29),\"\")","v":""},"","","","","",{"$f":"IF(COUNT(S23:S29)>1,SUM(S23:S29),\"\")","v":""}]
[null,{"$f":"IF(COUNT(B23:B29)>0,COUNT(B23:B29),\"\")","v":""}]
[]
[null,{"$f":"IF(LEN(I18)>0,S30,\"\")","v":""},"c2=","ערך סטטיסטי",null,null,"מסקנה : ",{"$f":"IF(COUNT(B9:B14)>1,IF(B33<B35,\"אין די ראיות לדחות את השערת האפס ברמת מובהקות של 0.05 \",IF(B33>B36,\"יש די ראיות לדחות את השערת האפס ברמת מובהקות של P<0.01\",\"יש די ראיות לדחות את השערת האפס ברמת מובהקות של P<0.05\")),\"\")","v":""}]
[null,{"$f":"IF(LEN(I18)=0,\"\",IF(OR($B$19=1,$J$11=1),MAX(J11,B19)-1,(B19-1)*(J11-1)))","v":""},"df","ד\"ח",null,null,"POST-HOC","במידה ויש די ראיות לדחות את השערת ה 0  יש לערוך מבחנים בינומינליים בין שתי קטגורוריות אותן רוצים להשוות "]
[null,{"$f":"IF(COUNT(B9:B15)>1,_xlfn.CHISQ.INV.RT(0.05,B34),\"\")","v":""},"c2 crit 0.05","ערך קריטי"]
[null,{"$f":"IF(COUNT(B9:B15)>1,_xlfn.CHISQ.INV.RT(0.01,B34),\"\")","v":""},"c2 crit 0.01"]
[null,{"$f":"IF(COUNT(B9:B15)>1,_xlfn.CHISQ.DIST.RT(B33,B34),\"\")","v":""},"P","רמת מובהקות"]
[null,null,"מדד קרמר ",null,{"$f":"IF(COUNT(B11:H17)>3,SQRT((B33/I18*(MIN(J11,B19)-1))),\"\")","v":""}]
["אחוז מהעמודה",null,null,null,null,null,null,null,null,null,null,"אחוז מהשורה "]
[null,"קטגוריה1","קטגוריה2","קטגוריה3","קטגוריה4","קטגוריה5","קטגוריה6","קטגוריה7","סה\"כ",null,null,null,"קטגוריה1","קטגוריה2","קטגוריה3","קטגוריה4","קטגוריה5","קטגוריה6","קטגוריה7","סה\"כ"]
["קטגוריה1",{"$f":"IF(B11>0,B11/B$18,\"\")","v":""},{"$f":"IF(C11>0,C11/C$18,\"\")","v":""},"","","","","",{"$f":"IF(LEN(I11)>0,I11/I$18,\"\")","v":""},{"$f":"IF(COUNT(B41:H41)>1,COUNT(B41:H41),\"\")","v":""},null,"קטגוריה1",{"$f":"IF(B11>0,B11/$I11,\"\")","v":""},"","","","","","",{"$f":"IF(LEN(I11)>0,I11/$I11,\"\")","v":""},{"$f":"IF(COUNT(M41:S41)>1,COUNT(M41:S41),\"\")","v":""}]
["קטגוריה2","",{"$f":"IF(C12>0,C12/C$18,\"\")","v":""},"","","","","","",null,null,"קטגוריה2","","","","","","","",""]
["קטגוריה3","","","","","","","","",null,null,"קטגוריה3","","","","","","","",""]
["קטגוריה4","","","","","","","","",null,null,"קטגוריה4","","","","","","","",""]
["קטגוריה5","","","","","","","","",null,null,"קטגוריה5","","","","","","","",""]
["קטגוריה6","","","","","","","","",null,null,"קטגוריה6","","","","","","","",""]
["קטגוריה7","","","","","","","","",null,null,"קטגוריה7","","","","","","","",""]
["סה\"כ",{"$f":"IF(COUNT(B41:B47)>1,SUM(B41:B47),\"\")","v":""},{"$f":"IF(COUNT(C41:C47)>1,SUM(C41:C47),\"\")","v":""},"","","","","","",null,null,"סה\"כ",{"$f":"IF(LEN(B18)>0,B18/$I18,\"\")","v":""},"","","","","","",""]
[null,{"$f":"IF(COUNT(B41:B47)>1,COUNT(B41:B47),\"\")","v":""},null,null,null,null,null,null,null,null,null,null,{"$f":"IF(COUNT(M41:M47)>1,COUNT(M41:M47),\"\")","v":""}]

{"sheet":"pivot","index":69,"n_rows":151,"n_cols":12,"rows_kept":151,"cut":false,"hidden":false,"merged":[[4,6,4,10],[6,4,10,4]]}
["הכנת טבלת ציר עבור חיתוך בין שני משתנים"]
["הדבק את הערכים  "]
["מס'","משתנה 1","משתנה 2"]
[1]
[2,null,null,null,null,null,{"$f":"C3","v":"משתנה 2"}]
[3,null,null,null,null,null,1,2,3,4,5,"סה\"כ"]
[4,null,null,null,{"$f":"B3","v":"משתנה 1"},1,{"$f":"COUNTIFS($B$4:$B$150,$F7,$C$4:$C$150,G$6)","v":0},{"$f":"COUNTIFS($B$4:$B$150,$F7,$C$4:$C$150,H$6)","v":0},0,0,{"$f":"COUNTIFS($B$4:$B$150,$F7,$C$4:$C$150,K$6)","v":0},{"$f":"SUM(G7:K7)","v":0}]
[5,null,null,null,null,2,{"$f":"COUNTIFS($B$4:$B$150,$F8,$C$4:$C$150,G$6)","v":0},0,0,0,0,{"$f":"SUM(G8:K8)","v":0}]
[6,null,null,null,null,3,0,0,0,0,0,0]
[7,null,null,null,null,4,0,0,0,0,0,0]
[8,null,null,null,null,5,0,0,0,0,0,0]
[9,null,null,null,null,"סה\"כ",{"$f":"SUM(G7:G11)","v":0},{"$f":"SUM(H7:H11)","v":0},0,0,0,{"$f":"SUM(L7:L11)","v":0}]
[10]
[11]
[12]
[13]
[14]
[15]
[16]
[17]
[18]
[19]
[20]
[21]
[22]
[23]
[24]
[25]
[26]
[27]
[28]
[29]
[30]
[31]
[32]
[33]
[34]
[35]
[36]
[37]
[38]
[39]
[40]
[41]
[42]
[43]
[44]
[45]
[46]
[47]
[48]
[49]
[50]
[51]
[52]
[53]
[54]
[55]
[56]
[57]
[58]
[59]
[60]
[61]
[62]
[63]
[64]
[65]
[66]
[67]
[68]
[69]
[70]
[71]
[72]
[73]
[74]
[75]
[76]
[77]
[78]
[79]
[80]
[81]
[82]
[83]
[84]
[85]
[86]
[87]
[88]
[89]
[90]
[91]
[92]
[93]
[94]
[95]
[96]
[97]
[98]
[99]
[100]
[101]
[102]
[103]
[104]
[105]
[106]
[107]
[108]
[109]
[110]
[111]
[112]
[113]
[114]
[115]
[116]
[117]
[118]
[119]
[120]
[121]
[122]
[123]
[124]
[125]
[126]
[127]
[128]
[129]
[130]
[131]
[132]
[133]
[134]
[135]
[136]
[137]
[138]
[139]
[140]
[141]
[142]
[143]
[144]
[145]
[146]
[147]
[null,"משתנה 1","משתנה 2"]

{"sheet":"Sheet2","index":70,"n_rows":124,"n_cols":2,"rows_kept":124,"cut":false,"hidden":false,"merged":[]}
["leom","sport_past"]
[2,1]
[1,1]
[1,1]
[1,1]
[1,2]
[1,2]
[1,1]
[1,1]
[1,1]
[1,1]
[1,1]
[1,1]
[1,1]
[1,1]
[1,1]
[1,1]
[1,1]
[1,1]
[1,1]
[1,1]
[1,2]
[1,2]
[1,2]
[1,2]
[2,2]
[1,2]
[1,2]
[1,2]
[1,2]
[1,2]
[1,2]
[1,2]
[1,2]
[1,2]
[1,2]
[2,2]
[1,2]
[1,2]
[1,2]
[1,1]
[1,2]
[1,2]
[1,2]
[1,2]
[1,1]
[1,1]
[1,1]
[1,1]
[1,1]
[2,1]
[1,1]
[1,1]
[2,1]
[1,1]
[1,1]
[2,1]
[1,2]
[1,1]
[1,1]
[1,1]
[1,1]
[1,1]
[2,2]
[1,2]
[1,2]
[1,2]
[1,2]
[1,2]
[1,2]
[1,2]
[1,2]
[2,2]
[2,2]
[1,2]
[1,2]
[1,2]
[1,2]
[2,2]
[1,2]
[1,1]
[1,2]
[1,2]
[1,2]
[1,1]
[1,2]
[1,1]
[1,1]
[1,2]
[1,2]
[2,1]
[1,1]
[2,1]
[2,1]
[1,1]
[2,1]
[1,1]
[1,1]
[1,1]
[2,1]
[2,1]
[1,2]
[1,2]
[1,2]
[1,2]
[2,2]
[1,2]
[2,2]
[2,2]
[2,2]
[2,2]
[2,2]
[2,2]
[1,1]
[1,2]
[1,1]
[2,1]
[2,1]
[2,1]
[2,1]
[1,1]
[2,2]
[1,2]
[1,2]